{"text_format":"1","workbook":"xlsx","n_sheets":7,"sheets":["Instructions","Meta data_sheet","Meta data_lookup","Raw data_format","Raw data_sheet","24hr_PM10_chart","24hr_PM2.5_chart"],"not_rendered":{"charts":4,"images":0,"macros":1,"external_links":0,"defined_names":10,"comments":0,"pivot_tables":0},"unopened":[{"sheet":"24hr_PM10_chart","index":5,"reason":"not_a_worksheet"},{"sheet":"24hr_PM2.5_chart","index":6,"reason":"not_a_worksheet"}],"bounds":{"document_bytes":16777216,"sheet_cells":100000,"rows_first":2000,"rows_last":500,"rows_between":2000,"halvings":0,"cell_chars":16384,"cell_head_chars":4096},"cells_cut":0,"cells_raw":0,"read":"whole","date_system":"1900"}

{"sheet":"Instructions","index":0,"n_rows":0,"n_cols":0,"rows_kept":0,"cut":false,"hidden":false,"merged":[]}

{"sheet":"Meta data_sheet","index":1,"n_rows":17,"n_cols":5,"rows_kept":17,"cut":false,"hidden":false,"merged":[[18,0,18,1],[16,0,16,1]]}
["Ambient Monitoring Station","Details",null,"Ambient Monitoring Results","Details"]
["Location","Will-gai",null,"PM2.5 monitoring start (dd/mm/yyyy hh:mm)","2023-03-01"]
["Easting",{"$f":"VLOOKUP($B$2,'Meta data_lookup'!$A$2:$D$5,2,FALSE)","v":231804},null,"PM2.5 monitoring end","2023-04-01"]
["Northing",{"$f":"VLOOKUP($B$2,'Meta data_lookup'!$A$2:$D$5,3,FALSE)","v":6596392},null,"PM2.5 monitoring period (h)",{"$f":"(E3-E2)*24","v":744}]
["Site elevation (m)",{"$f":"VLOOKUP($B$2,'Meta data_lookup'!$A$2:$D$5,4,FALSE)","v":294},null,"Number of valid PM2.5 results",{"$f":"COUNTIF('Raw data_sheet'!G2:G745,\"Valid\")","v":356}]
["Description of surrounding land use","Agriculture/Mining",null,"Proportion of valid PM2.5 results (%)",{"$f":"E5/E4","v":0.478494623655914}]
["Typical sources impacting on the site","Agriculture",null,"PM10 monitoring start (dd/mm/yyyy hh:mm)","2023-03-01"]
["Site compliance with AS/NZS 3580.1.1:2007","Yes",null,"PM10 monitoring end","2023-04-01"]
["PM2.5 method compliance with AS/NZS 3580.9.13:2013\n","Yes",null,"PM10 monitoring period (h)",{"$f":"(E8-E7)*24","v":744}]
["PM2.5 instrument make","Thermo Scientific",null,"Number of valid PM10 results",{"$f":"COUNTIF('Raw data_sheet'!J2:J745,\"Valid\")","v":356}]
["PM2.5 instrument model","1405DF",null,"Proportion of valid PM10 results (%)",{"$f":"E10/E9","v":0.478494623655914}]
["PM2.5 instrument intake height (m)",3.5]
["PM10 method compliance with AS 3580.9.8-2008\n","No*"]
["PM10 instrument make","Thermo Scientific"]
["PM10 instrument model","1405DF"]
["PM10 instrument intake height (m)",3.5]
["*The 1405DF TEOM used at this site measures PM10 indirectly rather than directly. The unit does however meet the intent of AS 3580.9.8-2008, and this method has been accredited by the USEPA. It is considered scientifically robust and is used extensively throughout NSW with EPA's knowledge and informal acceptance."]

{"sheet":"Meta data_lookup","index":2,"n_rows":5,"n_cols":4,"rows_kept":5,"cut":false,"hidden":false,"merged":[]}
["Location","Easting","Northing","Site elevation (m)"]
["Maules Creek",225302,6623037,"ND"]
["Breeza",237993,6542606,"ND"]
["Will-gai",231804,6596392,294]
["Werris Creek",276783,6528734,362]

{"sheet":"Raw data_format","index":3,"n_rows":8,"n_cols":6,"rows_kept":8,"cut":false,"hidden":false,"merged":[]}
["Parameter","Format","Comment","Units of measure","Minimum","Maximum"]
["Year","yyyy","4 integer format","Not applicable",2015,"Until reporting ceases"]
["Month","mm","2 integer format","Not applicable",1,12]
["Day","dd","2 integer format","Not applicable",1,31]
["Hour","hh","2 integer format","Not applicable",0,23]
["PM10",0,"1 decimal place resolution","µg/m3","Negative","Instrument specific"]
["PM2.5",0,"2 decimal place resolution","µg/m3","Negative","Instrument specific"]
["Status","Text","7 character format","Not applicable","Valid","Invalid"]

{"sheet":"Raw data_sheet","index":4,"n_rows":745,"n_cols":21,"rows_kept":745,"cut":false,"hidden":false,"merged":[]}
["Year","Month","Day","Hour","Date and time","PM2.5_hourly","PM2.5_Data_Status","PM2.5_24hr_rolling_average","PM10_hourly","PM10_Data_Status","PM10_24hr_rolling_average","Cause of data invalidity, if applicable","Detailed comments","PM2.5_hourly_valid_plot","PM2.5_24hr_rolling_ave_valid_plot","PM10_hourly_valid_plot","PM10_24hr_rolling_ave_valid_plot","PM10_hourly_valid_plot_series","PM10_24hr_rolling_average_valid_plot_series","PM2.5_hourly_valid_plot_series","PM2.5_24hr_rolling_average_valid_plot_series"]
[2023,3,1,0,{"$f":"DATE(A2,B2,C2)+TIME(D2,0,0)","v":44986},4.3,"Valid",0,10.7,"Valid",5.9,null,null,{"$f":"IF(G2=\"Valid\", F2, NA())","v":4.3},{"$f":"IF(G2=\"Valid\", H2, NA())","v":0},{"$f":"IF(J2=\"Valid\", I2, NA())","v":10.7},{"$f":"IF(J2=\"Valid\", K2, NA())","v":5.9},10.7,5.9,4.3,0]
[{"$f":"A2","v":2023},{"$f":"B2","v":3},{"$f":"C2","v":1},{"$f":"IF(D2=23,0,D2+1)","v":1},{"$f":"E2+0.0416666666666666","v":44986.041666666664},8.5,"Valid",0.3,14.2,"Valid",6,null,null,8.5,0.3,14.2,6,14.2,6,8.5,0.3]
[{"$f":"A3","v":2023},{"$f":"B3","v":3},1,{"$f":"IF(D3=23,0,D3+1)","v":2},{"$f":"E3+0.0416666666666666","v":44986.083333333328},-7.5,"Valid",-0.3,-0.7,"Valid",5.6,null,null,-7.5,-0.3,-0.7,5.6,-0.7,5.6,-7.5,-0.3]
[2023,3,1,3,44986.124999999993,12.9,"Valid",-0.1,17.8,"Valid",5.8,null,null,12.9,-0.1,17.8,5.8,17.8,5.8,12.9,-0.1]
[2023,3,1,4,44986.166666666657,7.8,"Valid",0,12.4,"Valid",5.8,null,null,7.8,0,12.4,5.8,12.4,5.8,7.8,0]
[2023,3,1,5,44986.208333333321,2.9,"Valid",-0.2,8.9,"Valid",5.7,null,null,2.9,-0.2,8.9,5.7,8.9,5.7,2.9,-0.2]
[2023,3,1,6,44986.249999999985,10.8,"Valid",-0.1,67,"Valid",8,null,null,10.8,-0.1,67,8,67,8,10.8,-0.1]
[2023,3,1,7,44986.29166666665,31,"Valid",1,113.4,"Valid",12.2,null,null,31,1,113.4,12.2,113.4,12.2,31,1]
[2023,3,1,8,44986.333333333314,-0.9,"Valid",1.5,40.1,"Valid",14.2,null,null,-0.9,1.5,40.1,14.2,40.1,14.2,-0.9,1.5]
[2023,3,1,9,44986.374999999978,11.3,"Valid",2.2000000000000002,29.1,"Valid",15.5,null,null,11.3,2.2000000000000002,29.1,15.5,29.1,15.5,11.3,2.2000000000000002]
[2023,3,1,10,44986.416666666642,{"$f":"NA()","v":{"$error":"#N/A"}},"Invalid",{"$f":"NA()","v":{"$error":"#N/A"}},{"$f":"NA()","v":{"$error":"#N/A"}},"Invalid",{"$f":"NA()","v":{"$error":"#N/A"}},"Calibration Error","PM25 below low cutoff value",{"$error":"#N/A"},{"$error":"#N/A"},{"$error":"#N/A"},{"$error":"#N/A"}]
[2023,3,1,11,44986.458333333307,12.7,"Valid",2.1,30.8,"Valid",16.5,null,null,12.7,2.1,30.8,16.5,30.8,16.5,12.7,2.1]
[2023,3,1,12,44986.499999999971,-3.8,"Valid",2,4.3,"Valid",16.7,null,null,-3.8,2,4.3,16.7,4.3,16.7,-3.8,2]
[2023,3,1,13,44986.541666666635,2.5,"Valid",2.2000000000000002,8.5,"Valid",16.8,null,null,2.5,2.2000000000000002,8.5,16.8,8.5,16.8,2.5,2.2000000000000002]
[2023,3,1,14,44986.583333333299,34.799999999999997,"Valid",3.7,41.8,"Valid",18.100000000000001,null,null,34.799999999999997,3.7,41.8,18.100000000000001,41.8,18.100000000000001,34.799999999999997,3.7]
[2023,3,1,15,44986.624999999964,-8.1,"Valid",3.8,1.8,"Valid",18.5,null,null,-8.1,3.8,1.8,18.5,1.8,18.5,-8.1,3.8]
[2023,3,1,16,44986.666666666628,-2.7,"Valid",3.6,3.8,"Valid",18.399999999999999,null,null,-2.7,3.6,3.8,18.399999999999999,3.8,18.399999999999999,-2.7,3.6]
[2023,3,1,17,44986.708333333292,4.3,"Valid",3.6,10.8,"Valid",18.2,null,null,4.3,3.6,10.8,18.2,10.8,18.2,4.3,3.6]
[2023,3,1,18,44986.749999999956,-7.2,"Valid",4.7,-0.5,"Valid",19.7,null,null,-7.2,4.7,-0.5,19.7,-0.5,19.7,-7.2,4.7]
[2023,3,1,19,44986.791666666621,5.8,"Valid",4.8,12.3,"Valid",19.8,null,null,5.8,4.8,12.3,19.8,12.3,19.8,5.8,4.8]
[2023,3,1,20,44986.833333333285,15.1,"Valid",5.0999999999999996,53.1,"Valid",21.3,null,null,15.1,5.0999999999999996,53.1,21.3,53.1,21.3,15.1,5.0999999999999996]
[2023,3,1,21,44986.874999999949,4.9000000000000004,"Valid",5.0999999999999996,24.9,"Valid",21.5,null,null,4.9000000000000004,5.0999999999999996,24.9,21.5,24.9,21.5,4.9000000000000004,5.0999999999999996]
[2023,3,1,22,44986.916666666613,-8.4,"Valid",5.3,4.7,"Valid",21.8,null,null,-8.4,5.3,4.7,21.8,4.7,21.8,-8.4,5.3]
[2023,{"$f":"B24","v":3},{"$f":"C24","v":1},23,44986.958333333278,13.1,"Valid",5.3,19.7,"Valid",22,null,null,13.1,5.3,19.7,22,19.7,22,13.1,5.3]
[2023,{"$f":"B25","v":3},{"$f":"C2+1","v":2},0,44986.999999999942,-8.1999999999999993,"Valid",4.8,3.1,"Valid",21.6,null,null,-8.1999999999999993,4.8,3.1,21.6,3.1,21.6,-8.1999999999999993,4.8]
[2023,{"$f":"B26","v":3},{"$f":"C3+1","v":2},1,44987.041666666606,26.1,"Valid",5.5,35.799999999999997,"Valid",22.3,null,null,26.1,5.5,35.799999999999997,22.3,35.799999999999997,22.3,26.1,5.5]
[2023,3,2,2,44987.08333333327,3.9,"Valid",5.9,12.8,"Valid",22.8,null,null,3.9,5.9,12.8,22.8,12.8,22.8,3.9,5.9]
[2023,3,2,3,44987.124999999935,7.3,"Valid",5.7,14.3,"Valid",22.6,null,null,7.3,5.7,14.3,22.6,14.3,22.6,7.3,5.7]
[2023,3,2,4,44987.166666666599,1.7,"Valid",5.4,7.1,"Valid",22.3,null,null,1.7,5.4,7.1,22.3,7.1,22.3,1.7,5.4]
[2023,3,2,5,44987.208333333263,8.5,"Valid",5.6,13.9,"Valid",22.5,null,null,8.5,5.6,13.9,22.5,13.9,22.5,8.5,5.6]
[2023,3,2,6,44987.249999999927,-0.2,"Valid",5.2,9,"Valid",20,null,null,-0.2,5.2,9,20,9,20,-0.2,5.2]
[2023,3,2,7,44987.291666666591,-0.3,"Valid",3.9,27.7,"Valid",16.399999999999999,null,null,-0.3,3.9,27.7,16.399999999999999,27.7,16.399999999999999,-0.3,3.9]
[2023,3,2,8,44987.333333333256,6,"Valid",4.2,19.5,"Valid",15.7,null,null,6,4.2,19.5,15.7,19.5,15.7,6,4.2]
[2023,3,2,9,44987.37499999992,{"$f":"NA()","v":{"$error":"#N/A"}},"Invalid",{"$f":"NA()","v":{"$error":"#N/A"}},{"$f":"NA()","v":{"$error":"#N/A"}},"Invalid",{"$f":"NA()","v":{"$error":"#N/A"}},"Calibration Error","PM25 below low cutoff value",{"$error":"#N/A"},{"$error":"#N/A"},{"$error":"#N/A"},{"$error":"#N/A"}]
[2023,3,2,10,44987.416666666584,24.9,"Valid",4.7,36.700000000000003,"Valid",15.9,null,null,24.9,4.7,36.700000000000003,15.9,36.700000000000003,15.9,24.9,4.7]
[2023,3,2,11,44987.458333333248,-7.3,"Valid",3.9,0.2,"Valid",14.7,null,null,-7.3,3.9,0.2,14.7,0.2,14.7,-7.3,3.9]
[2023,3,2,12,44987.499999999913,6,"Valid",4.3,7.6,"Valid",14.9,null,null,6,4.3,7.6,14.9,7.6,14.9,6,4.3]
[2023,3,2,13,44987.541666666577,{"$f":"NA()","v":{"$error":"#N/A"}},"Invalid",{"$f":"NA()","v":{"$error":"#N/A"}},{"$f":"NA()","v":{"$error":"#N/A"}},"Invalid",{"$f":"NA()","v":{"$error":"#N/A"}},"Calibration Error","PM25 below low cutoff value",{"$error":"#N/A"},{"$error":"#N/A"},{"$error":"#N/A"},{"$error":"#N/A"}]
[2023,3,2,14,44987.583333333241,35.9,"Valid",3,41.1,"Valid",13.4,null,null,35.9,3,41.1,13.4,41.1,13.4,35.9,3]
[2023,3,2,15,44987.624999999905,{"$f":"NA()","v":{"$error":"#N/A"}},"Invalid",{"$f":"NA()","v":{"$error":"#N/A"}},{"$f":"NA()","v":{"$error":"#N/A"}},"Invalid",{"$f":"NA()","v":{"$error":"#N/A"}},"Calibration Error","PM25 below low cutoff value",{"$error":"#N/A"},{"$error":"#N/A"},{"$error":"#N/A"},{"$error":"#N/A"}]
[2023,3,2,16,44987.66666666657,-0.6,"Valid",2,8.4,"Valid",12.2,null,null,-0.6,2,8.4,12.2,8.4,12.2,-0.6,2]
[2023,3,2,17,44987.708333333234,-4.4000000000000004,"Valid",1.7,0.6,"Valid",11.8,null,null,-4.4000000000000004,1.7,0.6,11.8,0.6,11.8,-4.4000000000000004,1.7]
[2023,3,2,18,44987.749999999898,6.5,"Valid",2.2000000000000002,11.6,"Valid",12.3,null,null,6.5,2.2000000000000002,11.6,12.3,11.6,12.3,6.5,2.2000000000000002]
[2023,3,2,19,44987.791666666562,11.8,"Valid",2.5,16.600000000000001,"Valid",12.4,null,null,11.8,2.5,16.600000000000001,12.4,16.600000000000001,12.4,11.8,2.5]
[2023,3,2,20,44987.833333333227,-1.1000000000000001,"Valid",1.8,10.1,"Valid",10.4,null,null,-1.1000000000000001,1.8,10.1,10.4,10.1,10.4,-1.1000000000000001,1.8]
[2023,3,2,21,44987.874999999891,12.6,"Valid",2.1,18.600000000000001,"Valid",10.1,null,null,12.6,2.1,18.600000000000001,10.1,18.600000000000001,10.1,12.6,2.1]
[2023,3,2,22,44987.916666666555,9.9,"Valid",2.8,20.8,"Valid",10.7,null,null,9.9,2.8,20.8,10.7,20.8,10.7,9.9,2.8]
[2023,3,2,23,44987.958333333219,31,"Valid",3.6,38,"Valid",11.5,null,null,31,3.6,38,11.5,38,11.5,31,3.6]
[2023,3,3,0,44987.999999999884,-3.8,"Valid",3.7,-1.6,"Valid",11.2,null,null,-3.8,3.7,-1.6,11.2,-1.6,11.2,-3.8,3.7]
[2023,3,3,1,44988.041666666548,-7.3,"Valid",2.2999999999999998,-5.5,"Valid",9.5,null,null,-7.3,2.2999999999999998,-5.5,9.5,-5.5,9.5,-7.3,2.2999999999999998]
[2023,3,3,2,44988.083333333212,{"$f":"NA()","v":{"$error":"#N/A"}},"Invalid",{"$f":"NA()","v":{"$error":"#N/A"}},{"$f":"NA()","v":{"$error":"#N/A"}},"Invalid",{"$f":"NA()","v":{"$error":"#N/A"}},"Calibration Error","PM25 below low cutoff value",{"$error":"#N/A"},{"$error":"#N/A"},{"$error":"#N/A"},{"$error":"#N/A"}]
[2023,3,3,3,44988.124999999876,{"$f":"NA()","v":{"$error":"#N/A"}},"Invalid",{"$f":"NA()","v":{"$error":"#N/A"}},{"$f":"NA()","v":{"$error":"#N/A"}},"Invalid",{"$f":"NA()","v":{"$error":"#N/A"}},"Calibration Error","PM25 below low cutoff value",{"$error":"#N/A"},{"$error":"#N/A"},{"$error":"#N/A"},{"$error":"#N/A"}]
[2023,3,3,4,44988.166666666541,{"$f":"NA()","v":{"$error":"#N/A"}},"Invalid",{"$f":"NA()","v":{"$error":"#N/A"}},{"$f":"NA()","v":{"$error":"#N/A"}},"Invalid",{"$f":"NA()","v":{"$error":"#N/A"}},"Calibration Error","PM25 below low cutoff value",{"$error":"#N/A"},{"$error":"#N/A"},{"$error":"#N/A"},{"$error":"#N/A"}]
[2023,3,3,5,44988.208333333205,-1.3,"Valid",-0.3,0.8,"Valid",6.1,null,null,-1.3,-0.3,0.8,6.1,0.8,6.1,-1.3,-0.3]
[2023,3,3,6,44988.249999999869,4.5,"Valid",-0.1,24.6,"Valid",6.7,null,null,4.5,-0.1,24.6,6.7,24.6,6.7,4.5,-0.1]
[2023,3,3,7,44988.291666666533,3.5,"Valid",0,15,"Valid",6.2,null,null,3.5,0,15,6.2,15,6.2,3.5,0]
[2023,3,3,8,44988.333333333198,10.199999999999999,"Valid",0.2,17.100000000000001,"Valid",6.1,null,null,10.199999999999999,0.2,17.100000000000001,6.1,17.100000000000001,6.1,10.199999999999999,0.2]
[2023,3,3,9,44988.374999999862,14.7,"Valid",1.7,20.100000000000001,"Valid",7.6,null,null,14.7,1.7,20.100000000000001,7.6,20.100000000000001,7.6,14.7,1.7]
[2023,3,3,10,44988.416666666526,2.1,"Valid",0.7,5.4,"Valid",6.4,null,null,2.1,0.7,5.4,6.4,5.4,6.4,2.1,0.7]
[2023,3,3,11,44988.45833333319,{"$f":"NA()","v":{"$error":"#N/A"}},"Invalid",{"$f":"NA()","v":{"$error":"#N/A"}},{"$f":"NA()","v":{"$error":"#N/A"}},"Invalid",{"$f":"NA()","v":{"$error":"#N/A"}},"Calibration Error","PM25 greater than PM10",{"$error":"#N/A"},{"$error":"#N/A"},{"$error":"#N/A"},{"$error":"#N/A"}]
[2023,3,3,12,44988.499999999854,{"$f":"NA()","v":{"$error":"#N/A"}},"Invalid",{"$f":"NA()","v":{"$error":"#N/A"}},{"$f":"NA()","v":{"$error":"#N/A"}},"Invalid",{"$f":"NA()","v":{"$error":"#N/A"}},"Calibration Error","PM25 greater than PM10",{"$error":"#N/A"},{"$error":"#N/A"},{"$error":"#N/A"},{"$error":"#N/A"}]
[2023,3,3,13,44988.541666666519,{"$f":"NA()","v":{"$error":"#N/A"}},"Invalid",{"$f":"NA()","v":{"$error":"#N/A"}},{"$f":"NA()","v":{"$error":"#N/A"}},"Invalid",{"$f":"NA()","v":{"$error":"#N/A"}},"Calibration Error","PM25 below low cutoff value",{"$error":"#N/A"},{"$error":"#N/A"},{"$error":"#N/A"},{"$error":"#N/A"}]
[2023,3,3,14,44988.583333333183,{"$f":"NA()","v":{"$error":"#N/A"}},"Invalid",{"$f":"NA()","v":{"$error":"#N/A"}},{"$f":"NA()","v":{"$error":"#N/A"}},"Invalid",{"$f":"NA()","v":{"$error":"#N/A"}},"Calibration Error","PM25 below low cutoff value",{"$error":"#N/A"},{"$error":"#N/A"},{"$error":"#N/A"},{"$error":"#N/A"}]
[2023,3,3,15,44988.624999999847,7.3,"Valid",1.8,13,"Valid",7.2,null,null,7.3,1.8,13,7.2,13,7.2,7.3,1.8]
[2023,3,3,16,44988.666666666511,-0.2,"Valid",1.8,7.4,"Valid",7.2,null,null,{"$f":"IF(G66=\"Valid\", F66, NA())","v":-0.2},{"$f":"IF(G66=\"Valid\", H66, NA())","v":1.8},{"$f":"IF(J66=\"Valid\", I66, NA())","v":7.4},{"$f":"IF(J66=\"Valid\", K66, NA())","v":7.2},7.4,7.2,-0.2,1.8]
[2023,3,3,17,44988.708333333176,10.5,"Valid",2.4,16.8,"Valid",7.9,null,null,10.5,2.4,16.8,7.9,16.8,7.9,10.5,2.4]
[{"$f":"A67","v":2023},3,3,{"$f":"IF(D67=23,0,D67+1)","v":18},{"$f":"E67+0.0416666666666666","v":44988.74999999984},10.9,"Valid",2.6,23.7,"Valid",8.4,null,null,10.9,2.6,23.7,8.4,23.7,8.4,10.9,2.6]
[2023,3,3,19,44988.791666666504,11.5,"Valid",2.6,16.3,"Valid",8.3000000000000007,null,null,11.5,2.6,16.3,8.3000000000000007,16.3,8.3000000000000007,11.5,2.6]
[2023,3,3,20,44988.833333333168,{"$f":"NA()","v":{"$error":"#N/A"}},"Invalid",{"$f":"NA()","v":{"$error":"#N/A"}},{"$f":"NA()","v":{"$error":"#N/A"}},"Invalid",{"$f":"NA()","v":{"$error":"#N/A"}},"Calibration Error","PM25 below low cutoff value",{"$error":"#N/A"},{"$error":"#N/A"},{"$error":"#N/A"},{"$error":"#N/A"}]
[2023,3,3,21,44988.874999999833,4.9000000000000004,"Valid",1.7,28.9,"Valid",8.3000000000000007,null,null,4.9000000000000004,1.7,28.9,8.3000000000000007,28.9,8.3000000000000007,4.9000000000000004,1.7]
[2023,3,3,22,44988.916666666497,3.3,"Valid",1.4,9.6,"Valid",7.7,null,null,3.3,1.4,9.6,7.7,9.6,7.7,3.3,1.4]
[2023,3,3,23,44988.958333333161,-9,"Valid",-0.2,-4.5,"Valid",5.9,null,null,-9,-0.2,-4.5,5.9,-4.5,5.9,-9,-0.2]
[2023,3,4,0,44988.999999999825,23.6,"Valid",0.9,25.3,"Valid",7.1,null,null,23.6,0.9,25.3,7.1,25.3,7.1,23.6,0.9]
[2023,3,4,1,44989.04166666649,1.8,"Valid",1.3,7.5,"Valid",7.6,null,null,1.8,1.3,7.5,7.6,7.5,7.6,1.8,1.3]
[2023,3,4,2,44989.083333333154,{"$f":"NA()","v":{"$error":"#N/A"}},"Invalid",{"$f":"NA()","v":{"$error":"#N/A"}},{"$f":"NA()","v":{"$error":"#N/A"}},"Invalid",{"$f":"NA()","v":{"$error":"#N/A"}},"Calibration Error","PM25 below low cutoff value",{"$error":"#N/A"},{"$error":"#N/A"},{"$error":"#N/A"},{"$error":"#N/A"}]
[2023,3,4,3,44989.124999999818,3.2,"Valid",1.9,9.8000000000000007,"Valid",8.3000000000000007,null,null,3.2,1.9,9.8000000000000007,8.3000000000000007,9.8000000000000007,8.3000000000000007,3.2,1.9]
[2023,3,4,4,44989.166666666482,-8,"Valid",2.1,-1.5,"Valid",8.6999999999999993,null,null,-8,2.1,-1.5,8.6999999999999993,-1.5,8.6999999999999993,-8,2.1]
[2023,3,4,5,44989.208333333147,-6.2,"Valid",1.9,-0.1,"Valid",8.6,null,null,-6.2,1.9,-0.1,8.6,-0.1,8.6,-6.2,1.9]
[2023,3,4,6,44989.249999999811,-2.2000000000000002,"Valid",1.6,4.5999999999999996,"Valid",7.8,null,null,-2.2000000000000002,1.6,4.5999999999999996,7.8,4.5999999999999996,7.8,-2.2000000000000002,1.6]
[2023,3,4,7,44989.291666666475,0.5,"Valid",1.5,9.6999999999999993,"Valid",7.5,null,null,0.5,1.5,9.6999999999999993,7.5,9.6999999999999993,7.5,0.5,1.5]
[2023,3,4,8,44989.333333333139,3.4,"Valid",1.2,35.200000000000003,"Valid",8.4,null,null,3.4,1.2,35.200000000000003,8.4,35.200000000000003,8.4,3.4,1.2]
[2023,3,4,9,44989.374999999804,5.0999999999999996,"Valid",0.9,8.4,"Valid",8,null,null,5.0999999999999996,0.9,8.4,8,8.4,8,5.0999999999999996,0.9]
[2023,3,4,10,44989.416666666468,-0.2,"Valid",0.8,2.9,"Valid",7.9,null,null,-0.2,0.8,2.9,7.9,2.9,7.9,-0.2,0.8]
[2023,3,4,11,44989.458333333132,{"$f":"NA()","v":{"$error":"#N/A"}},"Invalid",{"$f":"NA()","v":{"$error":"#N/A"}},{"$f":"NA()","v":{"$error":"#N/A"}},"Invalid",{"$f":"NA()","v":{"$error":"#N/A"}},"Calibration Error","PM25 below low cutoff value",{"$error":"#N/A"},{"$error":"#N/A"},{"$error":"#N/A"},{"$error":"#N/A"}]
[2023,3,4,12,44989.499999999796,{"$f":"NA()","v":{"$error":"#N/A"}},"Invalid",{"$f":"NA()","v":{"$error":"#N/A"}},{"$f":"NA()","v":{"$error":"#N/A"}},"Invalid",{"$f":"NA()","v":{"$error":"#N/A"}},"Calibration Error","PM25 below low cutoff value",{"$error":"#N/A"},{"$error":"#N/A"},{"$error":"#N/A"},{"$error":"#N/A"}]
[2023,3,4,13,44989.541666666461,{"$f":"NA()","v":{"$error":"#N/A"}},"Invalid",{"$f":"NA()","v":{"$error":"#N/A"}},{"$f":"NA()","v":{"$error":"#N/A"}},"Invalid",{"$f":"NA()","v":{"$error":"#N/A"}},"Calibration Error","PM25 below low cutoff value",{"$error":"#N/A"},{"$error":"#N/A"},{"$error":"#N/A"},{"$error":"#N/A"}]
[2023,3,4,14,44989.583333333125,2.7,"Valid",-0.2,7.2,"Valid",8,null,null,2.7,-0.2,7.2,8,7.2,8,2.7,-0.2]
[2023,3,4,15,44989.624999999789,-0.8,"Valid",-0.6,1.8,"Valid",7.5,null,null,-0.8,-0.6,1.8,7.5,1.8,7.5,-0.8,-0.6]
[2023,3,4,16,44989.666666666453,2.8,"Valid",-0.4,3.8,"Valid",7.4,null,null,2.8,-0.4,3.8,7.4,3.8,7.4,2.8,-0.4]
[2023,{"$f":"B90","v":3},{"$f":"C67+1","v":4},17,44989.708333333117,-8,"Valid",-1.2,-4.0999999999999996,"Valid",6.5,null,null,-8,-1.2,-4.0999999999999996,6.5,-4.0999999999999996,6.5,-8,-1.2]
[2023,3,4,18,44989.749999999782,5.6,"Valid",-1.4,9.9,"Valid",6,null,null,5.6,-1.4,9.9,6,9.9,6,5.6,-1.4]
[2023,3,4,19,44989.791666666446,3.1,"Valid",-1.8,12.5,"Valid",5.8,null,null,3.1,-1.8,12.5,5.8,12.5,5.8,3.1,-1.8]
[2023,3,4,20,44989.83333333311,-0.4,"Valid",-1.2,6.4,"Valid",6,null,null,-0.4,-1.2,6.4,6,6.4,6,-0.4,-1.2]
[2023,3,4,21,44989.874999999774,-3.4,"Valid",-1.6,8.3000000000000007,"Valid",5.0999999999999996,null,null,-3.4,-1.6,8.3000000000000007,5.0999999999999996,8.3000000000000007,5.0999999999999996,-3.4,-1.6]
[2023,3,4,22,44989.916666666439,5.5,"Valid",-1.5,15.6,"Valid",5.3,null,null,5.5,-1.5,15.6,5.3,15.6,5.3,5.5,-1.5]
[2023,3,4,23,44989.958333333103,{"$f":"NA()","v":{"$error":"#N/A"}},"Invalid",{"$f":"NA()","v":{"$error":"#N/A"}},{"$f":"NA()","v":{"$error":"#N/A"}},"Invalid",{"$f":"NA()","v":{"$error":"#N/A"}},"Calibration Error","PM25 below low cutoff value",{"$error":"#N/A"},{"$error":"#N/A"},{"$error":"#N/A"},{"$error":"#N/A"}]
[2023,3,5,0,44989.999999999767,-6.5,"Valid",-2.8,-4.3,"Valid",4.2,null,null,-6.5,-2.8,-4.3,4.2,-4.3,4.2,-6.5,-2.8]
[2023,3,5,1,44990.041666666431,{"$f":"NA()","v":{"$error":"#N/A"}},"Invalid",{"$f":"NA()","v":{"$error":"#N/A"}},{"$f":"NA()","v":{"$error":"#N/A"}},"Invalid",{"$f":"NA()","v":{"$error":"#N/A"}},"Calibration Error","PM25 below low cutoff value",{"$error":"#N/A"},{"$error":"#N/A"},{"$error":"#N/A"},{"$error":"#N/A"}]
[2023,3,5,2,44990.083333333096,9.1999999999999993,"Valid",-3.4,13.4,"Valid",3.4,null,null,9.1999999999999993,-3.4,13.4,3.4,13.4,3.4,9.1999999999999993,-3.4]
[2023,3,5,3,44990.12499999976,-3,"Valid",-3.6,-0.1,"Valid",3,null,null,-3,-3.6,-0.1,3,-0.1,3,-3,-3.6]
[2023,3,5,4,44990.166666666424,0.9,"Valid",-3.2,6,"Valid",3.3,null,null,0.9,-3.2,6,3.3,6,3.3,0.9,-3.2]
[2023,3,5,5,44990.208333333088,-1.2,"Valid",-3,1.8,"Valid",3.4,null,null,-1.2,-3,1.8,3.4,1.8,3.4,-1.2,-3]
[2023,3,5,6,44990.249999999753,0.8,"Valid",-2.9,16.5,"Valid",3.9,null,null,0.8,-2.9,16.5,3.9,16.5,3.9,0.8,-2.9]
[2023,3,5,7,44990.291666666417,5.4,"Valid",-2.7,15.2,"Valid",4.0999999999999996,null,null,5.4,-2.7,15.2,4.0999999999999996,15.2,4.0999999999999996,5.4,-2.7]
[2023,3,5,8,44990.333333333081,-7.6,"Valid",-3.2,1.5,"Valid",2.7,null,null,-7.6,-3.2,1.5,2.7,1.5,2.7,-7.6,-3.2]
[2023,3,5,9,44990.374999999745,{"$f":"NA()","v":{"$error":"#N/A"}},"Invalid",{"$f":"NA()","v":{"$error":"#N/A"}},{"$f":"NA()","v":{"$error":"#N/A"}},"Invalid",{"$f":"NA()","v":{"$error":"#N/A"}},"Calibration Error","PM25 below low cutoff value",{"$error":"#N/A"},{"$error":"#N/A"},{"$error":"#N/A"},{"$error":"#N/A"}]
[2023,3,5,10,44990.41666666641,11.8,"Valid",-3.9,21.8,"Valid",2.4,null,null,11.8,-3.9,21.8,2.4,21.8,2.4,11.8,-3.9]
[2023,3,5,11,44990.458333333074,30.1,"Valid",-2,42,"Valid",4.5999999999999996,null,null,30.1,-2,42,4.5999999999999996,42,4.5999999999999996,30.1,-2]
[2023,3,5,12,44990.499999999738,{"$f":"NA()","v":{"$error":"#N/A"}},"Invalid",{"$f":"NA()","v":{"$error":"#N/A"}},{"$f":"NA()","v":{"$error":"#N/A"}},"Invalid",{"$f":"NA()","v":{"$error":"#N/A"}},"Calibration Error","PM25 below low cutoff value",{"$error":"#N/A"},{"$error":"#N/A"},{"$error":"#N/A"},{"$error":"#N/A"}]
[2023,3,5,13,44990.541666666402,-5.3,"Valid",-1.8,-4.7,"Valid",4.7,null,null,-5.3,-1.8,-4.7,4.7,-4.7,4.7,-5.3,-1.8]
[2023,3,5,14,44990.583333333067,{"$f":"NA()","v":{"$error":"#N/A"}},"Invalid",{"$f":"NA()","v":{"$error":"#N/A"}},{"$f":"NA()","v":{"$error":"#N/A"}},"Invalid",{"$f":"NA()","v":{"$error":"#N/A"}},"Calibration Error","PM25 below low cutoff value",{"$error":"#N/A"},{"$error":"#N/A"},{"$error":"#N/A"},{"$error":"#N/A"}]
[2023,3,5,15,44990.624999999731,26.3,"Valid",-1.2,30.8,"Valid",5.4,null,null,26.3,-1.2,30.8,5.4,30.8,5.4,26.3,-1.2]
[2023,3,5,16,44990.666666666395,{"$f":"NA()","v":{"$error":"#N/A"}},"Invalid",{"$f":"NA()","v":{"$error":"#N/A"}},{"$f":"NA()","v":{"$error":"#N/A"}},"Invalid",{"$f":"NA()","v":{"$error":"#N/A"}},"Calibration Error","PM25 below low cutoff value",{"$error":"#N/A"},{"$error":"#N/A"},{"$error":"#N/A"},{"$error":"#N/A"}]
[2023,3,5,17,44990.708333333059,3.1,"Valid",-2.1,13.1,"Valid",5.0999999999999996,null,null,3.1,-2.1,13.1,5.0999999999999996,13.1,5.0999999999999996,3.1,-2.1]
[2023,3,5,18,44990.749999999724,1.4,"Valid",-2.2999999999999998,11.9,"Valid",5.2,null,null,1.4,-2.2999999999999998,11.9,5.2,11.9,5.2,1.4,-2.2999999999999998]
[2023,3,5,19,44990.791666666388,12.5,"Valid",-1.9,28.2,"Valid",5.8,null,null,12.5,-1.9,28.2,5.8,28.2,5.8,12.5,-1.9]
[2023,3,5,20,44990.833333333052,17.899999999999999,"Valid",-1.1000000000000001,57.6,"Valid",7.8,null,null,17.899999999999999,-1.1000000000000001,57.6,7.8,57.6,7.8,17.899999999999999,-1.1000000000000001]
[2023,3,5,21,44990.874999999716,21.8,"Valid",0,36.9,"Valid",8.9,null,null,21.8,0,36.9,8.9,36.9,8.9,21.8,0]
[2023,3,5,22,44990.91666666638,11.4,"Valid",0.2,16.100000000000001,"Valid",8.9,null,null,11.4,0.2,16.100000000000001,8.9,16.100000000000001,8.9,11.4,0.2]
[2023,3,5,23,44990.958333333045,14.8,"Valid",1.3,26.9,"Valid",10.1,null,null,14.8,1.3,26.9,10.1,26.9,10.1,14.8,1.3]
[2023,3,6,0,44990.999999999709,4.5,"Valid",1.8,19.600000000000001,"Valid",11.1,null,null,4.5,1.8,19.600000000000001,11.1,19.600000000000001,11.1,4.5,1.8]
[2023,3,6,1,44991.041666666373,-3.9,"Valid",3.1,6.1,"Valid",12.7,null,null,-3.9,3.1,6.1,12.7,6.1,12.7,-3.9,3.1]
[2023,3,6,2,44991.083333333037,6.1,"Valid",3,13.1,"Valid",12.7,null,null,6.1,3,13.1,12.7,13.1,12.7,6.1,3]
[2023,3,6,3,44991.124999999702,-3.2,"Valid",3,2.1,"Valid",13,null,null,-3.2,3,2.1,13,2.1,13,-3.2,3]
[2023,3,6,4,44991.166666666366,-2.6,"Valid",2.9,3.2,"Valid",12.9,null,null,-2.6,2.9,3.2,12.9,3.2,12.9,-2.6,2.9]
[2023,3,6,5,44991.20833333303,6.4,"Valid",3.2,15.1,"Valid",13.4,null,null,6.4,3.2,15.1,13.4,15.1,13.4,6.4,3.2]
[2023,3,6,6,44991.249999999694,{"$error":"#N/A"},"Invalid",{"$error":"#N/A"},{"$error":"#N/A"},"Invalid",{"$error":"#N/A"},"Calibration Error","PM25 below low cutoff value",{"$error":"#N/A"},{"$error":"#N/A"},{"$error":"#N/A"},{"$error":"#N/A"}]
[2023,3,6,7,44991.291666666359,23.6,"Valid",3.2,145.6,"Valid",18,null,null,23.6,3.2,145.6,18,145.6,18,23.6,3.2]
[2023,3,6,8,44991.333333333023,16.3,"Valid",4.3,136.30000000000001,"Valid",24,null,null,{"$f":"IF(G130=\"Valid\", F130, NA())","v":16.3},{"$f":"IF(G130=\"Valid\", H130, NA())","v":4.3},{"$f":"IF(J130=\"Valid\", I130, NA())","v":136.30000000000001},{"$f":"IF(J130=\"Valid\", K130, NA())","v":24},136.30000000000001,24,16.3,4.3]
[2023,3,6,9,44991.374999999687,6.1,"Valid",5.6,40.4,"Valid",26.7,null,null,6.1,5.6,40.4,26.7,40.4,26.7,6.1,5.6]
[{"$f":"A131","v":2023},3,6,{"$f":"IF(D131=23,0,D131+1)","v":10},{"$f":"E131+0.0416666666666666","v":44991.416666666351},-4.7,"Valid",4.9000000000000004,9.4,"Valid",26.3,null,null,-4.7,4.9000000000000004,9.4,26.3,9.4,26.3,-4.7,4.9000000000000004]
[2023,3,6,11,44991.458333333016,3.1,"Valid",3.8,14.6,"Valid",25.3,null,null,3.1,3.8,14.6,25.3,14.6,25.3,3.1,3.8]
[2023,3,6,12,44991.49999999968,45.2,"Valid",6.2,53.4,"Valid",27.9,null,null,45.2,6.2,53.4,27.9,53.4,27.9,45.2,6.2]
[2023,3,6,13,44991.541666666344,13.6,"Valid",7,35.200000000000003,"Valid",29.7,null,null,13.6,7,35.200000000000003,29.7,35.200000000000003,29.7,13.6,7]
[2023,3,6,14,44991.583333333008,-5.8,"Valid",7.3,1.1000000000000001,"Valid",30,null,null,-5.8,7.3,1.1000000000000001,30,1.1000000000000001,30,-5.8,7.3]
[2023,3,6,15,44991.624999999673,{"$error":"#N/A"},"Invalid",{"$error":"#N/A"},{"$error":"#N/A"},"Invalid",{"$error":"#N/A"},"Calibration Error","PM25 below low cutoff value",{"$error":"#N/A"},{"$error":"#N/A"},{"$error":"#N/A"},{"$error":"#N/A"}]
[2023,3,6,16,44991.666666666337,{"$error":"#N/A"},"Invalid",{"$error":"#N/A"},{"$error":"#N/A"},"Invalid",{"$error":"#N/A"},"Calibration Error","PM25 below low cutoff value",{"$error":"#N/A"},{"$error":"#N/A"},{"$error":"#N/A"},{"$error":"#N/A"}]
[2023,3,6,17,44991.708333333001,0.1,"Valid",5.6,7.8,"Valid",28.7,null,null,0.1,5.6,7.8,28.7,7.8,28.7,0.1,5.6]
[2023,3,6,18,44991.749999999665,{"$error":"#N/A"},"Invalid",{"$error":"#N/A"},{"$error":"#N/A"},"Invalid",{"$error":"#N/A"},"Calibration Error","PM25 below low cutoff value",{"$error":"#N/A"},{"$error":"#N/A"},{"$error":"#N/A"},{"$error":"#N/A"}]
[2023,3,6,19,44991.79166666633,1.1000000000000001,"Valid",3.6,11.1,"Valid",26.2,null,null,1.1000000000000001,3.6,11.1,26.2,11.1,26.2,1.1000000000000001,3.6]
[2023,3,6,20,44991.833333332994,-2.4,"Valid",2.7,15.5,"Valid",24.1,null,null,-2.4,2.7,15.5,24.1,15.5,24.1,-2.4,2.7]
[2023,3,6,21,44991.874999999658,14.6,"Valid",2.2999999999999998,36.799999999999997,"Valid",23.9,null,null,14.6,2.2999999999999998,36.799999999999997,23.9,36.799999999999997,23.9,14.6,2.2999999999999998]
[2023,3,6,22,44991.916666666322,26.5,"Valid",3,41.9,"Valid",24.9,null,null,26.5,3,41.9,24.9,41.9,24.9,26.5,3]
[2023,3,6,23,44991.958333332987,8.3000000000000007,"Valid",2.7,31.6,"Valid",25,null,null,8.3000000000000007,2.7,31.6,25,31.6,25,8.3000000000000007,2.7]
[2023,3,7,0,44991.999999999651,13.3,"Valid",3,20,"Valid",25,null,null,13.3,3,20,25,20,25,13.3,3]
[2023,3,7,1,44992.041666666315,-2.8,"Valid",3.1,3.9,"Valid",25,null,null,-2.8,3.1,3.9,25,3.9,25,-2.8,3.1]
[2023,3,7,2,44992.083333332979,5.7,"Valid",3.1,11.8,"Valid",24.8,null,null,5.7,3.1,11.8,24.8,11.8,24.8,5.7,3.1]
[2023,3,7,3,44992.124999999643,12.8,"Valid",3.7,18.3,"Valid",25.6,null,null,12.8,3.7,18.3,25.6,18.3,25.6,12.8,3.7]
[2023,3,7,4,44992.166666666308,6,"Valid",4.0999999999999996,22.8,"Valid",26.2,null,null,6,4.0999999999999996,22.8,26.2,22.8,26.2,6,4.0999999999999996]
[2023,3,7,5,44992.208333332972,3.3,"Valid",4,18.3,"Valid",26.4,null,null,3.3,4,18.3,26.4,18.3,26.4,3.3,4]
[2023,3,7,6,44992.249999999636,0.6,"Valid",4.5999999999999996,17.3,"Valid",27,null,null,0.6,4.5999999999999996,17.3,27,17.3,27,0.6,4.5999999999999996]
[2023,3,7,7,44992.2916666663,-3.1,"Valid",3.4,16,"Valid",21.3,null,null,-3.1,3.4,16,21.3,16,21.3,-3.1,3.4]
[2023,3,7,8,44992.333333332965,-9.4,"Valid",2.4,3.1,"Valid",15.7,null,null,-9.4,2.4,3.1,15.7,3.1,15.7,-9.4,2.4]
[2023,{"$f":"B154","v":3},{"$f":"C131+1","v":7},9,44992.374999999629,5.9,"Valid",2.4,17.399999999999999,"Valid",15,null,null,5.9,2.4,17.399999999999999,15,17.399999999999999,15,5.9,2.4]
[2023,3,7,10,44992.416666666293,5.0999999999999996,"Valid",2.8,22.7,"Valid",15.6,null,null,5.0999999999999996,2.8,22.7,15.6,22.7,15.6,5.0999999999999996,2.8]
[2023,3,7,11,44992.458333332957,9.9,"Valid",3.1,17,"Valid",15.8,null,null,9.9,3.1,17,15.8,17,15.8,9.9,3.1]
[2023,3,7,12,44992.499999999622,{"$error":"#N/A"},"Invalid",{"$error":"#N/A"},{"$error":"#N/A"},"Invalid",{"$error":"#N/A"},"Calibration Error","PM25 below low cutoff value",{"$error":"#N/A"},{"$error":"#N/A"},{"$error":"#N/A"},{"$error":"#N/A"}]
[2023,3,7,13,44992.541666666286,{"$error":"#N/A"},"Invalid",{"$error":"#N/A"},{"$error":"#N/A"},"Invalid",{"$error":"#N/A"},"Calibration Error","PM25 below low cutoff value",{"$error":"#N/A"},{"$error":"#N/A"},{"$error":"#N/A"},{"$error":"#N/A"}]
[2023,3,7,14,44992.58333333295,2.1,"Valid",-0.7,12.1,"Valid",11.6,null,null,2.1,-0.7,12.1,11.6,12.1,11.6,2.1,-0.7]
[2023,3,7,15,44992.624999999614,37.200000000000003,"Valid",1.8,42.1,"Valid",13.8,null,null,37.200000000000003,1.8,42.1,13.8,42.1,13.8,37.200000000000003,1.8]
[2023,3,7,16,44992.666666666279,{"$error":"#N/A"},"Invalid",{"$error":"#N/A"},{"$error":"#N/A"},"Invalid",{"$error":"#N/A"},"Calibration Error","PM25 below low cutoff value",{"$error":"#N/A"},{"$error":"#N/A"},{"$error":"#N/A"},{"$error":"#N/A"}]
[2023,3,7,17,44992.708333332943,{"$error":"#N/A"},"Invalid",{"$error":"#N/A"},{"$error":"#N/A"},"Invalid",{"$error":"#N/A"},"Calibration Error","PM25 below low cutoff value",{"$error":"#N/A"},{"$error":"#N/A"},{"$error":"#N/A"},{"$error":"#N/A"}]
[2023,3,7,18,44992.749999999607,-1.7,"Valid",1.9,7.4,"Valid",13.5,null,null,-1.7,1.9,7.4,13.5,7.4,13.5,-1.7,1.9]
[2023,3,7,19,44992.791666666271,4.0999999999999996,"Valid",2,16.3,"Valid",13.7,null,null,4.0999999999999996,2,16.3,13.7,16.3,13.7,4.0999999999999996,2]
[2023,3,7,20,44992.833333332936,7.2,"Valid",2.4,14.7,"Valid",13.6,null,null,7.2,2.4,14.7,13.6,14.7,13.6,7.2,2.4]
[2023,3,7,21,44992.8749999996,2,"Valid",1.9,3.2,"Valid",12.1,null,null,2,1.9,3.2,12.1,3.2,12.1,2,1.9]
[2023,3,7,22,44992.916666666264,0,"Valid",0.7,5.0999999999999996,"Valid",10.5,null,null,0,0.7,5.0999999999999996,10.5,5.0999999999999996,10.5,0,0.7]
[2023,3,7,23,44992.958333332928,2.1,"Valid",0.5,14.2,"Valid",9.6999999999999993,null,null,2.1,0.5,14.2,9.6999999999999993,14.2,9.6999999999999993,2.1,0.5]
[2023,3,8,0,44992.999999999593,{"$error":"#N/A"},"Invalid",{"$error":"#N/A"},{"$error":"#N/A"},"Invalid",{"$error":"#N/A"},"Calibration Error","PM25 below low cutoff value",{"$error":"#N/A"},{"$error":"#N/A"},{"$error":"#N/A"},{"$error":"#N/A"}]
[2023,3,8,1,44993.041666666257,22.8,"Valid",-0.2,28.3,"Valid",8.6999999999999993,null,null,22.8,-0.2,28.3,8.6999999999999993,28.3,8.6999999999999993,22.8,-0.2]
[2023,3,8,2,44993.083333332921,-9.4,"Valid",-0.8,-8.5,"Valid",7.9,null,null,-9.4,-0.8,-8.5,7.9,-8.5,7.9,-9.4,-0.8]
[2023,3,8,3,44993.124999999585,-2.5,"Valid",-1.4,-0.3,"Valid",7.1,null,null,-2.5,-1.4,-0.3,7.1,-0.3,7.1,-2.5,-1.4]
[2023,3,8,4,44993.16666666625,{"$error":"#N/A"},"Invalid",{"$error":"#N/A"},{"$error":"#N/A"},"Invalid",{"$error":"#N/A"},"Calibration Error","PM25 below low cutoff value",{"$error":"#N/A"},{"$error":"#N/A"},{"$error":"#N/A"},{"$error":"#N/A"}]
[2023,3,8,5,44993.208333332914,-9.8000000000000007,"Valid",-3.2,-5.9,"Valid",4.3,null,null,-9.8000000000000007,-3.2,-5.9,4.3,-5.9,4.3,-9.8000000000000007,-3.2]
[2023,3,8,6,44993.249999999578,1.7,"Valid",-3.1,4.2,"Valid",3.8,null,null,1.7,-3.1,4.2,3.8,4.2,3.8,1.7,-3.1]
[2023,3,8,7,44993.291666666242,12.5,"Valid",-2.5,65.5,"Valid",5.8,null,null,12.5,-2.5,65.5,5.8,65.5,5.8,12.5,-2.5]
[2023,3,8,8,44993.333333332906,5.6,"Valid",-1.9,16,"Valid",6.4,null,null,5.6,-1.9,16,6.4,16,6.4,5.6,-1.9]
[2023,3,8,9,44993.374999999571,-5.6,"Valid",-2.2999999999999998,-0.5,"Valid",5.8,null,null,-5.6,-2.2999999999999998,-0.5,5.8,-0.5,5.8,-5.6,-2.2999999999999998]
[2023,3,8,10,44993.416666666235,22.4,"Valid",-1.6,31.1,"Valid",6.2,null,null,22.4,-1.6,31.1,6.2,31.1,6.2,22.4,-1.6]
[2023,3,8,11,44993.458333332899,-9.6,"Valid",-2.5,-9.5,"Valid",5.0999999999999996,null,null,-9.6,-2.5,-9.5,5.0999999999999996,-9.5,5.0999999999999996,-9.6,-2.5]
[2023,3,8,12,44993.499999999563,12.4,"Valid",-1.2,24.4,"Valid",6.4,null,null,12.4,-1.2,24.4,6.4,24.4,6.4,12.4,-1.2]
[2023,3,8,13,44993.541666666228,{"$error":"#N/A"},"Invalid",{"$error":"#N/A"},{"$error":"#N/A"},"Invalid",{"$error":"#N/A"},"Calibration Error","PM25 below low cutoff value",{"$error":"#N/A"},{"$error":"#N/A"},{"$error":"#N/A"},{"$error":"#N/A"}]
[2023,3,8,14,44993.583333332892,0.2,"Valid",-1.1000000000000001,7.5,"Valid",6.9,null,null,0.2,-1.1000000000000001,7.5,6.9,7.5,6.9,0.2,-1.1000000000000001]
[2023,3,8,15,44993.624999999556,-1.4,"Valid",-2.7,4.4000000000000004,"Valid",5.3,null,null,-1.4,-2.7,4.4000000000000004,5.3,4.4000000000000004,5.3,-1.4,-2.7]
[2023,3,8,16,44993.66666666622,-5,"Valid",-2.4,-3,"Valid",5.6,null,null,-5,-2.4,-3,5.6,-3,5.6,-5,-2.4]
[2023,3,8,17,44993.708333332885,-5.7,"Valid",-1.1000000000000001,4,"Valid",7.1,null,null,-5.7,-1.1000000000000001,4,7.1,4,7.1,-5.7,-1.1000000000000001]
[2023,3,8,18,44993.749999999549,-1.1000000000000001,"Valid",-1.1000000000000001,8,"Valid",7,null,null,-1.1000000000000001,-1.1000000000000001,8,7,8,7,-1.1000000000000001,-1.1000000000000001]
[2023,3,8,19,44993.791666666213,20.3,"Valid",-0.4,20.7,"Valid",7.2,null,null,20.3,-0.4,20.7,7.2,20.7,7.2,20.3,-0.4]
[2023,3,8,20,44993.833333332877,21.3,"Valid",0.2,24.5,"Valid",7.5,null,null,21.3,0.2,24.5,7.5,24.5,7.5,21.3,0.2]
[2023,3,8,21,44993.874999999542,3,"Valid",0.2,21.3,"Valid",8.1999999999999993,null,null,3,0.2,21.3,8.1999999999999993,21.3,8.1999999999999993,3,0.2]
[2023,3,8,22,44993.916666666206,26,"Valid",1.3,31.6,"Valid",9.1999999999999993,null,null,26,1.3,31.6,9.1999999999999993,31.6,9.1999999999999993,26,1.3]
[2023,3,8,23,44993.95833333287,0.1,"Valid",1.2,5.8,"Valid",8.8000000000000007,null,null,0.1,1.2,5.8,8.8000000000000007,5.8,8.8000000000000007,0.1,1.2]
[2023,3,9,0,44993.999999999534,{"$error":"#N/A"},"Invalid",{"$error":"#N/A"},{"$error":"#N/A"},"Invalid",{"$error":"#N/A"},"Calibration Error","PM25 greater than PM10",{"$f":"IF(G194=\"Valid\", F194, NA())","v":{"$error":"#N/A"}},{"$f":"IF(G194=\"Valid\", H194, NA())","v":{"$error":"#N/A"}},{"$f":"IF(J194=\"Valid\", I194, NA())","v":{"$error":"#N/A"}},{"$f":"IF(J194=\"Valid\", K194, NA())","v":{"$error":"#N/A"}}]
[2023,3,9,1,44994.041666666199,{"$error":"#N/A"},"Invalid",{"$error":"#N/A"},{"$error":"#N/A"},"Invalid",{"$error":"#N/A"},"Calibration Error","PM25 below low cutoff value",{"$error":"#N/A"},{"$error":"#N/A"},{"$error":"#N/A"},{"$error":"#N/A"}]
[{"$f":"A195","v":2023},3,9,{"$f":"IF(D195=23,0,D195+1)","v":2},{"$f":"E195+0.0416666666666666","v":44994.083333332863},{"$error":"#N/A"},"Invalid",{"$error":"#N/A"},{"$error":"#N/A"},"Invalid",{"$error":"#N/A"},"Calibration Error","PM25 greater than PM10",{"$error":"#N/A"},{"$error":"#N/A"},{"$error":"#N/A"},{"$error":"#N/A"}]
[2023,3,9,3,44994.124999999527,14.2,"Valid",2.2999999999999998,22.4,"Valid",9.3000000000000007,null,null,14.2,2.2999999999999998,22.4,9.3000000000000007,22.4,9.3000000000000007,14.2,2.2999999999999998]
[2023,3,9,4,44994.166666666191,2.9,"Valid",3.3,9.5,"Valid",10.4,null,null,2.9,3.3,9.5,10.4,9.5,10.4,2.9,3.3]
[2023,3,9,5,44994.208333332856,11.2,"Valid",4.2,18.100000000000001,"Valid",11.4,null,null,11.2,4.2,18.100000000000001,11.4,18.100000000000001,11.4,11.2,4.2]
[2023,3,9,6,44994.24999999952,-3.8,"Valid",4,11.4,"Valid",11.7,null,null,-3.8,4,11.4,11.7,11.4,11.7,-3.8,4]
[2023,3,9,7,44994.291666666184,6,"Valid",3.7,36.700000000000003,"Valid",10.5,null,null,6,3.7,36.700000000000003,10.5,36.700000000000003,10.5,6,3.7]
[2023,3,9,8,44994.333333332848,16.5,"Valid",4.2,23.7,"Valid",11,null,null,16.5,4.2,23.7,11,23.7,11,16.5,4.2]
[2023,3,9,9,44994.374999999513,8,"Valid",4.8,46.6,"Valid",13.1,null,null,8,4.8,46.6,13.1,46.6,13.1,8,4.8]
[2023,3,9,10,44994.416666666177,30.3,"Valid",5.2,44.1,"Valid",13.9,null,null,30.3,5.2,44.1,13.9,44.1,13.9,30.3,5.2]
[2023,3,9,11,44994.458333332841,7.2,"Valid",6,22.6,"Valid",15.3,null,null,7.2,6,22.6,15.3,22.6,15.3,7.2,6]
[2023,3,9,12,44994.499999999505,4.9000000000000004,"Valid",5.7,7.4,"Valid",14.7,null,null,4.9000000000000004,5.7,7.4,14.7,7.4,14.7,4.9000000000000004,5.7]
[2023,3,9,13,44994.541666666169,-1.2,"Valid",6.4,1.3,"Valid",15,null,null,-1.2,6.4,1.3,15,1.3,15,-1.2,6.4]
[2023,3,9,14,44994.583333332834,3.8,"Valid",6.5,11,"Valid",15.3,null,null,3.8,6.5,11,15.3,11,15.3,3.8,6.5]
[2023,3,9,15,44994.624999999498,14.7,"Valid",7.2,18.5,"Valid",15.9,null,null,14.7,7.2,18.5,15.9,18.5,15.9,14.7,7.2]
[2023,3,9,16,44994.666666666162,6.5,"Valid",7.7,9.6999999999999993,"Valid",16.5,null,null,6.5,7.7,9.6999999999999993,16.5,9.6999999999999993,16.5,6.5,7.7]
[2023,3,9,17,44994.708333332826,{"$error":"#N/A"},"Invalid",{"$error":"#N/A"},{"$error":"#N/A"},"Invalid",{"$error":"#N/A"},"Calibration Error","PM25 greater than PM10",{"$error":"#N/A"},{"$error":"#N/A"},{"$error":"#N/A"},{"$error":"#N/A"}]
[2023,3,9,18,44994.749999999491,0.3,"Valid",8.4,1.5,"Valid",16.3,null,null,0.3,8.4,1.5,16.3,1.5,16.3,0.3,8.4]
[2023,3,9,19,44994.791666666155,{"$error":"#N/A"},"Invalid",{"$error":"#N/A"},{"$error":"#N/A"},"Invalid",{"$error":"#N/A"},"Calibration Error","PM25 greater than PM10",{"$error":"#N/A"},{"$error":"#N/A"},{"$error":"#N/A"},{"$error":"#N/A"}]
[2023,3,9,20,44994.833333332819,{"$error":"#N/A"},"Invalid",{"$error":"#N/A"},{"$error":"#N/A"},"Invalid",{"$error":"#N/A"},"Calibration Error","PM25 greater than PM10",{"$error":"#N/A"},{"$error":"#N/A"},{"$error":"#N/A"},{"$error":"#N/A"}]
[2023,3,9,21,44994.874999999483,{"$error":"#N/A"},"Invalid",{"$error":"#N/A"},{"$error":"#N/A"},"Invalid",{"$error":"#N/A"},"Calibration Error","PM25 greater than PM10",{"$error":"#N/A"},{"$error":"#N/A"},{"$error":"#N/A"},{"$error":"#N/A"}]
[2023,3,9,22,44994.916666666148,{"$error":"#N/A"},"Invalid",{"$error":"#N/A"},{"$error":"#N/A"},"Invalid",{"$error":"#N/A"},"Calibration Error","PM25 greater than PM10",{"$error":"#N/A"},{"$error":"#N/A"},{"$error":"#N/A"},{"$error":"#N/A"}]
[2023,3,9,23,44994.958333332812,{"$error":"#N/A"},"Invalid",{"$error":"#N/A"},{"$error":"#N/A"},"Invalid",{"$error":"#N/A"},"Calibration Error","PM25 greater than PM10",{"$error":"#N/A"},{"$error":"#N/A"},{"$error":"#N/A"},{"$error":"#N/A"}]
[2023,3,10,0,44994.999999999476,-0.5,"Valid",5.3,7.2,"Valid",10.6,null,null,-0.5,5.3,7.2,10.6,7.2,10.6,-0.5,5.3]
[2023,{"$f":"B218","v":3},{"$f":"C195+1","v":10},1,44995.04166666614,{"$error":"#N/A"},"Invalid",{"$error":"#N/A"},{"$error":"#N/A"},"Invalid",{"$error":"#N/A"},"Calibration Error","PM25 greater than PM10",{"$error":"#N/A"},{"$error":"#N/A"},{"$error":"#N/A"},{"$error":"#N/A"}]
[2023,3,10,2,44995.083333332805,2.2000000000000002,"Valid",6,8.1999999999999993,"Valid",11.8,null,null,2.2000000000000002,6,8.1999999999999993,11.8,8.1999999999999993,11.8,2.2000000000000002,6]
[2023,3,10,3,44995.124999999469,5.4,"Valid",5.6,9.8000000000000007,"Valid",11.2,null,null,5.4,5.6,9.8000000000000007,11.2,9.8000000000000007,11.2,5.4,5.6]
[2023,3,10,4,44995.166666666133,6.6,"Valid",5.7,12.1,"Valid",11.3,null,null,6.6,5.7,12.1,11.3,12.1,11.3,6.6,5.7]
[2023,3,10,5,44995.208333332797,-3.4,"Valid",5.0999999999999996,1.6,"Valid",10.6,null,null,-3.4,5.0999999999999996,1.6,10.6,1.6,10.6,-3.4,5.0999999999999996]
[2023,3,10,6,44995.249999999462,4.7,"Valid",5.4,17.5,"Valid",10.8,null,null,4.7,5.4,17.5,10.8,17.5,10.8,4.7,5.4]
[2023,3,10,7,44995.291666666126,{"$error":"#N/A"},"Invalid",{"$error":"#N/A"},{"$error":"#N/A"},"Invalid",{"$error":"#N/A"},"Calibration Error","PM25 below low cutoff value",{"$error":"#N/A"},{"$error":"#N/A"},{"$error":"#N/A"},{"$error":"#N/A"}]
[2023,3,10,8,44995.33333333279,14.5,"Valid",4.7,47.1,"Valid",10.6,null,null,14.5,4.7,47.1,10.6,47.1,10.6,14.5,4.7]
[2023,3,10,9,44995.374999999454,2.2000000000000002,"Valid",4.5999999999999996,3.5,"Valid",9,null,null,2.2000000000000002,4.5999999999999996,3.5,9,3.5,9,2.2000000000000002,4.5999999999999996]
[2023,3,10,10,44995.416666666119,4.7,"Valid",3.6,27.4,"Valid",8.5,null,null,4.7,3.6,27.4,8.5,27.4,8.5,4.7,3.6]
[2023,3,10,11,44995.458333332783,0.4,"Valid",3.3,7.8,"Valid",7.9,null,null,0.4,3.3,7.8,7.9,7.8,7.9,0.4,3.3]
[2023,3,10,12,44995.499999999447,4.0999999999999996,"Valid",3.3,12.9,"Valid",8.1999999999999993,null,null,4.0999999999999996,3.3,12.9,8.1999999999999993,12.9,8.1999999999999993,4.0999999999999996,3.3]
[2023,3,10,13,44995.541666666111,2.6,"Valid",3.5,7.1,"Valid",8.5,null,null,2.6,3.5,7.1,8.5,7.1,8.5,2.6,3.5]
[2023,3,10,14,44995.583333332776,15.9,"Valid",4,32.700000000000003,"Valid",9.4,null,null,15.9,4,32.700000000000003,9.4,32.700000000000003,9.4,15.9,4]
[2023,3,10,15,44995.62499999944,4.8,"Valid",3.6,20,"Valid",9.5,null,null,4.8,3.6,20,9.5,20,9.5,4.8,3.6]
[2023,3,10,16,44995.666666666104,-4.7,"Valid",3.1,3.9,"Valid",9.3000000000000007,null,null,-4.7,3.1,3.9,9.3000000000000007,3.9,9.3000000000000007,-4.7,3.1]
[2023,3,10,17,44995.708333332768,{"$error":"#N/A"},"Invalid",{"$error":"#N/A"},{"$error":"#N/A"},"Invalid",{"$error":"#N/A"},"Calibration Error","PM25 greater than PM10",{"$error":"#N/A"},{"$error":"#N/A"},{"$error":"#N/A"},{"$error":"#N/A"}]
[2023,3,10,18,44995.749999999432,-0.4,"Valid",2.8,10.3,"Valid",9.4,null,null,-0.4,2.8,10.3,9.4,10.3,9.4,-0.4,2.8]
[2023,3,10,19,44995.791666666097,6.3,"Valid",3.4,6.7,"Valid",9.9,null,null,6.3,3.4,6.7,9.9,6.7,9.9,6.3,3.4]
[2023,3,10,20,44995.833333332761,9,"Valid",3.5,10.1,"Valid",10.6,null,null,9,3.5,10.1,10.6,10.1,10.6,9,3.5]
[2023,3,10,21,44995.874999999425,6,"Valid",3.9,18.2,"Valid",11.6,null,null,6,3.9,18.2,11.6,18.2,11.6,6,3.9]
[2023,3,10,22,44995.916666666089,21.4,"Valid",4.5,44.2,"Valid",13.5,null,null,21.4,4.5,44.2,13.5,44.2,13.5,21.4,4.5]
[2023,3,10,23,44995.958333332754,13.7,"Valid",4.4000000000000004,26.3,"Valid",14,null,null,13.7,4.4000000000000004,26.3,14,26.3,14,13.7,4.4000000000000004]
[2023,3,11,0,44995.999999999418,2.2000000000000002,"Valid",4.5999999999999996,23.2,"Valid",14.8,null,null,2.2000000000000002,4.5999999999999996,23.2,14.8,23.2,14.8,2.2000000000000002,4.5999999999999996]
[2023,3,11,1,44996.041666666082,{"$error":"#N/A"},"Invalid",{"$error":"#N/A"},{"$error":"#N/A"},"Invalid",{"$error":"#N/A"},"Calibration Error","PM25 below low cutoff value",{"$error":"#N/A"},{"$error":"#N/A"},{"$error":"#N/A"},{"$error":"#N/A"}]
[2023,3,11,2,44996.083333332746,{"$error":"#N/A"},"Invalid",{"$error":"#N/A"},{"$error":"#N/A"},"Invalid",{"$error":"#N/A"},"Calibration Error","PM25 greater than PM10",{"$error":"#N/A"},{"$error":"#N/A"},{"$error":"#N/A"},{"$error":"#N/A"}]
[2023,3,11,3,44996.124999999411,0.8,"Valid",3.8,4.5,"Valid",13.7,null,null,0.8,3.8,4.5,13.7,4.5,13.7,0.8,3.8]
[2023,3,11,4,44996.166666666075,-0.1,"Valid",3.5,5.5,"Valid",13.4,null,null,-0.1,3.5,5.5,13.4,5.5,13.4,-0.1,3.5]
[2023,3,11,5,44996.208333332739,-6.7,"Valid",3.3,-4.5,"Valid",13.2,null,null,-6.7,3.3,-4.5,13.2,-4.5,13.2,-6.7,3.3]
[2023,3,11,6,44996.249999999403,0.8,"Valid",3.2,7.8,"Valid",12.8,null,null,0.8,3.2,7.8,12.8,7.8,12.8,0.8,3.2]
[2023,3,11,7,44996.291666666068,-1.9,"Valid",3.6,10.5,"Valid",13,null,null,-1.9,3.6,10.5,13,10.5,13,-1.9,3.6]
[2023,3,11,8,44996.333333332732,6.7,"Valid",3.2,14,"Valid",11.7,null,null,6.7,3.2,14,11.7,14,11.7,6.7,3.2]
[2023,3,11,9,44996.374999999396,6.8,"Valid",3.5,16.7,"Valid",12.4,null,null,6.8,3.5,16.7,12.4,16.7,12.4,6.8,3.5]
[2023,3,11,10,44996.41666666606,2.9,"Valid",3.4,9,"Valid",11.6,null,null,2.9,3.4,9,11.6,9,11.6,2.9,3.4]
[2023,3,11,11,44996.458333332725,14.4,"Valid",4,18.8,"Valid",12.1,null,null,14.4,4,18.8,12.1,18.8,12.1,14.4,4]
[2023,3,11,12,44996.499999999389,-2.2999999999999998,"Valid",3.7,5.2,"Valid",11.9,null,null,-2.2999999999999998,3.7,5.2,11.9,5.2,11.9,-2.2999999999999998,3.7]
[2023,3,11,13,44996.541666666053,-4.5999999999999996,"Valid",3.4,-1.1000000000000001,"Valid",11.5,null,null,-4.5999999999999996,3.4,-1.1000000000000001,11.5,-1.1000000000000001,11.5,-4.5999999999999996,3.4]
[2023,3,11,14,44996.583333332717,{"$error":"#N/A"},"Invalid",{"$error":"#N/A"},{"$error":"#N/A"},"Invalid",{"$error":"#N/A"},"Calibration Error","PM25 greater than PM10",{"$error":"#N/A"},{"$error":"#N/A"},{"$error":"#N/A"},{"$error":"#N/A"}]
[2023,3,11,15,44996.624999999382,10.199999999999999,"Valid",3.1,12.4,"Valid",9.8000000000000007,null,null,10.199999999999999,3.1,12.4,9.8000000000000007,12.4,9.8000000000000007,10.199999999999999,3.1]
[2023,3,11,16,44996.666666666046,-7.8,"Valid",3,-0.8,"Valid",9.6,null,null,{"$f":"IF(G258=\"Valid\", F258, NA())","v":-7.8},{"$f":"IF(G258=\"Valid\", H258, NA())","v":3},{"$f":"IF(J258=\"Valid\", I258, NA())","v":-0.8},{"$f":"IF(J258=\"Valid\", K258, NA())","v":9.6},-0.8,9.6,-7.8,3]
[2023,3,11,17,44996.70833333271,{"$error":"#N/A"},"Invalid",{"$error":"#N/A"},{"$error":"#N/A"},"Invalid",{"$error":"#N/A"},"Calibration Error","PM25 greater than PM10",{"$error":"#N/A"},{"$error":"#N/A"},{"$error":"#N/A"},{"$error":"#N/A"}]
[{"$f":"A259","v":2023},3,11,{"$f":"IF(D259=23,0,D259+1)","v":18},{"$f":"E259+0.0416666666666666","v":44996.749999999374},{"$error":"#N/A"},"Invalid",{"$error":"#N/A"},{"$error":"#N/A"},"Invalid",{"$error":"#N/A"},"Calibration Error","PM25 greater than PM10",{"$error":"#N/A"},{"$error":"#N/A"},{"$error":"#N/A"},{"$error":"#N/A"}]
[2023,3,11,19,44996.791666666039,-5.7,"Valid",2.1,-0.1,"Valid",8.5,null,null,-5.7,2.1,-0.1,8.5,-0.1,8.5,-5.7,2.1]
[2023,3,11,20,44996.833333332703,-7.5,"Valid",1.4,-5,"Valid",7.9,null,null,-7.5,1.4,-5,7.9,-5,7.9,-7.5,1.4]
[2023,3,11,21,44996.874999999367,{"$error":"#N/A"},"Invalid",{"$error":"#N/A"},{"$error":"#N/A"},"Invalid",{"$error":"#N/A"},"Calibration Error","PM25 greater than PM10",{"$error":"#N/A"},{"$error":"#N/A"},{"$error":"#N/A"},{"$error":"#N/A"}]
[2023,3,11,22,44996.916666666031,16.899999999999999,"Valid",0.9,20.399999999999999,"Valid",6,null,null,16.899999999999999,0.9,20.399999999999999,6,20.399999999999999,6,16.899999999999999,0.9]
[2023,3,11,23,44996.958333332695,{"$error":"#N/A"},"Invalid",{"$error":"#N/A"},{"$error":"#N/A"},"Invalid",{"$error":"#N/A"},"Calibration Error","PM25 below low cutoff value",{"$error":"#N/A"},{"$error":"#N/A"},{"$error":"#N/A"},{"$error":"#N/A"}]
[2023,3,12,0,44996.99999999936,-7.8,"Valid",-0.7,1.4,"Valid",3.6,null,null,-7.8,-0.7,1.4,3.6,1.4,3.6,-7.8,-0.7]
[2023,3,12,1,44997.041666666024,8.1,"Valid",0.2,16.899999999999999,"Valid",4.7,null,null,8.1,0.2,16.899999999999999,4.7,16.899999999999999,4.7,8.1,0.2]
[2023,3,12,2,44997.083333332688,{"$error":"#N/A"},"Invalid",{"$error":"#N/A"},{"$error":"#N/A"},"Invalid",{"$error":"#N/A"},"Calibration Error","PM25 below low cutoff value",{"$error":"#N/A"},{"$error":"#N/A"},{"$error":"#N/A"},{"$error":"#N/A"}]
[2023,3,12,3,44997.124999999352,-2.7,"Valid",-0.5,6.6,"Valid",4.4000000000000004,null,null,-2.7,-0.5,6.6,4.4000000000000004,6.6,4.4000000000000004,-2.7,-0.5]
[2023,3,12,4,44997.166666666017,-7.3,"Valid",-0.8,0.4,"Valid",4.2,null,null,-7.3,-0.8,0.4,4.2,0.4,4.2,-7.3,-0.8]
[2023,3,12,5,44997.208333332681,7.8,"Valid",-0.2,11.6,"Valid",4.9000000000000004,null,null,7.8,-0.2,11.6,4.9000000000000004,11.6,4.9000000000000004,7.8,-0.2]
[2023,3,12,6,44997.249999999345,4.8,"Valid",0,7.4,"Valid",4.9000000000000004,null,null,4.8,0,7.4,4.9000000000000004,7.4,4.9000000000000004,4.8,0]
[2023,3,12,7,44997.291666666009,5.8,"Valid",0.3,9.8000000000000007,"Valid",4.8,null,null,5.8,0.3,9.8000000000000007,4.8,9.8000000000000007,4.8,5.8,0.3]
[2023,3,12,8,44997.333333332674,-7.4,"Valid",-0.3,-2.2999999999999998,"Valid",4.2,null,null,-7.4,-0.3,-2.2999999999999998,4.2,-2.2999999999999998,4.2,-7.4,-0.3]
[2023,3,12,9,44997.374999999338,{"$error":"#N/A"},"Invalid",{"$error":"#N/A"},{"$error":"#N/A"},"Invalid",{"$error":"#N/A"},"Calibration Error","PM25 below low cutoff value",{"$error":"#N/A"},{"$error":"#N/A"},{"$error":"#N/A"},{"$error":"#N/A"}]
[2023,3,12,10,44997.416666666002,{"$error":"#N/A"},"Invalid",{"$error":"#N/A"},{"$error":"#N/A"},"Invalid",{"$error":"#N/A"},"Calibration Error","PM25 below low cutoff value",{"$error":"#N/A"},{"$error":"#N/A"},{"$error":"#N/A"},{"$error":"#N/A"}]
[2023,3,12,11,44997.458333332666,{"$error":"#N/A"},"Invalid",{"$error":"#N/A"},{"$error":"#N/A"},"Invalid",{"$error":"#N/A"},"Calibration Error","PM25 greater than PM10",{"$error":"#N/A"},{"$error":"#N/A"},{"$error":"#N/A"},{"$error":"#N/A"}]
[2023,3,12,12,44997.499999999331,{"$error":"#N/A"},"Invalid",{"$error":"#N/A"},{"$error":"#N/A"},"Invalid",{"$error":"#N/A"},"Calibration Error","PM25 greater than PM10",{"$error":"#N/A"},{"$error":"#N/A"},{"$error":"#N/A"},{"$error":"#N/A"}]
[2023,3,12,13,44997.541666665995,0.7,"Valid",-2.1,3.1,"Valid",0.7,null,null,0.7,-2.1,3.1,0.7,3.1,0.7,0.7,-2.1]
[2023,3,12,14,44997.583333332659,5.8,"Valid",-2,7.2,"Valid",1,null,null,5.8,-2,7.2,1,7.2,1,5.8,-2]
[2023,3,12,15,44997.624999999323,-3,"Valid",-2.6,4.8,"Valid",0.7,null,null,-3,-2.6,4.8,0.7,4.8,0.7,-3,-2.6]
[2023,3,12,16,44997.666666665988,-2.2999999999999998,"Valid",-2.4,1.7,"Valid",0.8,null,null,-2.2999999999999998,-2.4,1.7,0.8,1.7,0.8,-2.2999999999999998,-2.4]
[2023,{"$f":"B282","v":3},{"$f":"C259+1","v":12},17,44997.708333332652,{"$error":"#N/A"},"Invalid",{"$error":"#N/A"},{"$error":"#N/A"},"Invalid",{"$error":"#N/A"},"Calibration Error","PM25 greater than PM10",{"$error":"#N/A"},{"$error":"#N/A"},{"$error":"#N/A"},{"$error":"#N/A"}]
[2023,3,12,18,44997.749999999316,{"$error":"#N/A"},"Invalid",{"$error":"#N/A"},{"$error":"#N/A"},"Invalid",{"$error":"#N/A"},"Calibration Error","PM25 greater than PM10",{"$error":"#N/A"},{"$error":"#N/A"},{"$error":"#N/A"},{"$error":"#N/A"}]
[2023,3,12,19,44997.79166666598,5.3,"Valid",-1.8,10,"Valid",1.2,null,null,5.3,-1.8,10,1.2,10,1.2,5.3,-1.8]
[2023,3,12,20,44997.833333332645,-0.9,"Valid",-1.5,5.9,"Valid",1.6,null,null,-0.9,-1.5,5.9,1.6,5.9,1.6,-0.9,-1.5]
[2023,3,12,21,44997.874999999309,-2.2000000000000002,"Valid",-1.5,8.6999999999999993,"Valid",2.1,null,null,-2.2000000000000002,-1.5,8.6999999999999993,2.1,8.6999999999999993,2.1,-2.2000000000000002,-1.5]
[2023,3,12,22,44997.916666665973,11.1,"Valid",-1.8,11.3,"Valid",1.7,null,null,11.1,-1.8,11.3,1.7,11.3,1.7,11.1,-1.8]
[2023,3,12,23,44997.958333332637,{"$error":"#N/A"},"Invalid",{"$error":"#N/A"},{"$error":"#N/A"},"Invalid",{"$error":"#N/A"},"Calibration Error","PM25 below low cutoff value",{"$error":"#N/A"},{"$error":"#N/A"},{"$error":"#N/A"},{"$error":"#N/A"}]
[2023,3,13,0,44997.999999999302,2.1,"Valid",-1.2,2.8,"Valid",1.6,null,null,2.1,-1.2,2.8,1.6,2.8,1.6,2.1,-1.2]
[2023,3,13,1,44998.041666665966,{"$f":"NA()","v":{"$error":"#N/A"}},"Invalid",{"$f":"NA()","v":{"$error":"#N/A"}},{"$f":"NA()","v":{"$error":"#N/A"}},"Invalid",{"$f":"NA()","v":{"$error":"#N/A"}},"Calibration Error","PM25 greater than PM10",{"$error":"#N/A"},{"$error":"#N/A"},{"$error":"#N/A"},{"$error":"#N/A"}]
[2023,3,13,2,44998.08333333263,0.3,"Valid",-0.3,5.6,"Valid",2.2000000000000002,null,null,0.3,-0.3,5.6,2.2000000000000002,5.6,2.2000000000000002,0.3,-0.3]
[2023,3,13,3,44998.124999999294,1.6,"Valid",-0.1,5.7,"Valid",2.1,null,null,1.6,-0.1,5.7,2.1,5.7,2.1,1.6,-0.1]
[2023,3,13,4,44998.166666665958,1.9,"Valid",0.3,5.2,"Valid",2.2999999999999998,null,null,1.9,0.3,5.2,2.2999999999999998,5.2,2.2999999999999998,1.9,0.3]
[2023,3,13,5,44998.208333332623,{"$f":"NA()","v":{"$error":"#N/A"}},"Invalid",{"$f":"NA()","v":{"$error":"#N/A"}},{"$f":"NA()","v":{"$error":"#N/A"}},"Invalid",{"$f":"NA()","v":{"$error":"#N/A"}},"Calibration Error","PM25 below low cutoff value",{"$error":"#N/A"},{"$error":"#N/A"},{"$error":"#N/A"},{"$error":"#N/A"}]
[2023,3,13,6,44998.249999999287,{"$f":"NA()","v":{"$error":"#N/A"}},"Invalid",{"$f":"NA()","v":{"$error":"#N/A"}},{"$f":"NA()","v":{"$error":"#N/A"}},"Invalid",{"$f":"NA()","v":{"$error":"#N/A"}},"Calibration Error","PM25 greater than PM10",{"$error":"#N/A"},{"$error":"#N/A"},{"$error":"#N/A"},{"$error":"#N/A"}]
[2023,3,13,7,44998.291666665951,2.5,"Valid",-0.9,6.4,"Valid",1.3,null,null,2.5,-0.9,6.4,1.3,6.4,1.3,2.5,-0.9]
[2023,3,13,8,44998.333333332615,-2.6,"Valid",-0.7,3.2,"Valid",1.6,null,null,-2.6,-0.7,3.2,1.6,3.2,1.6,-2.6,-0.7]
[2023,3,13,9,44998.37499999928,2.2999999999999998,"Valid",0,7.1,"Valid",2.6,null,null,2.2999999999999998,0,7.1,2.6,7.1,2.6,2.2999999999999998,0]
[2023,3,13,10,44998.416666665944,{"$f":"NA()","v":{"$error":"#N/A"}},"Invalid",{"$f":"NA()","v":{"$error":"#N/A"}},{"$f":"NA()","v":{"$error":"#N/A"}},"Invalid",{"$f":"NA()","v":{"$error":"#N/A"}},"Calibration Error","PM25 greater than PM10",{"$error":"#N/A"},{"$error":"#N/A"},{"$error":"#N/A"},{"$error":"#N/A"}]
[2023,3,13,11,44998.458333332608,-2.2999999999999998,"Valid",0.8,7.6,"Valid",4,null,null,-2.2999999999999998,0.8,7.6,4,7.6,4,-2.2999999999999998,0.8]
[2023,3,13,12,44998.499999999272,15.5,"Valid",1.4,29.1,"Valid",5.3,null,null,15.5,1.4,29.1,5.3,29.1,5.3,15.5,1.4]
[2023,3,13,13,44998.541666665937,{"$f":"NA()","v":{"$error":"#N/A"}},"Invalid",{"$f":"NA()","v":{"$error":"#N/A"}},{"$f":"NA()","v":{"$error":"#N/A"}},"Invalid",{"$f":"NA()","v":{"$error":"#N/A"}},"Calibration Error","PM25 greater than PM10",{"$error":"#N/A"},{"$error":"#N/A"},{"$error":"#N/A"},{"$error":"#N/A"}]
[2023,3,13,14,44998.583333332601,-7.2,"Valid",1.3,-0.3,"Valid",5.3,null,null,-7.2,1.3,-0.3,5.3,-0.3,5.3,-7.2,1.3]
[2023,3,13,15,44998.624999999265,0.2,"Valid",1.5,2.1,"Valid",5.2,null,null,0.2,1.5,2.1,5.2,2.1,5.2,0.2,1.5]
[2023,3,13,16,44998.666666665929,-9.6,"Valid",1.2,0.4,"Valid",5.2,null,null,-9.6,1.2,0.4,5.2,0.4,5.2,-9.6,1.2]
[2023,3,13,17,44998.708333332594,{"$f":"NA()","v":{"$error":"#N/A"}},"Invalid",{"$f":"NA()","v":{"$error":"#N/A"}},{"$f":"NA()","v":{"$error":"#N/A"}},"Invalid",{"$f":"NA()","v":{"$error":"#N/A"}},"Calibration Error","PM25 greater than PM10",{"$error":"#N/A"},{"$error":"#N/A"},{"$error":"#N/A"},{"$error":"#N/A"}]
[2023,3,13,18,44998.749999999258,-8.6999999999999993,"Valid",0.7,-4.9000000000000004,"Valid",4.9000000000000004,null,null,-8.6999999999999993,0.7,-4.9000000000000004,4.9000000000000004,-4.9000000000000004,4.9000000000000004,-8.6999999999999993,0.7]
[2023,3,13,19,44998.791666665922,-7.6,"Valid",0.2,1.1000000000000001,"Valid",4.5,null,null,-7.6,0.2,1.1000000000000001,4.5,1.1000000000000001,4.5,-7.6,0.2]
[2023,3,13,20,44998.833333332586,-1.9,"Valid",0.1,5.6,"Valid",4.4000000000000004,null,null,-1.9,0.1,5.6,4.4000000000000004,5.6,4.4000000000000004,-1.9,0.1]
[2023,3,13,21,44998.874999999251,{"$f":"NA()","v":{"$error":"#N/A"}},"Invalid",{"$f":"NA()","v":{"$error":"#N/A"}},{"$f":"NA()","v":{"$error":"#N/A"}},"Invalid",{"$f":"NA()","v":{"$error":"#N/A"}},"Power failure","no data",{"$error":"#N/A"},{"$error":"#N/A"},{"$error":"#N/A"},{"$error":"#N/A"}]
[2023,3,13,22,44998.916666665915,{"$f":"NA()","v":{"$error":"#N/A"}},"Invalid",{"$f":"NA()","v":{"$error":"#N/A"}},{"$f":"NA()","v":{"$error":"#N/A"}},"Invalid",{"$f":"NA()","v":{"$error":"#N/A"}},"Power failure","no data",{"$error":"#N/A"},{"$error":"#N/A"},{"$error":"#N/A"},{"$error":"#N/A"}]
[2023,3,13,23,44998.958333332579,{"$f":"NA()","v":{"$error":"#N/A"}},"Invalid",{"$f":"NA()","v":{"$error":"#N/A"}},{"$f":"NA()","v":{"$error":"#N/A"}},"Invalid",{"$f":"NA()","v":{"$error":"#N/A"}},"Power failure","no data",{"$error":"#N/A"},{"$error":"#N/A"},{"$error":"#N/A"},{"$error":"#N/A"}]
[2023,3,14,0,44998.999999999243,{"$f":"NA()","v":{"$error":"#N/A"}},"Invalid",{"$f":"NA()","v":{"$error":"#N/A"}},{"$f":"NA()","v":{"$error":"#N/A"}},"Invalid",{"$f":"NA()","v":{"$error":"#N/A"}},"Calibration Error","PM25 below low cutoff value",{"$error":"#N/A"},{"$error":"#N/A"},{"$error":"#N/A"},{"$error":"#N/A"}]
[2023,3,14,1,44999.041666665908,{"$f":"NA()","v":{"$error":"#N/A"}},"Invalid",{"$f":"NA()","v":{"$error":"#N/A"}},{"$f":"NA()","v":{"$error":"#N/A"}},"Invalid",{"$f":"NA()","v":{"$error":"#N/A"}},"Calibration Error","PM25 greater than PM10",{"$error":"#N/A"},{"$error":"#N/A"},{"$error":"#N/A"},{"$error":"#N/A"}]
[2023,3,14,2,44999.083333332572,{"$f":"NA()","v":{"$error":"#N/A"}},"Invalid",{"$f":"NA()","v":{"$error":"#N/A"}},{"$f":"NA()","v":{"$error":"#N/A"}},"Invalid",{"$f":"NA()","v":{"$error":"#N/A"}},"Calibration Error","PM25 greater than PM10",{"$error":"#N/A"},{"$error":"#N/A"},{"$error":"#N/A"},{"$error":"#N/A"}]
[2023,3,14,3,44999.124999999236,0.8,"Valid",-1.8,9.4,"Valid",2.5,null,null,0.8,-1.8,9.4,2.5,9.4,2.5,0.8,-1.8]
[2023,3,14,4,44999.1666666659,8.6,"Valid",-1.5,13.4,"Valid",2.9,null,null,8.6,-1.5,13.4,2.9,13.4,2.9,8.6,-1.5]
[2023,3,14,5,44999.208333332565,-2.9,"Valid",-1,0.1,"Valid",3,null,null,-2.9,-1,0.1,3,0.1,3,-2.9,-1]
[2023,3,14,6,44999.249999999229,0.5,"Valid",-1,10.3,"Valid",3.5,null,null,0.5,-1,10.3,3.5,10.3,3.5,0.5,-1]
[2023,3,14,7,44999.291666665893,9.6999999999999993,"Valid",-0.7,12.2,"Valid",3.8,null,null,9.6999999999999993,-0.7,12.2,3.8,12.2,3.8,9.6999999999999993,-0.7]
[2023,3,14,8,44999.333333332557,{"$f":"NA()","v":{"$error":"#N/A"}},"Invalid",{"$f":"NA()","v":{"$error":"#N/A"}},{"$f":"NA()","v":{"$error":"#N/A"}},"Invalid",{"$f":"NA()","v":{"$error":"#N/A"}},"Calibration Error","PM25 below low cutoff value",{"$f":"IF(G322=\"Valid\", F322, NA())","v":{"$error":"#N/A"}},{"$f":"IF(G322=\"Valid\", H322, NA())","v":{"$error":"#N/A"}},{"$f":"IF(J322=\"Valid\", I322, NA())","v":{"$error":"#N/A"}},{"$f":"IF(J322=\"Valid\", K322, NA())","v":{"$error":"#N/A"}}]
[2023,3,14,9,44999.374999999221,-1.8,"Valid",-1.2,1.2,"Valid",3.2,null,null,-1.8,-1.2,1.2,3.2,1.2,3.2,-1.8,-1.2]
[{"$f":"A323","v":2023},3,14,{"$f":"IF(D323=23,0,D323+1)","v":10},{"$f":"E323+0.0416666666666666","v":44999.416666665886},{"$f":"NA()","v":{"$error":"#N/A"}},"Invalid",{"$f":"NA()","v":{"$error":"#N/A"}},{"$f":"NA()","v":{"$error":"#N/A"}},"Invalid",{"$f":"NA()","v":{"$error":"#N/A"}},"Calibration Error","PM25 greater than PM10",{"$error":"#N/A"},{"$error":"#N/A"},{"$error":"#N/A"},{"$error":"#N/A"}]
[2023,3,14,11,44999.45833333255,7.2,"Valid",-0.6,14.8,"Valid",3.9,null,null,7.2,-0.6,14.8,3.9,14.8,3.9,7.2,-0.6]
[2023,3,14,12,44999.499999999214,-1.5,"Valid",-1.4,1.6,"Valid",2.6,null,null,-1.5,-1.4,1.6,2.6,1.6,2.6,-1.5,-1.4]
[2023,3,14,13,44999.541666665878,11.3,"Valid",-1.4,15,"Valid",2.8,null,null,11.3,-1.4,15,2.8,15,2.8,11.3,-1.4]
[2023,3,14,14,44999.583333332543,{"$f":"NA()","v":{"$error":"#N/A"}},"Invalid",{"$f":"NA()","v":{"$error":"#N/A"}},{"$f":"NA()","v":{"$error":"#N/A"}},"Invalid",{"$f":"NA()","v":{"$error":"#N/A"}},"Calibration Error","PM25 greater than PM10",{"$error":"#N/A"},{"$error":"#N/A"},{"$error":"#N/A"},{"$error":"#N/A"}]
[2023,3,14,15,44999.624999999207,-2.2999999999999998,"Valid",-0.9,4.8,"Valid",3.1,null,null,-2.2999999999999998,-0.9,4.8,3.1,4.8,3.1,-2.2999999999999998,-0.9]
[2023,3,14,16,44999.666666665871,-4.5,"Valid",-0.7,-1.7,"Valid",3,null,null,-4.5,-0.7,-1.7,3,-1.7,3,-4.5,-0.7]
[2023,3,14,17,44999.708333332535,-6.2,"Valid",-0.7,-5.7,"Valid",3.2,null,null,-6.2,-0.7,-5.7,3.2,-5.7,3.2,-6.2,-0.7]
[2023,3,14,18,44999.7499999992,{"$f":"NA()","v":{"$error":"#N/A"}},"Invalid",{"$f":"NA()","v":{"$error":"#N/A"}},{"$f":"NA()","v":{"$error":"#N/A"}},"Invalid",{"$f":"NA()","v":{"$error":"#N/A"}},"Calibration Error","PM25 greater than PM10",{"$error":"#N/A"},{"$error":"#N/A"},{"$error":"#N/A"},{"$error":"#N/A"}]
[2023,3,14,19,44999.791666665864,7.1,"Valid",0.4,10,"Valid",3.7,null,null,7.1,0.4,10,3.7,10,3.7,7.1,0.4]
[2023,3,14,20,44999.833333332528,-7.5,"Valid",0.1,-4.5,"Valid",3.2,null,null,-7.5,0.1,-4.5,3.2,-4.5,3.2,-7.5,0.1]
[2023,3,14,21,44999.874999999192,2.9,"Valid",0.2,6.2,"Valid",3.4,null,null,2.9,0.2,6.2,3.4,6.2,3.4,2.9,0.2]
[2023,3,14,22,44999.916666665857,-3.3,"Valid",0.1,2.6,"Valid",3.3,null,null,-3.3,0.1,2.6,3.3,2.6,3.3,-3.3,0.1]
[2023,3,14,23,44999.958333332521,1.5,"Valid",0.1,6.2,"Valid",3.4,null,null,1.5,0.1,6.2,3.4,6.2,3.4,1.5,0.1]
[2023,3,15,0,44999.999999999185,10.4,"Valid",1.2,11.9,"Valid",4.4000000000000004,null,null,10.4,1.2,11.9,4.4000000000000004,11.9,4.4000000000000004,10.4,1.2]
[2023,3,15,1,45000.041666665849,-7.4,"Valid",0.9,-1,"Valid",4.5,null,null,-7.4,0.9,-1,4.5,-1,4.5,-7.4,0.9]
[2023,3,15,2,45000.083333332514,{"$f":"NA()","v":{"$error":"#N/A"}},"Invalid",{"$f":"NA()","v":{"$error":"#N/A"}},{"$f":"NA()","v":{"$error":"#N/A"}},"Invalid",{"$f":"NA()","v":{"$error":"#N/A"}},"Calibration Error","PM25 greater than PM10",{"$error":"#N/A"},{"$error":"#N/A"},{"$error":"#N/A"},{"$error":"#N/A"}]
[2023,3,15,3,45000.124999999178,0.1,"Valid",1.3,6.1,"Valid",4.8,null,null,0.1,1.3,6.1,4.8,6.1,4.8,0.1,1.3]
[2023,3,15,4,45000.166666665842,{"$f":"NA()","v":{"$error":"#N/A"}},"Invalid",{"$f":"NA()","v":{"$error":"#N/A"}},{"$f":"NA()","v":{"$error":"#N/A"}},"Invalid",{"$f":"NA()","v":{"$error":"#N/A"}},"Calibration Error","PM25 below low cutoff value",{"$error":"#N/A"},{"$error":"#N/A"},{"$error":"#N/A"},{"$error":"#N/A"}]
[2023,3,15,5,45000.208333332506,{"$f":"NA()","v":{"$error":"#N/A"}},"Invalid",{"$f":"NA()","v":{"$error":"#N/A"}},{"$f":"NA()","v":{"$error":"#N/A"}},"Invalid",{"$f":"NA()","v":{"$error":"#N/A"}},"Calibration Error","PM25 below low cutoff value",{"$error":"#N/A"},{"$error":"#N/A"},{"$error":"#N/A"},{"$error":"#N/A"}]
[2023,3,15,6,45000.249999999171,{"$f":"NA()","v":{"$error":"#N/A"}},"Invalid",{"$f":"NA()","v":{"$error":"#N/A"}},{"$f":"NA()","v":{"$error":"#N/A"}},"Invalid",{"$f":"NA()","v":{"$error":"#N/A"}},"Calibration Error","PM25 below low cutoff value",{"$error":"#N/A"},{"$error":"#N/A"},{"$error":"#N/A"},{"$error":"#N/A"}]
[2023,3,15,7,45000.291666665835,10.8,"Valid",-1,15.2,"Valid",2,null,null,10.8,-1,15.2,2,15.2,2,10.8,-1]
[2023,3,15,8,45000.333333332499,-5.4,"Valid",-0.7,-0.8,"Valid",2.1,null,null,-5.4,-0.7,-0.8,2.1,-0.8,2.1,-5.4,-0.7]
[2023,{"$f":"B346","v":3},{"$f":"C323+1","v":15},9,45000.374999999163,-3.1,"Valid",-0.8,-0.8,"Valid",2.1,null,null,-3.1,-0.8,-0.8,2.1,-0.8,2.1,-3.1,-0.8]
[2023,3,15,10,45000.416666665828,14.4,"Valid",-0.8,21.1,"Valid",2.4,null,null,14.4,-0.8,21.1,2.4,21.1,2.4,14.4,-0.8]
[2023,3,15,11,45000.458333332492,-3,"Valid",-1.2,9.9,"Valid",2.2000000000000002,null,null,-3,-1.2,9.9,2.2000000000000002,9.9,2.2000000000000002,-3,-1.2]
[2023,3,15,12,45000.499999999156,0.6,"Valid",-1.1000000000000001,6.7,"Valid",2.5,null,null,0.6,-1.1000000000000001,6.7,2.5,6.7,2.5,0.6,-1.1000000000000001]
[2023,3,15,13,45000.54166666582,{"$f":"NA()","v":{"$error":"#N/A"}},"Invalid",{"$f":"NA()","v":{"$error":"#N/A"}},{"$f":"NA()","v":{"$error":"#N/A"}},"Invalid",{"$f":"NA()","v":{"$error":"#N/A"}},"Calibration Error","PM25 greater than PM10",{"$error":"#N/A"},{"$error":"#N/A"},{"$error":"#N/A"},{"$error":"#N/A"}]
[2023,3,15,14,45000.583333332484,{"$f":"NA()","v":{"$error":"#N/A"}},"Invalid",{"$f":"NA()","v":{"$error":"#N/A"}},{"$f":"NA()","v":{"$error":"#N/A"}},"Invalid",{"$f":"NA()","v":{"$error":"#N/A"}},"Calibration Error","PM25 greater than PM10",{"$error":"#N/A"},{"$error":"#N/A"},{"$error":"#N/A"},{"$error":"#N/A"}]
[2023,3,15,15,45000.624999999149,11.9,"Valid",-1,15.7,"Valid",2.2000000000000002,null,null,11.9,-1,15.7,2.2000000000000002,15.7,2.2000000000000002,11.9,-1]
[2023,3,15,16,45000.666666665813,1.4,"Valid",-0.8,6.1,"Valid",2.5,null,null,1.4,-0.8,6.1,2.5,6.1,2.5,1.4,-0.8]
[2023,3,15,17,45000.708333332477,{"$f":"NA()","v":{"$error":"#N/A"}},"Invalid",{"$f":"NA()","v":{"$error":"#N/A"}},{"$f":"NA()","v":{"$error":"#N/A"}},"Invalid",{"$f":"NA()","v":{"$error":"#N/A"}},"Calibration Error","PM25 below low cutoff value",{"$error":"#N/A"},{"$error":"#N/A"},{"$error":"#N/A"},{"$error":"#N/A"}]
[2023,3,15,18,45000.749999999141,1.2,"Valid",-1.2,6.4,"Valid",2.5,null,null,1.2,-1.2,6.4,2.5,6.4,2.5,1.2,-1.2]
[2023,3,15,19,45000.791666665806,2.6,"Valid",-1.4,9.4,"Valid",2.4,null,null,2.6,-1.4,9.4,2.4,9.4,2.4,2.6,-1.4]
[2023,3,15,20,45000.83333333247,10.199999999999999,"Valid",-0.6,14.3,"Valid",3.1,null,null,10.199999999999999,-0.6,14.3,3.1,14.3,3.1,10.199999999999999,-0.6]
[2023,3,15,21,45000.874999999134,11,"Valid",-0.3,14.1,"Valid",3.5,null,null,11,-0.3,14.1,3.5,14.1,3.5,11,-0.3]
[2023,3,15,22,45000.916666665798,{"$f":"NA()","v":{"$error":"#N/A"}},"Invalid",{"$f":"NA()","v":{"$error":"#N/A"}},{"$f":"NA()","v":{"$error":"#N/A"}},"Invalid",{"$f":"NA()","v":{"$error":"#N/A"}},"Calibration Error","PM25 below low cutoff value",{"$error":"#N/A"},{"$error":"#N/A"},{"$error":"#N/A"},{"$error":"#N/A"}]
[2023,3,15,23,45000.958333332463,6.8,"Valid",-0.5,7,"Valid",2.9,null,null,6.8,-0.5,7,2.9,7,2.9,6.8,-0.5]
[2023,3,16,0,45000.999999999127,0.6,"Valid",-0.9,4.7,"Valid",2.6,null,null,0.6,-0.9,4.7,2.6,4.7,2.6,0.6,-0.9]
[2023,3,16,1,45001.041666665791,{"$f":"NA()","v":{"$error":"#N/A"}},"Invalid",{"$f":"NA()","v":{"$error":"#N/A"}},{"$f":"NA()","v":{"$error":"#N/A"}},"Invalid",{"$f":"NA()","v":{"$error":"#N/A"}},"Calibration Error","PM25 greater than PM10",{"$error":"#N/A"},{"$error":"#N/A"},{"$error":"#N/A"},{"$error":"#N/A"}]
[2023,3,16,2,45001.083333332455,4,"Valid",-0.8,10.3,"Valid",2.6,null,null,4,-0.8,10.3,2.6,10.3,2.6,4,-0.8]
[2023,3,16,3,45001.12499999912,{"$f":"NA()","v":{"$error":"#N/A"}},"Invalid",{"$f":"NA()","v":{"$error":"#N/A"}},{"$f":"NA()","v":{"$error":"#N/A"}},"Invalid",{"$f":"NA()","v":{"$error":"#N/A"}},"Calibration Error","PM25 below low cutoff value",{"$error":"#N/A"},{"$error":"#N/A"},{"$error":"#N/A"},{"$error":"#N/A"}]
[2023,3,16,4,45001.166666665784,0.2,"Valid",-0.8,3.5,"Valid",2.9,null,null,0.2,-0.8,3.5,2.9,3.5,2.9,0.2,-0.8]
[2023,3,16,5,45001.208333332448,13.4,"Valid",0.8,18.5,"Valid",4.5999999999999996,null,null,13.4,0.8,18.5,4.5999999999999996,18.5,4.5999999999999996,13.4,0.8]
[2023,3,16,6,45001.249999999112,-6.6,"Valid",1.1000000000000001,10.7,"Valid",5.5,null,null,-6.6,1.1000000000000001,10.7,5.5,10.7,5.5,-6.6,1.1000000000000001]
[2023,3,16,7,45001.291666665777,19.100000000000001,"Valid",1.5,28.1,"Valid",6.1,null,null,19.100000000000001,1.5,28.1,6.1,28.1,6.1,19.100000000000001,1.5]
[2023,3,16,8,45001.333333332441,13.6,"Valid",2.2999999999999998,24.3,"Valid",7.2,null,null,13.6,2.2999999999999998,24.3,7.2,24.3,7.2,13.6,2.2999999999999998]
[2023,3,16,9,45001.374999999105,6.6,"Valid",2.7,19.3,"Valid",8.1,null,null,6.6,2.7,19.3,8.1,19.3,8.1,6.6,2.7]
[2023,3,16,10,45001.416666665769,1.2,"Valid",2.2000000000000002,15.2,"Valid",7.9,null,null,1.2,2.2000000000000002,15.2,7.9,15.2,7.9,1.2,2.2000000000000002]
[2023,3,16,11,45001.458333332434,7.9,"Valid",2.7,20.5,"Valid",8.5,null,null,7.9,2.7,20.5,8.5,20.5,8.5,7.9,2.7]
[2023,3,16,12,45001.499999999098,12.4,"Valid",3.2,13.3,"Valid",8.8000000000000007,null,null,12.4,3.2,13.3,8.8000000000000007,13.3,8.8000000000000007,12.4,3.2]
[2023,3,16,13,45001.541666665762,-5.4,"Valid",3,2.5,"Valid",9.1,null,null,-5.4,3,2.5,9.1,2.5,9.1,-5.4,3]
[2023,3,16,14,45001.583333332426,20.3,"Valid",3.7,25.4,"Valid",10.1,null,null,20.3,3.7,25.4,10.1,25.4,10.1,20.3,3.7]
[2023,3,16,15,45001.624999999091,0.4,"Valid",3.2,8.6999999999999993,"Valid",9.8000000000000007,null,null,0.4,3.2,8.6999999999999993,9.8000000000000007,8.6999999999999993,9.8000000000000007,0.4,3.2]
[2023,3,16,16,45001.666666665755,27.9,"Valid",4.3,43,"Valid",11.4,null,null,27.9,4.3,43,11.4,43,11.4,27.9,4.3]
[2023,3,16,17,45001.708333332419,41.2,"Valid",6.8,54.5,"Valid",14.3,null,null,41.2,6.8,54.5,14.3,54.5,14.3,41.2,6.8]
[2023,3,16,18,45001.749999999083,5.7,"Valid",7,16.8,"Valid",14.8,null,null,5.7,7,16.8,14.8,16.8,14.8,5.7,7]
[2023,3,16,19,45001.791666665747,{"$f":"NA()","v":{"$error":"#N/A"}},"Invalid",{"$f":"NA()","v":{"$error":"#N/A"}},{"$f":"NA()","v":{"$error":"#N/A"}},"Invalid",{"$f":"NA()","v":{"$error":"#N/A"}},"Calibration Error","PM25 below low cutoff value",{"$error":"#N/A"},{"$error":"#N/A"},{"$error":"#N/A"},{"$error":"#N/A"}]
[2023,3,16,20,45001.833333332412,-4.5999999999999996,"Valid",5.5,2.7,"Valid",13.4,null,null,-4.5999999999999996,5.5,2.7,13.4,2.7,13.4,-4.5999999999999996,5.5]
[2023,3,16,21,45001.874999999076,12.6,"Valid",5.5,18.3,"Valid",13.5,null,null,12.6,5.5,18.3,13.5,18.3,13.5,12.6,5.5]
[2023,3,16,22,45001.91666666574,4.9000000000000004,"Valid",6.3,13.3,"Valid",14.5,null,null,4.9000000000000004,6.3,13.3,14.5,13.3,14.5,4.9000000000000004,6.3]
[2023,3,16,23,45001.958333332404,{"$f":"NA()","v":{"$error":"#N/A"}},"Invalid",{"$f":"NA()","v":{"$error":"#N/A"}},{"$f":"NA()","v":{"$error":"#N/A"}},"Invalid",{"$f":"NA()","v":{"$error":"#N/A"}},"Calibration Error","PM25 below low cutoff value",{"$error":"#N/A"},{"$error":"#N/A"},{"$error":"#N/A"},{"$error":"#N/A"}]
[2023,3,17,0,45001.999999999069,-9.8000000000000007,"Valid",5.0999999999999996,-2.4,"Valid",13.6,null,null,{"$f":"IF(G386=\"Valid\", F386, NA())","v":-9.8000000000000007},{"$f":"IF(G386=\"Valid\", H386, NA())","v":5.0999999999999996},{"$f":"IF(J386=\"Valid\", I386, NA())","v":-2.4},{"$f":"IF(J386=\"Valid\", K386, NA())","v":13.6},-2.4,13.6,-9.8000000000000007,5.0999999999999996]
[2023,3,17,1,45002.041666665733,9.1999999999999993,"Valid",5.6,21.6,"Valid",14.6,null,null,9.1999999999999993,5.6,21.6,14.6,21.6,14.6,9.1999999999999993,5.6]
[{"$f":"A387","v":2023},3,17,{"$f":"IF(D387=23,0,D387+1)","v":2},{"$f":"E387+0.0416666666666666","v":45002.083333332397},1.2,"Valid",5.5,8.9,"Valid",14.6,null,null,1.2,5.5,8.9,14.6,8.9,14.6,1.2,5.5]
[2023,3,17,3,45002.124999999061,16.399999999999999,"Valid",6.6,21.7,"Valid",15.5,null,null,16.399999999999999,6.6,21.7,15.5,21.7,15.5,16.399999999999999,6.6]
[2023,3,17,4,45002.166666665726,11.5,"Valid",7,14.4,"Valid",16,null,null,11.5,7,14.4,16,14.4,16,11.5,7]
[2023,3,17,5,45002.20833333239,-7.2,"Valid",6.2,4.0999999999999996,"Valid",15.3,null,null,-7.2,6.2,4.0999999999999996,15.3,4.0999999999999996,15.3,-7.2,6.2]
[2023,3,17,6,45002.249999999054,-4.5,"Valid",6.2,18.5,"Valid",15.6,null,null,-4.5,6.2,18.5,15.6,18.5,15.6,-4.5,6.2]
[2023,3,17,7,45002.291666665718,-1.3,"Valid",5.4,16.600000000000001,"Valid",15.1,null,null,-1.3,5.4,16.600000000000001,15.1,16.600000000000001,15.1,-1.3,5.4]
[2023,3,17,8,45002.333333332383,8.9,"Valid",5.2,25.4,"Valid",15.3,null,null,8.9,5.2,25.4,15.3,25.4,15.3,8.9,5.2]
[2023,3,17,9,45002.374999999047,4.9000000000000004,"Valid",5.2,20.5,"Valid",15.6,null,null,4.9000000000000004,5.2,20.5,15.6,20.5,15.6,4.9000000000000004,5.2]
[2023,3,17,10,45002.416666665711,{"$f":"NA()","v":{"$error":"#N/A"}},"Invalid",{"$f":"NA()","v":{"$error":"#N/A"}},{"$f":"NA()","v":{"$error":"#N/A"}},"Invalid",{"$f":"NA()","v":{"$error":"#N/A"}},"Calibration Error","PM25 below low cutoff value",{"$error":"#N/A"},{"$error":"#N/A"},{"$error":"#N/A"},{"$error":"#N/A"}]
[2023,3,17,11,45002.458333332375,-3.1,"Valid",4.3,14.3,"Valid",15.1,null,null,-3.1,4.3,14.3,15.1,14.3,15.1,-3.1,4.3]
[2023,3,17,12,45002.49999999904,14,"Valid",4.4000000000000004,22.7,"Valid",15.6,null,null,14,4.4000000000000004,22.7,15.6,22.7,15.6,14,4.4000000000000004]
[2023,3,17,13,45002.541666665704,8.6999999999999993,"Valid",5,17.7,"Valid",16.3,null,null,8.6999999999999993,5,17.7,16.3,17.7,16.3,8.6999999999999993,5]
[2023,3,17,14,45002.583333332368,-3.3,"Valid",4,7.9,"Valid",15.6,null,null,-3.3,4,7.9,15.6,7.9,15.6,-3.3,4]
[2023,3,17,15,45002.624999999032,{"$f":"NA()","v":{"$error":"#N/A"}},"Invalid",{"$f":"NA()","v":{"$error":"#N/A"}},{"$f":"NA()","v":{"$error":"#N/A"}},"Invalid",{"$f":"NA()","v":{"$error":"#N/A"}},"Calibration Error","PM25 below low cutoff value",{"$error":"#N/A"},{"$error":"#N/A"},{"$error":"#N/A"},{"$error":"#N/A"}]
[2023,3,17,16,45002.666666665697,1.5,"Valid",2,2.4,"Valid",13,null,null,1.5,2,2.4,13,2.4,13,1.5,2]
[2023,3,17,17,45002.708333332361,-2,"Valid",0.2,5.5,"Valid",11,null,null,-2,0.2,5.5,11,5.5,11,-2,0.2]
[2023,3,17,18,45002.749999999025,{"$f":"NA()","v":{"$error":"#N/A"}},"Invalid",{"$f":"NA()","v":{"$error":"#N/A"}},{"$f":"NA()","v":{"$error":"#N/A"}},"Invalid",{"$f":"NA()","v":{"$error":"#N/A"}},"Calibration Error","PM25 below low cutoff value",{"$error":"#N/A"},{"$error":"#N/A"},{"$error":"#N/A"},{"$error":"#N/A"}]
[2023,3,17,19,45002.791666665689,-5.3,"Valid",-0.4,0.2,"Valid",9.9,null,null,-5.3,-0.4,0.2,9.9,0.2,9.9,-5.3,-0.4]
[2023,3,17,20,45002.833333332354,{"$f":"NA()","v":{"$error":"#N/A"}},"Invalid",{"$f":"NA()","v":{"$error":"#N/A"}},{"$f":"NA()","v":{"$error":"#N/A"}},"Invalid",{"$f":"NA()","v":{"$error":"#N/A"}},"Calibration Error","PM25 below low cutoff value",{"$error":"#N/A"},{"$error":"#N/A"},{"$error":"#N/A"},{"$error":"#N/A"}]
[2023,3,17,21,45002.874999999018,-3.1,"Valid",-1.9,2.1,"Valid",8.5,null,null,-3.1,-1.9,2.1,8.5,2.1,8.5,-3.1,-1.9]
[2023,3,17,22,45002.916666665682,-1.8,"Valid",-2.2000000000000002,2.4,"Valid",7.9,null,null,-1.8,-2.2000000000000002,2.4,7.9,2.4,7.9,-1.8,-2.2000000000000002]
[2023,3,17,23,45002.958333332346,{"$f":"NA()","v":{"$error":"#N/A"}},"Invalid",{"$f":"NA()","v":{"$error":"#N/A"}},{"$f":"NA()","v":{"$error":"#N/A"}},"Invalid",{"$f":"NA()","v":{"$error":"#N/A"}},"Calibration Error","PM25 below low cutoff value",{"$error":"#N/A"},{"$error":"#N/A"},{"$error":"#N/A"},{"$error":"#N/A"}]
[2023,3,18,0,45002.99999999901,-0.5,"Valid",-2,2.9,"Valid",7.8,null,null,-0.5,-2,2.9,7.8,2.9,7.8,-0.5,-2]
[2023,{"$f":"B410","v":3},{"$f":"C387+1","v":18},1,45003.041666665675,0.9,"Valid",-2.2999999999999998,6,"Valid",7.2,null,null,0.9,-2.2999999999999998,6,7.2,6,7.2,0.9,-2.2999999999999998]
[2023,3,18,2,45003.083333332339,4.2,"Valid",-2.2000000000000002,6.4,"Valid",7,null,null,4.2,-2.2000000000000002,6.4,7,6.4,7,4.2,-2.2000000000000002]
[2023,3,18,3,45003.124999999003,22.1,"Valid",-1.9,23.3,"Valid",7.1,null,null,22.1,-1.9,23.3,7.1,23.3,7.1,22.1,-1.9]
[2023,3,18,4,45003.166666665667,8.3000000000000007,"Valid",-2,9.9,"Valid",6.9,null,null,8.3000000000000007,-2,9.9,6.9,9.9,6.9,8.3000000000000007,-2]
[2023,3,18,5,45003.208333332332,5.6,"Valid",-1.5,5.8,"Valid",6.9,null,null,5.6,-1.5,5.8,6.9,5.8,6.9,5.6,-1.5]
[2023,3,18,6,45003.249999998996,{"$f":"NA()","v":{"$error":"#N/A"}},"Invalid",{"$f":"NA()","v":{"$error":"#N/A"}},{"$f":"NA()","v":{"$error":"#N/A"}},"Invalid",{"$f":"NA()","v":{"$error":"#N/A"}},"Calibration Error","PM25 greater than PM10",{"$error":"#N/A"},{"$error":"#N/A"},{"$error":"#N/A"},{"$error":"#N/A"}]
[2023,3,18,7,45003.29166666566,4.3,"Valid",-0.4,7.1,"Valid",6.4,null,null,4.3,-0.4,7.1,6.4,7.1,6.4,4.3,-0.4]
[2023,3,18,8,45003.333333332324,-9.9,"Valid",-1.2,-3.7,"Valid",5.3,null,null,-9.9,-1.2,-3.7,5.3,-3.7,5.3,-9.9,-1.2]
[2023,3,18,9,45003.374999998989,-6.8,"Valid",-1.7,-4,"Valid",4.4000000000000004,null,null,-6.8,-1.7,-4,4.4000000000000004,-4,4.4000000000000004,-6.8,-1.7]
[2023,3,18,10,45003.416666665653,-7.1,"Valid",-1.4,-4.3,"Valid",4.3,null,null,-7.1,-1.4,-4.3,4.3,-4.3,4.3,-7.1,-1.4]
[2023,3,18,11,45003.458333332317,-6.4,"Valid",-1.6,2.8,"Valid",3.8,null,null,-6.4,-1.6,2.8,3.8,2.8,3.8,-6.4,-1.6]
[2023,3,18,12,45003.499999998981,-5.7,"Valid",-2.4,-0.6,"Valid",2.9,null,null,-5.7,-2.4,-0.6,2.9,-0.6,2.9,-5.7,-2.4]
[2023,3,18,13,45003.541666665646,31.8,"Valid",-1.5,40,"Valid",3.9,null,null,31.8,-1.5,40,3.9,40,3.9,31.8,-1.5]
[2023,3,18,14,45003.58333333231,{"$f":"NA()","v":{"$error":"#N/A"}},"Invalid",{"$f":"NA()","v":{"$error":"#N/A"}},{"$f":"NA()","v":{"$error":"#N/A"}},"Invalid",{"$f":"NA()","v":{"$error":"#N/A"}},"Calibration Error","PM25 below low cutoff value",{"$error":"#N/A"},{"$error":"#N/A"},{"$error":"#N/A"},{"$error":"#N/A"}]
[2023,3,18,15,45003.624999998974,1.5,"Valid",-0.8,11.4,"Valid",4.3,null,null,1.5,-0.8,11.4,4.3,11.4,4.3,1.5,-0.8]
[2023,3,18,16,45003.666666665638,-0.1,"Valid",-0.9,8.3000000000000007,"Valid",4.5999999999999996,null,null,-0.1,-0.9,8.3000000000000007,4.5999999999999996,8.3000000000000007,4.5999999999999996,-0.1,-0.9]
[2023,3,18,17,45003.708333332303,6.5,"Valid",-0.5,14.2,"Valid",4.9000000000000004,null,null,6.5,-0.5,14.2,4.9000000000000004,14.2,4.9000000000000004,6.5,-0.5]
[2023,3,18,18,45003.749999998967,-5.8,"Valid",-0.1,-4.5,"Valid",4.9000000000000004,null,null,-5.8,-0.1,-4.5,4.9000000000000004,-4.5,4.9000000000000004,-5.8,-0.1]
[2023,3,18,19,45003.791666665631,9.8000000000000007,"Valid",0.5,12,"Valid",5.4,null,null,9.8000000000000007,0.5,12,5.4,12,5.4,9.8000000000000007,0.5]
[2023,3,18,20,45003.833333332295,{"$f":"NA()","v":{"$error":"#N/A"}},"Invalid",{"$f":"NA()","v":{"$error":"#N/A"}},{"$f":"NA()","v":{"$error":"#N/A"}},"Invalid",{"$f":"NA()","v":{"$error":"#N/A"}},"Calibration Error","PM25 below low cutoff value",{"$error":"#N/A"},{"$error":"#N/A"},{"$error":"#N/A"},{"$error":"#N/A"}]
[2023,3,18,21,45003.87499999896,5,"Valid",1.3,12.8,"Valid",5.8,null,null,5,1.3,12.8,5.8,12.8,5.8,5,1.3]
[2023,3,18,22,45003.916666665624,{"$f":"NA()","v":{"$error":"#N/A"}},"Invalid",{"$f":"NA()","v":{"$error":"#N/A"}},{"$f":"NA()","v":{"$error":"#N/A"}},"Invalid",{"$f":"NA()","v":{"$error":"#N/A"}},"Calibration Error","PM25 below low cutoff value",{"$error":"#N/A"},{"$error":"#N/A"},{"$error":"#N/A"},{"$error":"#N/A"}]
[2023,3,18,23,45003.958333332288,21.4,"Valid",2,33.5,"Valid",7.7,null,null,21.4,2,33.5,7.7,33.5,7.7,21.4,2]
[2023,3,19,0,45003.999999998952,-2.2999999999999998,"Valid",1.9,2.7,"Valid",7.6,null,null,-2.2999999999999998,1.9,2.7,7.6,2.7,7.6,-2.2999999999999998,1.9]
[2023,3,19,1,45004.041666665617,16.100000000000001,"Valid",2.5,20.399999999999999,"Valid",8.1999999999999993,null,null,16.100000000000001,2.5,20.399999999999999,8.1999999999999993,20.399999999999999,8.1999999999999993,16.100000000000001,2.5]
[2023,3,19,2,45004.083333332281,{"$f":"NA()","v":{"$error":"#N/A"}},"Invalid",{"$f":"NA()","v":{"$error":"#N/A"}},{"$f":"NA()","v":{"$error":"#N/A"}},"Invalid",{"$f":"NA()","v":{"$error":"#N/A"}},"Calibration Error","PM25 below low cutoff value",{"$error":"#N/A"},{"$error":"#N/A"},{"$error":"#N/A"},{"$error":"#N/A"}]
[2023,3,19,3,45004.124999998945,-3.4,"Valid",0.7,2.9,"Valid",6.8,null,null,-3.4,0.7,2.9,6.8,2.9,6.8,-3.4,0.7]
[2023,3,19,4,45004.166666665609,-7.9,"Valid",0.1,-2.6,"Valid",6.2,null,null,-7.9,0.1,-2.6,6.2,-2.6,6.2,-7.9,0.1]
[2023,3,19,5,45004.208333332273,8.6999999999999993,"Valid",0.2,11.2,"Valid",6.4,null,null,8.6999999999999993,0.2,11.2,6.4,11.2,6.4,8.6999999999999993,0.2]
[2023,3,19,6,45004.249999998938,0.6,"Valid",-0.5,5.4,"Valid",6,null,null,0.6,-0.5,5.4,6,5.4,6,0.6,-0.5]
[2023,3,19,7,45004.291666665602,-8.6999999999999993,"Valid",-1,-0.8,"Valid",5.6,null,null,-8.6999999999999993,-1,-0.8,5.6,-0.8,5.6,-8.6999999999999993,-1]
[2023,3,19,8,45004.333333332266,6.8,"Valid",-0.3,13.5,"Valid",6.4,null,null,6.8,-0.3,13.5,6.4,13.5,6.4,6.8,-0.3]
[2023,3,19,9,45004.37499999893,-1.1000000000000001,"Valid",-0.1,8.6,"Valid",7,null,null,-1.1000000000000001,-0.1,8.6,7,8.6,7,-1.1000000000000001,-0.1]
[2023,3,19,10,45004.416666665595,9.3000000000000007,"Valid",0.6,21,"Valid",8.1999999999999993,null,null,9.3000000000000007,0.6,21,8.1999999999999993,21,8.1999999999999993,9.3000000000000007,0.6]
[2023,3,19,11,45004.458333332259,3.9,"Valid",1,24.4,"Valid",9.1999999999999993,null,null,3.9,1,24.4,9.1999999999999993,24.4,9.1999999999999993,3.9,1]
[2023,3,19,12,45004.499999998923,{"$f":"NA()","v":{"$error":"#N/A"}},"Invalid",{"$f":"NA()","v":{"$error":"#N/A"}},{"$f":"NA()","v":{"$error":"#N/A"}},"Invalid",{"$f":"NA()","v":{"$error":"#N/A"}},"Calibration Error","PM25 below low cutoff value",{"$error":"#N/A"},{"$error":"#N/A"},{"$error":"#N/A"},{"$error":"#N/A"}]
[2023,3,19,13,45004.541666665587,-6.2,"Valid",-2.1,0,"Valid",6.3,null,null,-6.2,-2.1,0,6.3,0,6.3,-6.2,-2.1]
[2023,3,19,14,45004.583333332252,0.4,"Valid",-1.6,7.9,"Valid",7,null,null,0.4,-1.6,7.9,7,7.9,7,0.4,-1.6]
[2023,3,19,15,45004.624999998916,-9.1,"Valid",-2,-2,"Valid",6.4,null,null,-9.1,-2,-2,6.4,-2,6.4,-9.1,-2]
[2023,3,19,16,45004.66666666558,10.6,"Valid",-1.6,19.2,"Valid",6.9,null,null,{"$f":"IF(G450=\"Valid\", F450, NA())","v":10.6},{"$f":"IF(G450=\"Valid\", H450, NA())","v":-1.6},{"$f":"IF(J450=\"Valid\", I450, NA())","v":19.2},{"$f":"IF(J450=\"Valid\", K450, NA())","v":6.9},19.2,6.9,10.6,-1.6]
[2023,3,19,17,45004.708333332244,-5.7,"Valid",-2.1,1,"Valid",6.4,null,null,-5.7,-2.1,1,6.4,1,6.4,-5.7,-2.1]
[{"$f":"A451","v":2023},3,19,{"$f":"IF(D451=23,0,D451+1)","v":18},{"$f":"E451+0.0416666666666666","v":45004.749999998909},9.1999999999999993,"Valid",-1.5,15.5,"Valid",7.2,null,null,9.1999999999999993,-1.5,15.5,7.2,15.5,7.2,9.1999999999999993,-1.5]
[2023,3,19,19,45004.791666665573,3.1,"Valid",-1.7,10.3,"Valid",7,null,null,3.1,-1.7,10.3,7,10.3,7,3.1,-1.7]
[2023,3,19,20,45004.833333332237,-2.2999999999999998,"Valid",-1.2,3.7,"Valid",7.4,null,null,-2.2999999999999998,-1.2,3.7,7.4,3.7,7.4,-2.2999999999999998,-1.2]
[2023,3,19,21,45004.874999998901,{"$f":"NA()","v":{"$error":"#N/A"}},"Invalid",{"$f":"NA()","v":{"$error":"#N/A"}},{"$f":"NA()","v":{"$error":"#N/A"}},"Invalid",{"$f":"NA()","v":{"$error":"#N/A"}},"Calibration Error","PM25 below low cutoff value",{"$error":"#N/A"},{"$error":"#N/A"},{"$error":"#N/A"},{"$error":"#N/A"}]
[2023,3,19,22,45004.916666665566,10.199999999999999,"Valid",-0.6,17.3,"Valid",7.1,null,null,10.199999999999999,-0.6,17.3,7.1,17.3,7.1,10.199999999999999,-0.6]
[2023,3,19,23,45004.95833333223,8.1999999999999993,"Valid",-1.2,14.2,"Valid",6.3,null,null,8.1999999999999993,-1.2,14.2,6.3,14.2,6.3,8.1999999999999993,-1.2]
[2023,3,20,0,45004.999999998894,{"$f":"NA()","v":{"$error":"#N/A"}},"Invalid",{"$f":"NA()","v":{"$error":"#N/A"}},{"$f":"NA()","v":{"$error":"#N/A"}},"Invalid",{"$f":"NA()","v":{"$error":"#N/A"}},"Calibration Error","Monitor operating with faults leading to PM2.5 > PM10 and/or results < threshold",{"$error":"#N/A"},{"$error":"#N/A"},{"$error":"#N/A"},{"$error":"#N/A"}]
[2023,3,20,1,45005.041666665558,{"$f":"NA()","v":{"$error":"#N/A"}},"Invalid",{"$f":"NA()","v":{"$error":"#N/A"}},{"$f":"NA()","v":{"$error":"#N/A"}},"Invalid",{"$f":"NA()","v":{"$error":"#N/A"}},"Calibration Error","As above",{"$error":"#N/A"},{"$error":"#N/A"},{"$error":"#N/A"},{"$error":"#N/A"}]
[2023,3,20,2,45005.083333332223,{"$f":"NA()","v":{"$error":"#N/A"}},"Invalid",{"$f":"NA()","v":{"$error":"#N/A"}},{"$f":"NA()","v":{"$error":"#N/A"}},"Invalid",{"$f":"NA()","v":{"$error":"#N/A"}},"Calibration Error","As above",{"$error":"#N/A"},{"$error":"#N/A"},{"$error":"#N/A"},{"$error":"#N/A"}]
[2023,3,20,3,45005.124999998887,{"$f":"NA()","v":{"$error":"#N/A"}},"Invalid",{"$f":"NA()","v":{"$error":"#N/A"}},{"$f":"NA()","v":{"$error":"#N/A"}},"Invalid",{"$f":"NA()","v":{"$error":"#N/A"}},"Calibration Error","As above",{"$error":"#N/A"},{"$error":"#N/A"},{"$error":"#N/A"},{"$error":"#N/A"}]
[2023,3,20,4,45005.166666665551,{"$f":"NA()","v":{"$error":"#N/A"}},"Invalid",{"$f":"NA()","v":{"$error":"#N/A"}},{"$f":"NA()","v":{"$error":"#N/A"}},"Invalid",{"$f":"NA()","v":{"$error":"#N/A"}},"Calibration Error","As above",{"$error":"#N/A"},{"$error":"#N/A"},{"$error":"#N/A"},{"$error":"#N/A"}]
[2023,3,20,5,45005.208333332215,{"$f":"NA()","v":{"$error":"#N/A"}},"Invalid",{"$f":"NA()","v":{"$error":"#N/A"}},{"$f":"NA()","v":{"$error":"#N/A"}},"Invalid",{"$f":"NA()","v":{"$error":"#N/A"}},"Calibration Error","As above",{"$error":"#N/A"},{"$error":"#N/A"},{"$error":"#N/A"},{"$error":"#N/A"}]
[2023,3,20,6,45005.24999999888,{"$f":"NA()","v":{"$error":"#N/A"}},"Invalid",{"$f":"NA()","v":{"$error":"#N/A"}},{"$f":"NA()","v":{"$error":"#N/A"}},"Invalid",{"$f":"NA()","v":{"$error":"#N/A"}},"Calibration Error","As above",{"$error":"#N/A"},{"$error":"#N/A"},{"$error":"#N/A"},{"$error":"#N/A"}]
[2023,3,20,7,45005.291666665544,{"$f":"NA()","v":{"$error":"#N/A"}},"Invalid",{"$f":"NA()","v":{"$error":"#N/A"}},{"$f":"NA()","v":{"$error":"#N/A"}},"Invalid",{"$f":"NA()","v":{"$error":"#N/A"}},"Calibration Error","As above",{"$error":"#N/A"},{"$error":"#N/A"},{"$error":"#N/A"},{"$error":"#N/A"}]
[2023,3,20,8,45005.333333332208,{"$f":"NA()","v":{"$error":"#N/A"}},"Invalid",{"$f":"NA()","v":{"$error":"#N/A"}},{"$f":"NA()","v":{"$error":"#N/A"}},"Invalid",{"$f":"NA()","v":{"$error":"#N/A"}},"Calibration Error","As above",{"$error":"#N/A"},{"$error":"#N/A"},{"$error":"#N/A"},{"$error":"#N/A"}]
[2023,3,20,9,45005.374999998872,{"$f":"NA()","v":{"$error":"#N/A"}},"Invalid",{"$f":"NA()","v":{"$error":"#N/A"}},{"$f":"NA()","v":{"$error":"#N/A"}},"Invalid",{"$f":"NA()","v":{"$error":"#N/A"}},"Calibration Error","As above",{"$error":"#N/A"},{"$error":"#N/A"},{"$error":"#N/A"},{"$error":"#N/A"}]
[2023,3,20,10,45005.416666665536,{"$f":"NA()","v":{"$error":"#N/A"}},"Invalid",{"$f":"NA()","v":{"$error":"#N/A"}},{"$f":"NA()","v":{"$error":"#N/A"}},"Invalid",{"$f":"NA()","v":{"$error":"#N/A"}},"Calibration Error","As above",{"$error":"#N/A"},{"$error":"#N/A"},{"$error":"#N/A"},{"$error":"#N/A"}]
[2023,3,20,11,45005.458333332201,{"$f":"NA()","v":{"$error":"#N/A"}},"Invalid",{"$f":"NA()","v":{"$error":"#N/A"}},{"$f":"NA()","v":{"$error":"#N/A"}},"Invalid",{"$f":"NA()","v":{"$error":"#N/A"}},"Calibration Error","As above",{"$error":"#N/A"},{"$error":"#N/A"},{"$error":"#N/A"},{"$error":"#N/A"}]
[2023,3,20,12,45005.499999998865,{"$f":"NA()","v":{"$error":"#N/A"}},"Invalid",{"$f":"NA()","v":{"$error":"#N/A"}},{"$f":"NA()","v":{"$error":"#N/A"}},"Invalid",{"$f":"NA()","v":{"$error":"#N/A"}},"Calibration Error","As above",{"$error":"#N/A"},{"$error":"#N/A"},{"$error":"#N/A"},{"$error":"#N/A"}]
[2023,3,20,13,45005.541666665529,{"$f":"NA()","v":{"$error":"#N/A"}},"Invalid",{"$f":"NA()","v":{"$error":"#N/A"}},{"$f":"NA()","v":{"$error":"#N/A"}},"Invalid",{"$f":"NA()","v":{"$error":"#N/A"}},"Calibration Error","As above",{"$error":"#N/A"},{"$error":"#N/A"},{"$error":"#N/A"},{"$error":"#N/A"}]
[2023,3,20,14,45005.583333332193,{"$f":"NA()","v":{"$error":"#N/A"}},"Invalid",{"$f":"NA()","v":{"$error":"#N/A"}},{"$f":"NA()","v":{"$error":"#N/A"}},"Invalid",{"$f":"NA()","v":{"$error":"#N/A"}},"Calibration Error","As above",{"$error":"#N/A"},{"$error":"#N/A"},{"$error":"#N/A"},{"$error":"#N/A"}]
[2023,3,20,15,45005.624999998858,{"$f":"NA()","v":{"$error":"#N/A"}},"Invalid",{"$f":"NA()","v":{"$error":"#N/A"}},{"$f":"NA()","v":{"$error":"#N/A"}},"Invalid",{"$f":"NA()","v":{"$error":"#N/A"}},"Calibration Error","As above",{"$error":"#N/A"},{"$error":"#N/A"},{"$error":"#N/A"},{"$error":"#N/A"}]
[2023,3,20,16,45005.666666665522,{"$f":"NA()","v":{"$error":"#N/A"}},"Invalid",{"$f":"NA()","v":{"$error":"#N/A"}},{"$f":"NA()","v":{"$error":"#N/A"}},"Invalid",{"$f":"NA()","v":{"$error":"#N/A"}},"Calibration Error","As above",{"$error":"#N/A"},{"$error":"#N/A"},{"$error":"#N/A"},{"$error":"#N/A"}]
[2023,{"$f":"B474","v":3},{"$f":"C451+1","v":20},17,45005.708333332186,{"$f":"NA()","v":{"$error":"#N/A"}},"Invalid",{"$f":"NA()","v":{"$error":"#N/A"}},{"$f":"NA()","v":{"$error":"#N/A"}},"Invalid",{"$f":"NA()","v":{"$error":"#N/A"}},"Calibration Error","As above",{"$error":"#N/A"},{"$error":"#N/A"},{"$error":"#N/A"},{"$error":"#N/A"}]
[2023,3,20,18,45005.74999999885,{"$f":"NA()","v":{"$error":"#N/A"}},"Invalid",{"$f":"NA()","v":{"$error":"#N/A"}},{"$f":"NA()","v":{"$error":"#N/A"}},"Invalid",{"$f":"NA()","v":{"$error":"#N/A"}},"Calibration Error","As above",{"$error":"#N/A"},{"$error":"#N/A"},{"$error":"#N/A"},{"$error":"#N/A"}]
[2023,3,20,19,45005.791666665515,{"$f":"NA()","v":{"$error":"#N/A"}},"Invalid",{"$f":"NA()","v":{"$error":"#N/A"}},{"$f":"NA()","v":{"$error":"#N/A"}},"Invalid",{"$f":"NA()","v":{"$error":"#N/A"}},"Calibration Error","As above",{"$error":"#N/A"},{"$error":"#N/A"},{"$error":"#N/A"},{"$error":"#N/A"}]
[2023,3,20,20,45005.833333332179,{"$f":"NA()","v":{"$error":"#N/A"}},"Invalid",{"$f":"NA()","v":{"$error":"#N/A"}},{"$f":"NA()","v":{"$error":"#N/A"}},"Invalid",{"$f":"NA()","v":{"$error":"#N/A"}},"Calibration Error","As above",{"$error":"#N/A"},{"$error":"#N/A"},{"$error":"#N/A"},{"$error":"#N/A"}]
[2023,3,20,21,45005.874999998843,{"$f":"NA()","v":{"$error":"#N/A"}},"Invalid",{"$f":"NA()","v":{"$error":"#N/A"}},{"$f":"NA()","v":{"$error":"#N/A"}},"Invalid",{"$f":"NA()","v":{"$error":"#N/A"}},"Calibration Error","As above",{"$error":"#N/A"},{"$error":"#N/A"},{"$error":"#N/A"},{"$error":"#N/A"}]
[2023,3,20,22,45005.916666665507,{"$f":"NA()","v":{"$error":"#N/A"}},"Invalid",{"$f":"NA()","v":{"$error":"#N/A"}},{"$f":"NA()","v":{"$error":"#N/A"}},"Invalid",{"$f":"NA()","v":{"$error":"#N/A"}},"Calibration Error","As above",{"$error":"#N/A"},{"$error":"#N/A"},{"$error":"#N/A"},{"$error":"#N/A"}]
[2023,3,20,23,45005.958333332172,{"$f":"NA()","v":{"$error":"#N/A"}},"Invalid",{"$f":"NA()","v":{"$error":"#N/A"}},{"$f":"NA()","v":{"$error":"#N/A"}},"Invalid",{"$f":"NA()","v":{"$error":"#N/A"}},"Calibration Error","As above",{"$error":"#N/A"},{"$error":"#N/A"},{"$error":"#N/A"},{"$error":"#N/A"}]
[2023,3,21,0,45005.999999998836,{"$f":"NA()","v":{"$error":"#N/A"}},"Invalid",{"$f":"NA()","v":{"$error":"#N/A"}},{"$f":"NA()","v":{"$error":"#N/A"}},"Invalid",{"$f":"NA()","v":{"$error":"#N/A"}},"Calibration Error","As above",{"$error":"#N/A"},{"$error":"#N/A"},{"$error":"#N/A"},{"$error":"#N/A"}]
[2023,3,21,1,45006.0416666655,{"$f":"NA()","v":{"$error":"#N/A"}},"Invalid",{"$f":"NA()","v":{"$error":"#N/A"}},{"$f":"NA()","v":{"$error":"#N/A"}},"Invalid",{"$f":"NA()","v":{"$error":"#N/A"}},"Calibration Error","As above",{"$error":"#N/A"},{"$error":"#N/A"},{"$error":"#N/A"},{"$error":"#N/A"}]
[2023,3,21,2,45006.083333332164,{"$f":"NA()","v":{"$error":"#N/A"}},"Invalid",{"$f":"NA()","v":{"$error":"#N/A"}},{"$f":"NA()","v":{"$error":"#N/A"}},"Invalid",{"$f":"NA()","v":{"$error":"#N/A"}},"Calibration Error","As above",{"$error":"#N/A"},{"$error":"#N/A"},{"$error":"#N/A"},{"$error":"#N/A"}]
[2023,3,21,3,45006.124999998829,{"$f":"NA()","v":{"$error":"#N/A"}},"Invalid",{"$f":"NA()","v":{"$error":"#N/A"}},{"$f":"NA()","v":{"$error":"#N/A"}},"Invalid",{"$f":"NA()","v":{"$error":"#N/A"}},"Calibration Error","As above",{"$error":"#N/A"},{"$error":"#N/A"},{"$error":"#N/A"},{"$error":"#N/A"}]
[2023,3,21,4,45006.166666665493,{"$f":"NA()","v":{"$error":"#N/A"}},"Invalid",{"$f":"NA()","v":{"$error":"#N/A"}},{"$f":"NA()","v":{"$error":"#N/A"}},"Invalid",{"$f":"NA()","v":{"$error":"#N/A"}},"Calibration Error","As above",{"$error":"#N/A"},{"$error":"#N/A"},{"$error":"#N/A"},{"$error":"#N/A"}]
[2023,3,21,5,45006.208333332157,{"$f":"NA()","v":{"$error":"#N/A"}},"Invalid",{"$f":"NA()","v":{"$error":"#N/A"}},{"$f":"NA()","v":{"$error":"#N/A"}},"Invalid",{"$f":"NA()","v":{"$error":"#N/A"}},"Calibration Error","As above",{"$error":"#N/A"},{"$error":"#N/A"},{"$error":"#N/A"},{"$error":"#N/A"}]
[2023,3,21,6,45006.249999998821,{"$f":"NA()","v":{"$error":"#N/A"}},"Invalid",{"$f":"NA()","v":{"$error":"#N/A"}},{"$f":"NA()","v":{"$error":"#N/A"}},"Invalid",{"$f":"NA()","v":{"$error":"#N/A"}},"Calibration Error","As above",{"$error":"#N/A"},{"$error":"#N/A"},{"$error":"#N/A"},{"$error":"#N/A"}]
[2023,3,21,7,45006.291666665486,{"$f":"NA()","v":{"$error":"#N/A"}},"Invalid",{"$f":"NA()","v":{"$error":"#N/A"}},{"$f":"NA()","v":{"$error":"#N/A"}},"Invalid",{"$f":"NA()","v":{"$error":"#N/A"}},"Calibration Error","As above",{"$error":"#N/A"},{"$error":"#N/A"},{"$error":"#N/A"},{"$error":"#N/A"}]
[2023,3,21,8,45006.33333333215,{"$f":"NA()","v":{"$error":"#N/A"}},"Invalid",{"$f":"NA()","v":{"$error":"#N/A"}},{"$f":"NA()","v":{"$error":"#N/A"}},"Invalid",{"$f":"NA()","v":{"$error":"#N/A"}},"Calibration Error","As above",{"$error":"#N/A"},{"$error":"#N/A"},{"$error":"#N/A"},{"$error":"#N/A"}]
[2023,3,21,9,45006.374999998814,{"$f":"NA()","v":{"$error":"#N/A"}},"Invalid",{"$f":"NA()","v":{"$error":"#N/A"}},{"$f":"NA()","v":{"$error":"#N/A"}},"Invalid",{"$f":"NA()","v":{"$error":"#N/A"}},"Power failure","no data",{"$error":"#N/A"},{"$error":"#N/A"},{"$error":"#N/A"},{"$error":"#N/A"}]
[2023,3,21,10,45006.416666665478,{"$f":"NA()","v":{"$error":"#N/A"}},"Invalid",{"$f":"NA()","v":{"$error":"#N/A"}},{"$f":"NA()","v":{"$error":"#N/A"}},"Invalid",{"$f":"NA()","v":{"$error":"#N/A"}},"Power failure","no data",{"$error":"#N/A"},{"$error":"#N/A"},{"$error":"#N/A"},{"$error":"#N/A"}]
[2023,3,21,11,45006.458333332143,{"$f":"NA()","v":{"$error":"#N/A"}},"Invalid",{"$f":"NA()","v":{"$error":"#N/A"}},{"$f":"NA()","v":{"$error":"#N/A"}},"Invalid",{"$f":"NA()","v":{"$error":"#N/A"}},"Power failure","no data",{"$error":"#N/A"},{"$error":"#N/A"},{"$error":"#N/A"},{"$error":"#N/A"}]
[2023,3,21,12,45006.499999998807,{"$f":"NA()","v":{"$error":"#N/A"}},"Invalid",{"$f":"NA()","v":{"$error":"#N/A"}},{"$f":"NA()","v":{"$error":"#N/A"}},"Invalid",{"$f":"NA()","v":{"$error":"#N/A"}},"Power failure","no data",{"$error":"#N/A"},{"$error":"#N/A"},{"$error":"#N/A"},{"$error":"#N/A"}]
[2023,3,21,13,45006.541666665471,{"$f":"NA()","v":{"$error":"#N/A"}},"Invalid",{"$f":"NA()","v":{"$error":"#N/A"}},{"$f":"NA()","v":{"$error":"#N/A"}},"Invalid",{"$f":"NA()","v":{"$error":"#N/A"}},"Power failure","no data",{"$error":"#N/A"},{"$error":"#N/A"},{"$error":"#N/A"},{"$error":"#N/A"}]
[2023,3,21,14,45006.583333332135,{"$f":"NA()","v":{"$error":"#N/A"}},"Invalid",{"$f":"NA()","v":{"$error":"#N/A"}},{"$f":"NA()","v":{"$error":"#N/A"}},"Invalid",{"$f":"NA()","v":{"$error":"#N/A"}},"Power failure","no data",{"$error":"#N/A"},{"$error":"#N/A"},{"$error":"#N/A"},{"$error":"#N/A"}]
[2023,3,21,15,45006.624999998799,{"$f":"NA()","v":{"$error":"#N/A"}},"Invalid",{"$f":"NA()","v":{"$error":"#N/A"}},{"$f":"NA()","v":{"$error":"#N/A"}},"Invalid",{"$f":"NA()","v":{"$error":"#N/A"}},"Power failure","no data",{"$error":"#N/A"},{"$error":"#N/A"},{"$error":"#N/A"},{"$error":"#N/A"}]
[2023,3,21,16,45006.666666665464,{"$f":"NA()","v":{"$error":"#N/A"}},"Invalid",{"$f":"NA()","v":{"$error":"#N/A"}},{"$f":"NA()","v":{"$error":"#N/A"}},"Invalid",{"$f":"NA()","v":{"$error":"#N/A"}},"Power failure","no data",{"$error":"#N/A"},{"$error":"#N/A"},{"$error":"#N/A"},{"$error":"#N/A"}]
[2023,3,21,17,45006.708333332128,{"$f":"NA()","v":{"$error":"#N/A"}},"Invalid",{"$f":"NA()","v":{"$error":"#N/A"}},{"$f":"NA()","v":{"$error":"#N/A"}},"Invalid",{"$f":"NA()","v":{"$error":"#N/A"}},"Power failure","no data",{"$error":"#N/A"},{"$error":"#N/A"},{"$error":"#N/A"},{"$error":"#N/A"}]
[2023,3,21,18,45006.749999998792,{"$f":"NA()","v":{"$error":"#N/A"}},"Invalid",{"$f":"NA()","v":{"$error":"#N/A"}},{"$f":"NA()","v":{"$error":"#N/A"}},"Invalid",{"$f":"NA()","v":{"$error":"#N/A"}},"Power failure","no data",{"$error":"#N/A"},{"$error":"#N/A"},{"$error":"#N/A"},{"$error":"#N/A"}]
[2023,3,21,19,45006.791666665456,{"$f":"NA()","v":{"$error":"#N/A"}},"Invalid",{"$f":"NA()","v":{"$error":"#N/A"}},{"$f":"NA()","v":{"$error":"#N/A"}},"Invalid",{"$f":"NA()","v":{"$error":"#N/A"}},"Power failure","no data",{"$error":"#N/A"},{"$error":"#N/A"},{"$error":"#N/A"},{"$error":"#N/A"}]
[2023,3,21,20,45006.833333332121,{"$f":"NA()","v":{"$error":"#N/A"}},"Invalid",{"$f":"NA()","v":{"$error":"#N/A"}},{"$f":"NA()","v":{"$error":"#N/A"}},"Invalid",{"$f":"NA()","v":{"$error":"#N/A"}},"Calibration Error","Monitor operating with faults leading to PM2.5 > PM10 and/or results < threshold",{"$error":"#N/A"},{"$error":"#N/A"},{"$error":"#N/A"},{"$error":"#N/A"}]
[2023,3,21,21,45006.874999998785,{"$f":"NA()","v":{"$error":"#N/A"}},"Invalid",{"$f":"NA()","v":{"$error":"#N/A"}},{"$f":"NA()","v":{"$error":"#N/A"}},"Invalid",{"$f":"NA()","v":{"$error":"#N/A"}},"Calibration Error","As above",{"$error":"#N/A"},{"$error":"#N/A"},{"$error":"#N/A"},{"$error":"#N/A"}]
[2023,3,21,22,45006.916666665449,{"$f":"NA()","v":{"$error":"#N/A"}},"Invalid",{"$f":"NA()","v":{"$error":"#N/A"}},{"$f":"NA()","v":{"$error":"#N/A"}},"Invalid",{"$f":"NA()","v":{"$error":"#N/A"}},"Calibration Error","As above",{"$error":"#N/A"},{"$error":"#N/A"},{"$error":"#N/A"},{"$error":"#N/A"}]
[2023,3,21,23,45006.958333332113,{"$f":"NA()","v":{"$error":"#N/A"}},"Invalid",{"$f":"NA()","v":{"$error":"#N/A"}},{"$f":"NA()","v":{"$error":"#N/A"}},"Invalid",{"$f":"NA()","v":{"$error":"#N/A"}},"Calibration Error","As above",{"$error":"#N/A"},{"$error":"#N/A"},{"$error":"#N/A"},{"$error":"#N/A"}]
[2023,3,22,0,45006.999999998778,{"$f":"NA()","v":{"$error":"#N/A"}},"Invalid",{"$f":"NA()","v":{"$error":"#N/A"}},{"$f":"NA()","v":{"$error":"#N/A"}},"Invalid",{"$f":"NA()","v":{"$error":"#N/A"}},"Calibration Error","As above",{"$error":"#N/A"},{"$error":"#N/A"},{"$error":"#N/A"},{"$error":"#N/A"}]
[2023,3,22,1,45007.041666665442,{"$f":"NA()","v":{"$error":"#N/A"}},"Invalid",{"$f":"NA()","v":{"$error":"#N/A"}},{"$f":"NA()","v":{"$error":"#N/A"}},"Invalid",{"$f":"NA()","v":{"$error":"#N/A"}},"Calibration Error","As above",{"$error":"#N/A"},{"$error":"#N/A"},{"$error":"#N/A"},{"$error":"#N/A"}]
[2023,3,22,2,45007.083333332106,{"$f":"NA()","v":{"$error":"#N/A"}},"Invalid",{"$f":"NA()","v":{"$error":"#N/A"}},{"$f":"NA()","v":{"$error":"#N/A"}},"Invalid",{"$f":"NA()","v":{"$error":"#N/A"}},"Calibration Error","As above",{"$error":"#N/A"},{"$error":"#N/A"},{"$error":"#N/A"},{"$error":"#N/A"}]
[2023,3,22,3,45007.12499999877,{"$f":"NA()","v":{"$error":"#N/A"}},"Invalid",{"$f":"NA()","v":{"$error":"#N/A"}},{"$f":"NA()","v":{"$error":"#N/A"}},"Invalid",{"$f":"NA()","v":{"$error":"#N/A"}},"Calibration Error","As above",{"$error":"#N/A"},{"$error":"#N/A"},{"$error":"#N/A"},{"$error":"#N/A"}]
[2023,3,22,4,45007.166666665435,{"$f":"NA()","v":{"$error":"#N/A"}},"Invalid",{"$f":"NA()","v":{"$error":"#N/A"}},{"$f":"NA()","v":{"$error":"#N/A"}},"Invalid",{"$f":"NA()","v":{"$error":"#N/A"}},"Calibration Error","As above",{"$error":"#N/A"},{"$error":"#N/A"},{"$error":"#N/A"},{"$error":"#N/A"}]
[2023,3,22,5,45007.208333332099,{"$f":"NA()","v":{"$error":"#N/A"}},"Invalid",{"$f":"NA()","v":{"$error":"#N/A"}},{"$f":"NA()","v":{"$error":"#N/A"}},"Invalid",{"$f":"NA()","v":{"$error":"#N/A"}},"Calibration Error","As above",{"$error":"#N/A"},{"$error":"#N/A"},{"$error":"#N/A"},{"$error":"#N/A"}]
[2023,3,22,6,45007.249999998763,{"$f":"NA()","v":{"$error":"#N/A"}},"Invalid",{"$f":"NA()","v":{"$error":"#N/A"}},{"$f":"NA()","v":{"$error":"#N/A"}},"Invalid",{"$f":"NA()","v":{"$error":"#N/A"}},"Calibration Error","As above",{"$error":"#N/A"},{"$error":"#N/A"},{"$error":"#N/A"},{"$error":"#N/A"}]
[2023,3,22,7,45007.291666665427,{"$f":"NA()","v":{"$error":"#N/A"}},"Invalid",{"$f":"NA()","v":{"$error":"#N/A"}},{"$f":"NA()","v":{"$error":"#N/A"}},"Invalid",{"$f":"NA()","v":{"$error":"#N/A"}},"Calibration Error","As above",{"$error":"#N/A"},{"$error":"#N/A"},{"$error":"#N/A"},{"$error":"#N/A"}]
[2023,3,22,8,45007.333333332092,{"$f":"NA()","v":{"$error":"#N/A"}},"Invalid",{"$f":"NA()","v":{"$error":"#N/A"}},{"$f":"NA()","v":{"$error":"#N/A"}},"Invalid",{"$f":"NA()","v":{"$error":"#N/A"}},"Calibration Error","As above",{"$f":"IF(G514=\"Valid\", F514, NA())","v":{"$error":"#N/A"}},{"$f":"IF(G514=\"Valid\", H514, NA())","v":{"$error":"#N/A"}},{"$f":"IF(J514=\"Valid\", I514, NA())","v":{"$error":"#N/A"}},{"$f":"IF(J514=\"Valid\", K514, NA())","v":{"$error":"#N/A"}}]
[2023,3,22,9,45007.374999998756,{"$f":"NA()","v":{"$error":"#N/A"}},"Invalid",{"$f":"NA()","v":{"$error":"#N/A"}},{"$f":"NA()","v":{"$error":"#N/A"}},"Invalid",{"$f":"NA()","v":{"$error":"#N/A"}},"Calibration Error","As above",{"$error":"#N/A"},{"$error":"#N/A"},{"$error":"#N/A"},{"$error":"#N/A"}]
[{"$f":"A515","v":2023},3,22,{"$f":"IF(D515=23,0,D515+1)","v":10},{"$f":"E515+0.0416666666666666","v":45007.41666666542},{"$f":"NA()","v":{"$error":"#N/A"}},"Invalid",{"$f":"NA()","v":{"$error":"#N/A"}},{"$f":"NA()","v":{"$error":"#N/A"}},"Invalid",{"$f":"NA()","v":{"$error":"#N/A"}},"Calibration Error","Maintenance",{"$error":"#N/A"},{"$error":"#N/A"},{"$error":"#N/A"},{"$error":"#N/A"}]
[2023,3,22,11,45007.458333332084,{"$f":"NA()","v":{"$error":"#N/A"}},"Invalid",{"$f":"NA()","v":{"$error":"#N/A"}},{"$f":"NA()","v":{"$error":"#N/A"}},"Invalid",{"$f":"NA()","v":{"$error":"#N/A"}},"Calibration Error","Maintenance",{"$error":"#N/A"},{"$error":"#N/A"},{"$error":"#N/A"},{"$error":"#N/A"}]
[2023,3,22,12,45007.499999998749,{"$f":"NA()","v":{"$error":"#N/A"}},"Invalid",{"$f":"NA()","v":{"$error":"#N/A"}},{"$f":"NA()","v":{"$error":"#N/A"}},"Invalid",{"$f":"NA()","v":{"$error":"#N/A"}},"Power failure","Maintenance",{"$error":"#N/A"},{"$error":"#N/A"},{"$error":"#N/A"},{"$error":"#N/A"}]
[2023,3,22,13,45007.541666665413,{"$f":"NA()","v":{"$error":"#N/A"}},"Invalid",{"$f":"NA()","v":{"$error":"#N/A"}},{"$f":"NA()","v":{"$error":"#N/A"}},"Invalid",{"$f":"NA()","v":{"$error":"#N/A"}},"Power failure","Maintenance",{"$error":"#N/A"},{"$error":"#N/A"},{"$error":"#N/A"},{"$error":"#N/A"}]
[2023,3,22,14,45007.583333332077,{"$f":"NA()","v":{"$error":"#N/A"}},"Invalid",{"$f":"NA()","v":{"$error":"#N/A"}},{"$f":"NA()","v":{"$error":"#N/A"}},"Invalid",{"$f":"NA()","v":{"$error":"#N/A"}},"Power failure","Maintenance",{"$error":"#N/A"},{"$error":"#N/A"},{"$error":"#N/A"},{"$error":"#N/A"}]
[2023,3,22,15,45007.624999998741,{"$f":"NA()","v":{"$error":"#N/A"}},"Invalid",{"$f":"NA()","v":{"$error":"#N/A"}},{"$f":"NA()","v":{"$error":"#N/A"}},"Invalid",{"$f":"NA()","v":{"$error":"#N/A"}},"Power failure","Maintenance",{"$error":"#N/A"},{"$error":"#N/A"},{"$error":"#N/A"},{"$error":"#N/A"}]
[2023,3,22,16,45007.666666665406,{"$f":"NA()","v":{"$error":"#N/A"}},"Invalid",{"$f":"NA()","v":{"$error":"#N/A"}},{"$f":"NA()","v":{"$error":"#N/A"}},"Invalid",{"$f":"NA()","v":{"$error":"#N/A"}},"Power failure","Maintenance",{"$error":"#N/A"},{"$error":"#N/A"},{"$error":"#N/A"},{"$error":"#N/A"}]
[2023,3,22,17,45007.70833333207,{"$f":"NA()","v":{"$error":"#N/A"}},"Invalid",{"$f":"NA()","v":{"$error":"#N/A"}},{"$f":"NA()","v":{"$error":"#N/A"}},"Invalid",{"$f":"NA()","v":{"$error":"#N/A"}},"Power failure","Maintenance",{"$error":"#N/A"},{"$error":"#N/A"},{"$error":"#N/A"},{"$error":"#N/A"}]
[2023,3,22,18,45007.749999998734,{"$f":"NA()","v":{"$error":"#N/A"}},"Invalid",{"$f":"NA()","v":{"$error":"#N/A"}},{"$f":"NA()","v":{"$error":"#N/A"}},"Invalid",{"$f":"NA()","v":{"$error":"#N/A"}},"Power failure","Maintenance",{"$error":"#N/A"},{"$error":"#N/A"},{"$error":"#N/A"},{"$error":"#N/A"}]
[2023,3,22,19,45007.791666665398,{"$f":"NA()","v":{"$error":"#N/A"}},"Invalid",{"$f":"NA()","v":{"$error":"#N/A"}},{"$f":"NA()","v":{"$error":"#N/A"}},"Invalid",{"$f":"NA()","v":{"$error":"#N/A"}},"Calibration Error","Monitor operating with faults leading to PM2.5 > PM10 and/or results < threshold",{"$error":"#N/A"},{"$error":"#N/A"},{"$error":"#N/A"},{"$error":"#N/A"}]
[2023,3,22,20,45007.833333332062,{"$f":"NA()","v":{"$error":"#N/A"}},"Invalid",{"$f":"NA()","v":{"$error":"#N/A"}},{"$f":"NA()","v":{"$error":"#N/A"}},"Invalid",{"$f":"NA()","v":{"$error":"#N/A"}},"Calibration Error","As above",{"$error":"#N/A"},{"$error":"#N/A"},{"$error":"#N/A"},{"$error":"#N/A"}]
[2023,3,22,21,45007.874999998727,{"$f":"NA()","v":{"$error":"#N/A"}},"Invalid",{"$f":"NA()","v":{"$error":"#N/A"}},{"$f":"NA()","v":{"$error":"#N/A"}},"Invalid",{"$f":"NA()","v":{"$error":"#N/A"}},"Calibration Error","As above",{"$error":"#N/A"},{"$error":"#N/A"},{"$error":"#N/A"},{"$error":"#N/A"}]
[2023,3,22,22,45007.916666665391,{"$f":"NA()","v":{"$error":"#N/A"}},"Invalid",{"$f":"NA()","v":{"$error":"#N/A"}},{"$f":"NA()","v":{"$error":"#N/A"}},"Invalid",{"$f":"NA()","v":{"$error":"#N/A"}},"Calibration Error","As above",{"$error":"#N/A"},{"$error":"#N/A"},{"$error":"#N/A"},{"$error":"#N/A"}]
[2023,3,22,23,45007.958333332055,{"$f":"NA()","v":{"$error":"#N/A"}},"Invalid",{"$f":"NA()","v":{"$error":"#N/A"}},{"$f":"NA()","v":{"$error":"#N/A"}},"Invalid",{"$f":"NA()","v":{"$error":"#N/A"}},"Calibration Error","As above",{"$error":"#N/A"},{"$error":"#N/A"},{"$error":"#N/A"},{"$error":"#N/A"}]
[2023,3,23,0,45007.999999998719,{"$f":"NA()","v":{"$error":"#N/A"}},"Invalid",{"$f":"NA()","v":{"$error":"#N/A"}},{"$f":"NA()","v":{"$error":"#N/A"}},"Invalid",{"$f":"NA()","v":{"$error":"#N/A"}},"Calibration Error","As above",{"$error":"#N/A"},{"$error":"#N/A"},{"$error":"#N/A"},{"$error":"#N/A"}]
[2023,3,23,1,45008.041666665384,{"$f":"NA()","v":{"$error":"#N/A"}},"Invalid",{"$f":"NA()","v":{"$error":"#N/A"}},{"$f":"NA()","v":{"$error":"#N/A"}},"Invalid",{"$f":"NA()","v":{"$error":"#N/A"}},"Calibration Error","As above",{"$error":"#N/A"},{"$error":"#N/A"},{"$error":"#N/A"},{"$error":"#N/A"}]
[2023,3,23,2,45008.083333332048,{"$f":"NA()","v":{"$error":"#N/A"}},"Invalid",{"$f":"NA()","v":{"$error":"#N/A"}},{"$f":"NA()","v":{"$error":"#N/A"}},"Invalid",{"$f":"NA()","v":{"$error":"#N/A"}},"Calibration Error","As above",{"$error":"#N/A"},{"$error":"#N/A"},{"$error":"#N/A"},{"$error":"#N/A"}]
[2023,3,23,3,45008.124999998712,{"$f":"NA()","v":{"$error":"#N/A"}},"Invalid",{"$f":"NA()","v":{"$error":"#N/A"}},{"$f":"NA()","v":{"$error":"#N/A"}},"Invalid",{"$f":"NA()","v":{"$error":"#N/A"}},"Calibration Error","As above",{"$error":"#N/A"},{"$error":"#N/A"},{"$error":"#N/A"},{"$error":"#N/A"}]
[2023,3,23,4,45008.166666665376,{"$f":"NA()","v":{"$error":"#N/A"}},"Invalid",{"$f":"NA()","v":{"$error":"#N/A"}},{"$f":"NA()","v":{"$error":"#N/A"}},"Invalid",{"$f":"NA()","v":{"$error":"#N/A"}},"Calibration Error","As above",{"$error":"#N/A"},{"$error":"#N/A"},{"$error":"#N/A"},{"$error":"#N/A"}]
[2023,3,23,5,45008.208333332041,{"$f":"NA()","v":{"$error":"#N/A"}},"Invalid",{"$f":"NA()","v":{"$error":"#N/A"}},{"$f":"NA()","v":{"$error":"#N/A"}},"Invalid",{"$f":"NA()","v":{"$error":"#N/A"}},"Calibration Error","As above",{"$error":"#N/A"},{"$error":"#N/A"},{"$error":"#N/A"},{"$error":"#N/A"}]
[2023,3,23,6,45008.249999998705,{"$f":"NA()","v":{"$error":"#N/A"}},"Invalid",{"$f":"NA()","v":{"$error":"#N/A"}},{"$f":"NA()","v":{"$error":"#N/A"}},"Invalid",{"$f":"NA()","v":{"$error":"#N/A"}},"Calibration Error","As above",{"$error":"#N/A"},{"$error":"#N/A"},{"$error":"#N/A"},{"$error":"#N/A"}]
[2023,3,23,7,45008.291666665369,{"$f":"NA()","v":{"$error":"#N/A"}},"Invalid",{"$f":"NA()","v":{"$error":"#N/A"}},{"$f":"NA()","v":{"$error":"#N/A"}},"Invalid",{"$f":"NA()","v":{"$error":"#N/A"}},"Calibration Error","As above",{"$error":"#N/A"},{"$error":"#N/A"},{"$error":"#N/A"},{"$error":"#N/A"}]
[2023,3,23,8,45008.333333332033,{"$f":"NA()","v":{"$error":"#N/A"}},"Invalid",{"$f":"NA()","v":{"$error":"#N/A"}},{"$f":"NA()","v":{"$error":"#N/A"}},"Invalid",{"$f":"NA()","v":{"$error":"#N/A"}},"Calibration Error","As above",{"$error":"#N/A"},{"$error":"#N/A"},{"$error":"#N/A"},{"$error":"#N/A"}]
[2023,{"$f":"B538","v":3},{"$f":"C515+1","v":23},9,45008.374999998698,{"$f":"NA()","v":{"$error":"#N/A"}},"Invalid",{"$f":"NA()","v":{"$error":"#N/A"}},{"$f":"NA()","v":{"$error":"#N/A"}},"Invalid",{"$f":"NA()","v":{"$error":"#N/A"}},"Calibration Error","As above",{"$error":"#N/A"},{"$error":"#N/A"},{"$error":"#N/A"},{"$error":"#N/A"}]
[2023,3,23,10,45008.416666665362,{"$f":"NA()","v":{"$error":"#N/A"}},"Invalid",{"$f":"NA()","v":{"$error":"#N/A"}},{"$f":"NA()","v":{"$error":"#N/A"}},"Invalid",{"$f":"NA()","v":{"$error":"#N/A"}},"Calibration Error","As above",{"$error":"#N/A"},{"$error":"#N/A"},{"$error":"#N/A"},{"$error":"#N/A"}]
[2023,3,23,11,45008.458333332026,{"$f":"NA()","v":{"$error":"#N/A"}},"Invalid",{"$f":"NA()","v":{"$error":"#N/A"}},{"$f":"NA()","v":{"$error":"#N/A"}},"Invalid",{"$f":"NA()","v":{"$error":"#N/A"}},"Calibration Error","As above",{"$error":"#N/A"},{"$error":"#N/A"},{"$error":"#N/A"},{"$error":"#N/A"}]
[2023,3,23,12,45008.49999999869,{"$f":"NA()","v":{"$error":"#N/A"}},"Invalid",{"$f":"NA()","v":{"$error":"#N/A"}},{"$f":"NA()","v":{"$error":"#N/A"}},"Invalid",{"$f":"NA()","v":{"$error":"#N/A"}},"Calibration Error","As above",{"$error":"#N/A"},{"$error":"#N/A"},{"$error":"#N/A"},{"$error":"#N/A"}]
[2023,3,23,13,45008.541666665355,{"$f":"NA()","v":{"$error":"#N/A"}},"Invalid",{"$f":"NA()","v":{"$error":"#N/A"}},{"$f":"NA()","v":{"$error":"#N/A"}},"Invalid",{"$f":"NA()","v":{"$error":"#N/A"}},"Calibration Error","As above",{"$error":"#N/A"},{"$error":"#N/A"},{"$error":"#N/A"},{"$error":"#N/A"}]
[2023,3,23,14,45008.583333332019,{"$f":"NA()","v":{"$error":"#N/A"}},"Invalid",{"$f":"NA()","v":{"$error":"#N/A"}},{"$f":"NA()","v":{"$error":"#N/A"}},"Invalid",{"$f":"NA()","v":{"$error":"#N/A"}},"Calibration Error","As above",{"$error":"#N/A"},{"$error":"#N/A"},{"$error":"#N/A"},{"$error":"#N/A"}]
[2023,3,23,15,45008.624999998683,{"$f":"NA()","v":{"$error":"#N/A"}},"Invalid",{"$f":"NA()","v":{"$error":"#N/A"}},{"$f":"NA()","v":{"$error":"#N/A"}},"Invalid",{"$f":"NA()","v":{"$error":"#N/A"}},"Calibration Error","As above",{"$error":"#N/A"},{"$error":"#N/A"},{"$error":"#N/A"},{"$error":"#N/A"}]
[2023,3,23,16,45008.666666665347,{"$f":"NA()","v":{"$error":"#N/A"}},"Invalid",{"$f":"NA()","v":{"$error":"#N/A"}},{"$f":"NA()","v":{"$error":"#N/A"}},"Invalid",{"$f":"NA()","v":{"$error":"#N/A"}},"Calibration Error","As above",{"$error":"#N/A"},{"$error":"#N/A"},{"$error":"#N/A"},{"$error":"#N/A"}]
[2023,3,23,17,45008.708333332012,{"$f":"NA()","v":{"$error":"#N/A"}},"Invalid",{"$f":"NA()","v":{"$error":"#N/A"}},{"$f":"NA()","v":{"$error":"#N/A"}},"Invalid",{"$f":"NA()","v":{"$error":"#N/A"}},"Calibration Error","As above",{"$error":"#N/A"},{"$error":"#N/A"},{"$error":"#N/A"},{"$error":"#N/A"}]
[2023,3,23,18,45008.749999998676,{"$f":"NA()","v":{"$error":"#N/A"}},"Invalid",{"$f":"NA()","v":{"$error":"#N/A"}},{"$f":"NA()","v":{"$error":"#N/A"}},"Invalid",{"$f":"NA()","v":{"$error":"#N/A"}},"Calibration Error","As above",{"$error":"#N/A"},{"$error":"#N/A"},{"$error":"#N/A"},{"$error":"#N/A"}]
[2023,3,23,19,45008.79166666534,{"$f":"NA()","v":{"$error":"#N/A"}},"Invalid",{"$f":"NA()","v":{"$error":"#N/A"}},{"$f":"NA()","v":{"$error":"#N/A"}},"Invalid",{"$f":"NA()","v":{"$error":"#N/A"}},"Calibration Error","As above",{"$error":"#N/A"},{"$error":"#N/A"},{"$error":"#N/A"},{"$error":"#N/A"}]
[2023,3,23,20,45008.833333332004,{"$f":"NA()","v":{"$error":"#N/A"}},"Invalid",{"$f":"NA()","v":{"$error":"#N/A"}},{"$f":"NA()","v":{"$error":"#N/A"}},"Invalid",{"$f":"NA()","v":{"$error":"#N/A"}},"Calibration Error","As above",{"$error":"#N/A"},{"$error":"#N/A"},{"$error":"#N/A"},{"$error":"#N/A"}]
[2023,3,23,21,45008.874999998668,{"$f":"NA()","v":{"$error":"#N/A"}},"Invalid",{"$f":"NA()","v":{"$error":"#N/A"}},{"$f":"NA()","v":{"$error":"#N/A"}},"Invalid",{"$f":"NA()","v":{"$error":"#N/A"}},"Calibration Error","As above",{"$error":"#N/A"},{"$error":"#N/A"},{"$error":"#N/A"},{"$error":"#N/A"}]
[2023,3,23,22,45008.916666665333,{"$f":"NA()","v":{"$error":"#N/A"}},"Invalid",{"$f":"NA()","v":{"$error":"#N/A"}},{"$f":"NA()","v":{"$error":"#N/A"}},"Invalid",{"$f":"NA()","v":{"$error":"#N/A"}},"Calibration Error","As above",{"$error":"#N/A"},{"$error":"#N/A"},{"$error":"#N/A"},{"$error":"#N/A"}]
[2023,3,23,23,45008.958333331997,{"$f":"NA()","v":{"$error":"#N/A"}},"Invalid",{"$f":"NA()","v":{"$error":"#N/A"}},{"$f":"NA()","v":{"$error":"#N/A"}},"Invalid",{"$f":"NA()","v":{"$error":"#N/A"}},"Calibration Error","As above",{"$error":"#N/A"},{"$error":"#N/A"},{"$error":"#N/A"},{"$error":"#N/A"}]
[2023,3,24,0,45008.999999998661,{"$f":"NA()","v":{"$error":"#N/A"}},"Invalid",{"$f":"NA()","v":{"$error":"#N/A"}},{"$f":"NA()","v":{"$error":"#N/A"}},"Invalid",{"$f":"NA()","v":{"$error":"#N/A"}},"Calibration Error","As above",{"$error":"#N/A"},{"$error":"#N/A"},{"$error":"#N/A"},{"$error":"#N/A"}]
[2023,3,24,1,45009.041666665325,{"$f":"NA()","v":{"$error":"#N/A"}},"Invalid",{"$f":"NA()","v":{"$error":"#N/A"}},{"$f":"NA()","v":{"$error":"#N/A"}},"Invalid",{"$f":"NA()","v":{"$error":"#N/A"}},"Calibration Error","As above",{"$error":"#N/A"},{"$error":"#N/A"},{"$error":"#N/A"},{"$error":"#N/A"}]
[2023,3,24,2,45009.08333333199,{"$f":"NA()","v":{"$error":"#N/A"}},"Invalid",{"$f":"NA()","v":{"$error":"#N/A"}},{"$f":"NA()","v":{"$error":"#N/A"}},"Invalid",{"$f":"NA()","v":{"$error":"#N/A"}},"Calibration Error","As above",{"$error":"#N/A"},{"$error":"#N/A"},{"$error":"#N/A"},{"$error":"#N/A"}]
[2023,3,24,3,45009.124999998654,{"$f":"NA()","v":{"$error":"#N/A"}},"Invalid",{"$f":"NA()","v":{"$error":"#N/A"}},{"$f":"NA()","v":{"$error":"#N/A"}},"Invalid",{"$f":"NA()","v":{"$error":"#N/A"}},"Calibration Error","As above",{"$error":"#N/A"},{"$error":"#N/A"},{"$error":"#N/A"},{"$error":"#N/A"}]
[2023,3,24,4,45009.166666665318,{"$f":"NA()","v":{"$error":"#N/A"}},"Invalid",{"$f":"NA()","v":{"$error":"#N/A"}},{"$f":"NA()","v":{"$error":"#N/A"}},"Invalid",{"$f":"NA()","v":{"$error":"#N/A"}},"Calibration Error","As above",{"$error":"#N/A"},{"$error":"#N/A"},{"$error":"#N/A"},{"$error":"#N/A"}]
[2023,3,24,5,45009.208333331982,{"$f":"NA()","v":{"$error":"#N/A"}},"Invalid",{"$f":"NA()","v":{"$error":"#N/A"}},{"$f":"NA()","v":{"$error":"#N/A"}},"Invalid",{"$f":"NA()","v":{"$error":"#N/A"}},"Calibration Error","As above",{"$error":"#N/A"},{"$error":"#N/A"},{"$error":"#N/A"},{"$error":"#N/A"}]
[2023,3,24,6,45009.249999998647,{"$f":"NA()","v":{"$error":"#N/A"}},"Invalid",{"$f":"NA()","v":{"$error":"#N/A"}},{"$f":"NA()","v":{"$error":"#N/A"}},"Invalid",{"$f":"NA()","v":{"$error":"#N/A"}},"Calibration Error","As above",{"$error":"#N/A"},{"$error":"#N/A"},{"$error":"#N/A"},{"$error":"#N/A"}]
[2023,3,24,7,45009.291666665311,{"$f":"NA()","v":{"$error":"#N/A"}},"Invalid",{"$f":"NA()","v":{"$error":"#N/A"}},{"$f":"NA()","v":{"$error":"#N/A"}},"Invalid",{"$f":"NA()","v":{"$error":"#N/A"}},"Calibration Error","As above",{"$error":"#N/A"},{"$error":"#N/A"},{"$error":"#N/A"},{"$error":"#N/A"}]
[2023,3,24,8,45009.333333331975,{"$f":"NA()","v":{"$error":"#N/A"}},"Invalid",{"$f":"NA()","v":{"$error":"#N/A"}},{"$f":"NA()","v":{"$error":"#N/A"}},"Invalid",{"$f":"NA()","v":{"$error":"#N/A"}},"Power failure","no data",{"$error":"#N/A"},{"$error":"#N/A"},{"$error":"#N/A"},{"$error":"#N/A"}]
[2023,3,24,9,45009.374999998639,{"$f":"NA()","v":{"$error":"#N/A"}},"Invalid",{"$f":"NA()","v":{"$error":"#N/A"}},{"$f":"NA()","v":{"$error":"#N/A"}},"Invalid",{"$f":"NA()","v":{"$error":"#N/A"}},"Power failure","no data",{"$error":"#N/A"},{"$error":"#N/A"},{"$error":"#N/A"},{"$error":"#N/A"}]
[2023,3,24,10,45009.416666665304,{"$f":"NA()","v":{"$error":"#N/A"}},"Invalid",{"$f":"NA()","v":{"$error":"#N/A"}},{"$f":"NA()","v":{"$error":"#N/A"}},"Invalid",{"$f":"NA()","v":{"$error":"#N/A"}},"Power failure","no data",{"$error":"#N/A"},{"$error":"#N/A"},{"$error":"#N/A"},{"$error":"#N/A"}]
[2023,3,24,11,45009.458333331968,{"$f":"NA()","v":{"$error":"#N/A"}},"Invalid",{"$f":"NA()","v":{"$error":"#N/A"}},{"$f":"NA()","v":{"$error":"#N/A"}},"Invalid",{"$f":"NA()","v":{"$error":"#N/A"}},"Power failure","no data",{"$error":"#N/A"},{"$error":"#N/A"},{"$error":"#N/A"},{"$error":"#N/A"}]
[2023,3,24,12,45009.499999998632,{"$f":"NA()","v":{"$error":"#N/A"}},"Invalid",{"$f":"NA()","v":{"$error":"#N/A"}},{"$f":"NA()","v":{"$error":"#N/A"}},"Invalid",{"$f":"NA()","v":{"$error":"#N/A"}},"Power failure","no data",{"$error":"#N/A"},{"$error":"#N/A"},{"$error":"#N/A"},{"$error":"#N/A"}]
[2023,3,24,13,45009.541666665296,{"$f":"NA()","v":{"$error":"#N/A"}},"Invalid",{"$f":"NA()","v":{"$error":"#N/A"}},{"$f":"NA()","v":{"$error":"#N/A"}},"Invalid",{"$f":"NA()","v":{"$error":"#N/A"}},"Power failure","no data",{"$error":"#N/A"},{"$error":"#N/A"},{"$error":"#N/A"},{"$error":"#N/A"}]
[2023,3,24,14,45009.583333331961,{"$f":"NA()","v":{"$error":"#N/A"}},"Invalid",{"$f":"NA()","v":{"$error":"#N/A"}},{"$f":"NA()","v":{"$error":"#N/A"}},"Invalid",{"$f":"NA()","v":{"$error":"#N/A"}},"Power failure","no data",{"$error":"#N/A"},{"$error":"#N/A"},{"$error":"#N/A"},{"$error":"#N/A"}]
[2023,3,24,15,45009.624999998625,{"$f":"NA()","v":{"$error":"#N/A"}},"Invalid",{"$f":"NA()","v":{"$error":"#N/A"}},{"$f":"NA()","v":{"$error":"#N/A"}},"Invalid",{"$f":"NA()","v":{"$error":"#N/A"}},"Power failure","no data",{"$error":"#N/A"},{"$error":"#N/A"},{"$error":"#N/A"},{"$error":"#N/A"}]
[2023,3,24,16,45009.666666665289,{"$f":"NA()","v":{"$error":"#N/A"}},"Invalid",{"$f":"NA()","v":{"$error":"#N/A"}},{"$f":"NA()","v":{"$error":"#N/A"}},"Invalid",{"$f":"NA()","v":{"$error":"#N/A"}},"Calibration Error","Monitor operating with faults leading to PM2.5 > PM10 and/or results < threshold",{"$error":"#N/A"},{"$error":"#N/A"},{"$error":"#N/A"},{"$error":"#N/A"}]
[2023,3,24,17,45009.708333331953,{"$f":"NA()","v":{"$error":"#N/A"}},"Invalid",{"$f":"NA()","v":{"$error":"#N/A"}},{"$f":"NA()","v":{"$error":"#N/A"}},"Invalid",{"$f":"NA()","v":{"$error":"#N/A"}},"Calibration Error","As above",{"$error":"#N/A"},{"$error":"#N/A"},{"$error":"#N/A"},{"$error":"#N/A"}]
[2023,3,24,18,45009.749999998618,{"$f":"NA()","v":{"$error":"#N/A"}},"Invalid",{"$f":"NA()","v":{"$error":"#N/A"}},{"$f":"NA()","v":{"$error":"#N/A"}},"Invalid",{"$f":"NA()","v":{"$error":"#N/A"}},"Calibration Error","As above",{"$error":"#N/A"},{"$error":"#N/A"},{"$error":"#N/A"},{"$error":"#N/A"}]
[2023,3,24,19,45009.791666665282,{"$f":"NA()","v":{"$error":"#N/A"}},"Invalid",{"$f":"NA()","v":{"$error":"#N/A"}},{"$f":"NA()","v":{"$error":"#N/A"}},"Invalid",{"$f":"NA()","v":{"$error":"#N/A"}},"Calibration Error","As above",{"$error":"#N/A"},{"$error":"#N/A"},{"$error":"#N/A"},{"$error":"#N/A"}]
[2023,3,24,20,45009.833333331946,{"$f":"NA()","v":{"$error":"#N/A"}},"Invalid",{"$f":"NA()","v":{"$error":"#N/A"}},{"$f":"NA()","v":{"$error":"#N/A"}},"Invalid",{"$f":"NA()","v":{"$error":"#N/A"}},"Calibration Error","As above",{"$error":"#N/A"},{"$error":"#N/A"},{"$error":"#N/A"},{"$error":"#N/A"}]
[2023,3,24,21,45009.87499999861,{"$f":"NA()","v":{"$error":"#N/A"}},"Invalid",{"$f":"NA()","v":{"$error":"#N/A"}},{"$f":"NA()","v":{"$error":"#N/A"}},"Invalid",{"$f":"NA()","v":{"$error":"#N/A"}},"Calibration Error","As above",{"$error":"#N/A"},{"$error":"#N/A"},{"$error":"#N/A"},{"$error":"#N/A"}]
[2023,3,24,22,45009.916666665275,{"$f":"NA()","v":{"$error":"#N/A"}},"Invalid",{"$f":"NA()","v":{"$error":"#N/A"}},{"$f":"NA()","v":{"$error":"#N/A"}},"Invalid",{"$f":"NA()","v":{"$error":"#N/A"}},"Calibration Error","As above",{"$error":"#N/A"},{"$error":"#N/A"},{"$error":"#N/A"},{"$error":"#N/A"}]
[2023,3,24,23,45009.958333331939,{"$f":"NA()","v":{"$error":"#N/A"}},"Invalid",{"$f":"NA()","v":{"$error":"#N/A"}},{"$f":"NA()","v":{"$error":"#N/A"}},"Invalid",{"$f":"NA()","v":{"$error":"#N/A"}},"Calibration Error","As above",{"$error":"#N/A"},{"$error":"#N/A"},{"$error":"#N/A"},{"$error":"#N/A"}]
[2023,3,25,0,45009.999999998603,{"$f":"NA()","v":{"$error":"#N/A"}},"Invalid",{"$f":"NA()","v":{"$error":"#N/A"}},{"$f":"NA()","v":{"$error":"#N/A"}},"Invalid",{"$f":"NA()","v":{"$error":"#N/A"}},"Power failure","no data",{"$f":"IF(G578=\"Valid\", F578, NA())","v":{"$error":"#N/A"}},{"$f":"IF(G578=\"Valid\", H578, NA())","v":{"$error":"#N/A"}},{"$f":"IF(J578=\"Valid\", I578, NA())","v":{"$error":"#N/A"}},{"$f":"IF(J578=\"Valid\", K578, NA())","v":{"$error":"#N/A"}}]
[2023,3,25,1,45010.041666665267,{"$f":"NA()","v":{"$error":"#N/A"}},"Invalid",{"$f":"NA()","v":{"$error":"#N/A"}},{"$f":"NA()","v":{"$error":"#N/A"}},"Invalid",{"$f":"NA()","v":{"$error":"#N/A"}},"Power failure","no data",{"$error":"#N/A"},{"$error":"#N/A"},{"$error":"#N/A"},{"$error":"#N/A"}]
[{"$f":"A579","v":2023},3,25,{"$f":"IF(D579=23,0,D579+1)","v":2},{"$f":"E579+0.0416666666666666","v":45010.083333331931},{"$f":"NA()","v":{"$error":"#N/A"}},"Invalid",{"$f":"NA()","v":{"$error":"#N/A"}},{"$f":"NA()","v":{"$error":"#N/A"}},"Invalid",{"$f":"NA()","v":{"$error":"#N/A"}},"Power failure","no data",{"$error":"#N/A"},{"$error":"#N/A"},{"$error":"#N/A"},{"$error":"#N/A"}]
[2023,3,25,3,45010.124999998596,{"$f":"NA()","v":{"$error":"#N/A"}},"Invalid",{"$f":"NA()","v":{"$error":"#N/A"}},{"$f":"NA()","v":{"$error":"#N/A"}},"Invalid",{"$f":"NA()","v":{"$error":"#N/A"}},"Calibration Error","Monitor operating with faults leading to PM2.5 > PM10 and/or results < threshold",{"$error":"#N/A"},{"$error":"#N/A"},{"$error":"#N/A"},{"$error":"#N/A"}]
[2023,3,25,4,45010.16666666526,{"$f":"NA()","v":{"$error":"#N/A"}},"Invalid",{"$f":"NA()","v":{"$error":"#N/A"}},{"$f":"NA()","v":{"$error":"#N/A"}},"Invalid",{"$f":"NA()","v":{"$error":"#N/A"}},"Calibration Error","As above",{"$error":"#N/A"},{"$error":"#N/A"},{"$error":"#N/A"},{"$error":"#N/A"}]
[2023,3,25,5,45010.208333331924,{"$f":"NA()","v":{"$error":"#N/A"}},"Invalid",{"$f":"NA()","v":{"$error":"#N/A"}},{"$f":"NA()","v":{"$error":"#N/A"}},"Invalid",{"$f":"NA()","v":{"$error":"#N/A"}},"Calibration Error","As above",{"$error":"#N/A"},{"$error":"#N/A"},{"$error":"#N/A"},{"$error":"#N/A"}]
[2023,3,25,6,45010.249999998588,{"$f":"NA()","v":{"$error":"#N/A"}},"Invalid",{"$f":"NA()","v":{"$error":"#N/A"}},{"$f":"NA()","v":{"$error":"#N/A"}},"Invalid",{"$f":"NA()","v":{"$error":"#N/A"}},"Calibration Error","As above",{"$error":"#N/A"},{"$error":"#N/A"},{"$error":"#N/A"},{"$error":"#N/A"}]
[2023,3,25,7,45010.291666665253,{"$f":"NA()","v":{"$error":"#N/A"}},"Invalid",{"$f":"NA()","v":{"$error":"#N/A"}},{"$f":"NA()","v":{"$error":"#N/A"}},"Invalid",{"$f":"NA()","v":{"$error":"#N/A"}},"Calibration Error","As above",{"$error":"#N/A"},{"$error":"#N/A"},{"$error":"#N/A"},{"$error":"#N/A"}]
[2023,3,25,8,45010.333333331917,{"$f":"NA()","v":{"$error":"#N/A"}},"Invalid",{"$f":"NA()","v":{"$error":"#N/A"}},{"$f":"NA()","v":{"$error":"#N/A"}},"Invalid",{"$f":"NA()","v":{"$error":"#N/A"}},"Calibration Error","As above",{"$error":"#N/A"},{"$error":"#N/A"},{"$error":"#N/A"},{"$error":"#N/A"}]
[2023,3,25,9,45010.374999998581,{"$f":"NA()","v":{"$error":"#N/A"}},"Invalid",{"$f":"NA()","v":{"$error":"#N/A"}},{"$f":"NA()","v":{"$error":"#N/A"}},"Invalid",{"$f":"NA()","v":{"$error":"#N/A"}},"Calibration Error","As above",{"$error":"#N/A"},{"$error":"#N/A"},{"$error":"#N/A"},{"$error":"#N/A"}]
[2023,3,25,10,45010.416666665245,{"$f":"NA()","v":{"$error":"#N/A"}},"Invalid",{"$f":"NA()","v":{"$error":"#N/A"}},{"$f":"NA()","v":{"$error":"#N/A"}},"Invalid",{"$f":"NA()","v":{"$error":"#N/A"}},"Calibration Error","As above",{"$error":"#N/A"},{"$error":"#N/A"},{"$error":"#N/A"},{"$error":"#N/A"}]
[2023,3,25,11,45010.45833333191,{"$f":"NA()","v":{"$error":"#N/A"}},"Invalid",{"$f":"NA()","v":{"$error":"#N/A"}},{"$f":"NA()","v":{"$error":"#N/A"}},"Invalid",{"$f":"NA()","v":{"$error":"#N/A"}},"Calibration Error","As above",{"$error":"#N/A"},{"$error":"#N/A"},{"$error":"#N/A"},{"$error":"#N/A"}]
[2023,3,25,12,45010.499999998574,{"$f":"NA()","v":{"$error":"#N/A"}},"Invalid",{"$f":"NA()","v":{"$error":"#N/A"}},{"$f":"NA()","v":{"$error":"#N/A"}},"Invalid",{"$f":"NA()","v":{"$error":"#N/A"}},"Calibration Error","As above",{"$error":"#N/A"},{"$error":"#N/A"},{"$error":"#N/A"},{"$error":"#N/A"}]
[2023,3,25,13,45010.541666665238,{"$f":"NA()","v":{"$error":"#N/A"}},"Invalid",{"$f":"NA()","v":{"$error":"#N/A"}},{"$f":"NA()","v":{"$error":"#N/A"}},"Invalid",{"$f":"NA()","v":{"$error":"#N/A"}},"Power failure","no data",{"$error":"#N/A"},{"$error":"#N/A"},{"$error":"#N/A"},{"$error":"#N/A"}]
[2023,3,25,14,45010.583333331902,{"$f":"NA()","v":{"$error":"#N/A"}},"Invalid",{"$f":"NA()","v":{"$error":"#N/A"}},{"$f":"NA()","v":{"$error":"#N/A"}},"Invalid",{"$f":"NA()","v":{"$error":"#N/A"}},"Power failure","no data",{"$error":"#N/A"},{"$error":"#N/A"},{"$error":"#N/A"},{"$error":"#N/A"}]
[2023,3,25,15,45010.624999998567,{"$f":"NA()","v":{"$error":"#N/A"}},"Invalid",{"$f":"NA()","v":{"$error":"#N/A"}},{"$f":"NA()","v":{"$error":"#N/A"}},"Invalid",{"$f":"NA()","v":{"$error":"#N/A"}},"Power failure","no data",{"$error":"#N/A"},{"$error":"#N/A"},{"$error":"#N/A"},{"$error":"#N/A"}]
[2023,3,25,16,45010.666666665231,{"$f":"NA()","v":{"$error":"#N/A"}},"Invalid",{"$f":"NA()","v":{"$error":"#N/A"}},{"$f":"NA()","v":{"$error":"#N/A"}},"Invalid",{"$f":"NA()","v":{"$error":"#N/A"}},"Calibration Error","Monitor operating with faults leading to PM2.5 > PM10 and/or results < threshold",{"$error":"#N/A"},{"$error":"#N/A"},{"$error":"#N/A"},{"$error":"#N/A"}]
[2023,3,25,17,45010.708333331895,{"$f":"NA()","v":{"$error":"#N/A"}},"Invalid",{"$f":"NA()","v":{"$error":"#N/A"}},{"$f":"NA()","v":{"$error":"#N/A"}},"Invalid",{"$f":"NA()","v":{"$error":"#N/A"}},"Calibration Error","As above",{"$error":"#N/A"},{"$error":"#N/A"},{"$error":"#N/A"},{"$error":"#N/A"}]
[2023,3,25,18,45010.749999998559,{"$f":"NA()","v":{"$error":"#N/A"}},"Invalid",{"$f":"NA()","v":{"$error":"#N/A"}},{"$f":"NA()","v":{"$error":"#N/A"}},"Invalid",{"$f":"NA()","v":{"$error":"#N/A"}},"Calibration Error","As above",{"$error":"#N/A"},{"$error":"#N/A"},{"$error":"#N/A"},{"$error":"#N/A"}]
[2023,3,25,19,45010.791666665224,{"$f":"NA()","v":{"$error":"#N/A"}},"Invalid",{"$f":"NA()","v":{"$error":"#N/A"}},{"$f":"NA()","v":{"$error":"#N/A"}},"Invalid",{"$f":"NA()","v":{"$error":"#N/A"}},"Calibration Error","As above",{"$error":"#N/A"},{"$error":"#N/A"},{"$error":"#N/A"},{"$error":"#N/A"}]
[2023,3,25,20,45010.833333331888,{"$f":"NA()","v":{"$error":"#N/A"}},"Invalid",{"$f":"NA()","v":{"$error":"#N/A"}},{"$f":"NA()","v":{"$error":"#N/A"}},"Invalid",{"$f":"NA()","v":{"$error":"#N/A"}},"Calibration Error","As above",{"$error":"#N/A"},{"$error":"#N/A"},{"$error":"#N/A"},{"$error":"#N/A"}]
[2023,3,25,21,45010.874999998552,{"$f":"NA()","v":{"$error":"#N/A"}},"Invalid",{"$f":"NA()","v":{"$error":"#N/A"}},{"$f":"NA()","v":{"$error":"#N/A"}},"Invalid",{"$f":"NA()","v":{"$error":"#N/A"}},"Calibration Error","As above",{"$error":"#N/A"},{"$error":"#N/A"},{"$error":"#N/A"},{"$error":"#N/A"}]
[2023,3,25,22,45010.916666665216,{"$f":"NA()","v":{"$error":"#N/A"}},"Invalid",{"$f":"NA()","v":{"$error":"#N/A"}},{"$f":"NA()","v":{"$error":"#N/A"}},"Invalid",{"$f":"NA()","v":{"$error":"#N/A"}},"Calibration Error","As above",{"$error":"#N/A"},{"$error":"#N/A"},{"$error":"#N/A"},{"$error":"#N/A"}]
[2023,3,25,23,45010.958333331881,{"$f":"NA()","v":{"$error":"#N/A"}},"Invalid",{"$f":"NA()","v":{"$error":"#N/A"}},{"$f":"NA()","v":{"$error":"#N/A"}},"Invalid",{"$f":"NA()","v":{"$error":"#N/A"}},"Calibration Error","As above",{"$error":"#N/A"},{"$error":"#N/A"},{"$error":"#N/A"},{"$error":"#N/A"}]
[2023,3,26,0,45010.999999998545,{"$f":"NA()","v":{"$error":"#N/A"}},"Invalid",{"$f":"NA()","v":{"$error":"#N/A"}},{"$f":"NA()","v":{"$error":"#N/A"}},"Invalid",{"$f":"NA()","v":{"$error":"#N/A"}},"Calibration Error","As above",{"$error":"#N/A"},{"$error":"#N/A"},{"$error":"#N/A"},{"$error":"#N/A"}]
[2023,{"$f":"B602","v":3},{"$f":"C579+1","v":26},1,45011.041666665209,{"$f":"NA()","v":{"$error":"#N/A"}},"Invalid",{"$f":"NA()","v":{"$error":"#N/A"}},{"$f":"NA()","v":{"$error":"#N/A"}},"Invalid",{"$f":"NA()","v":{"$error":"#N/A"}},"Calibration Error","As above",{"$error":"#N/A"},{"$error":"#N/A"},{"$error":"#N/A"},{"$error":"#N/A"}]
[2023,3,26,2,45011.083333331873,{"$f":"NA()","v":{"$error":"#N/A"}},"Invalid",{"$f":"NA()","v":{"$error":"#N/A"}},{"$f":"NA()","v":{"$error":"#N/A"}},"Invalid",{"$f":"NA()","v":{"$error":"#N/A"}},"Calibration Error","As above",{"$error":"#N/A"},{"$error":"#N/A"},{"$error":"#N/A"},{"$error":"#N/A"}]
[2023,3,26,3,45011.124999998538,{"$f":"NA()","v":{"$error":"#N/A"}},"Invalid",{"$f":"NA()","v":{"$error":"#N/A"}},{"$f":"NA()","v":{"$error":"#N/A"}},"Invalid",{"$f":"NA()","v":{"$error":"#N/A"}},"Calibration Error","As above",{"$error":"#N/A"},{"$error":"#N/A"},{"$error":"#N/A"},{"$error":"#N/A"}]
[2023,3,26,4,45011.166666665202,{"$f":"NA()","v":{"$error":"#N/A"}},"Invalid",{"$f":"NA()","v":{"$error":"#N/A"}},{"$f":"NA()","v":{"$error":"#N/A"}},"Invalid",{"$f":"NA()","v":{"$error":"#N/A"}},"Calibration Error","As above",{"$error":"#N/A"},{"$error":"#N/A"},{"$error":"#N/A"},{"$error":"#N/A"}]
[2023,3,26,5,45011.208333331866,{"$f":"NA()","v":{"$error":"#N/A"}},"Invalid",{"$f":"NA()","v":{"$error":"#N/A"}},{"$f":"NA()","v":{"$error":"#N/A"}},"Invalid",{"$f":"NA()","v":{"$error":"#N/A"}},"Calibration Error","As above",{"$error":"#N/A"},{"$error":"#N/A"},{"$error":"#N/A"},{"$error":"#N/A"}]
[2023,3,26,6,45011.24999999853,{"$f":"NA()","v":{"$error":"#N/A"}},"Invalid",{"$f":"NA()","v":{"$error":"#N/A"}},{"$f":"NA()","v":{"$error":"#N/A"}},"Invalid",{"$f":"NA()","v":{"$error":"#N/A"}},"Calibration Error","As above",{"$error":"#N/A"},{"$error":"#N/A"},{"$error":"#N/A"},{"$error":"#N/A"}]
[2023,3,26,7,45011.291666665194,{"$f":"NA()","v":{"$error":"#N/A"}},"Invalid",{"$f":"NA()","v":{"$error":"#N/A"}},{"$f":"NA()","v":{"$error":"#N/A"}},"Invalid",{"$f":"NA()","v":{"$error":"#N/A"}},"Calibration Error","As above",{"$error":"#N/A"},{"$error":"#N/A"},{"$error":"#N/A"},{"$error":"#N/A"}]
[2023,3,26,8,45011.333333331859,{"$f":"NA()","v":{"$error":"#N/A"}},"Invalid",{"$f":"NA()","v":{"$error":"#N/A"}},{"$f":"NA()","v":{"$error":"#N/A"}},"Invalid",{"$f":"NA()","v":{"$error":"#N/A"}},"Calibration Error","As above",{"$error":"#N/A"},{"$error":"#N/A"},{"$error":"#N/A"},{"$error":"#N/A"}]
[2023,3,26,9,45011.374999998523,{"$f":"NA()","v":{"$error":"#N/A"}},"Invalid",{"$f":"NA()","v":{"$error":"#N/A"}},{"$f":"NA()","v":{"$error":"#N/A"}},"Invalid",{"$f":"NA()","v":{"$error":"#N/A"}},"Calibration Error","As above",{"$error":"#N/A"},{"$error":"#N/A"},{"$error":"#N/A"},{"$error":"#N/A"}]
[2023,3,26,10,45011.416666665187,{"$f":"NA()","v":{"$error":"#N/A"}},"Invalid",{"$f":"NA()","v":{"$error":"#N/A"}},{"$f":"NA()","v":{"$error":"#N/A"}},"Invalid",{"$f":"NA()","v":{"$error":"#N/A"}},"Calibration Error","As above",{"$error":"#N/A"},{"$error":"#N/A"},{"$error":"#N/A"},{"$error":"#N/A"}]
[2023,3,26,11,45011.458333331851,{"$f":"NA()","v":{"$error":"#N/A"}},"Invalid",{"$f":"NA()","v":{"$error":"#N/A"}},{"$f":"NA()","v":{"$error":"#N/A"}},"Invalid",{"$f":"NA()","v":{"$error":"#N/A"}},"Calibration Error","As above",{"$error":"#N/A"},{"$error":"#N/A"},{"$error":"#N/A"},{"$error":"#N/A"}]
[2023,3,26,12,45011.499999998516,{"$f":"NA()","v":{"$error":"#N/A"}},"Invalid",{"$f":"NA()","v":{"$error":"#N/A"}},{"$f":"NA()","v":{"$error":"#N/A"}},"Invalid",{"$f":"NA()","v":{"$error":"#N/A"}},"Calibration Error","As above",{"$error":"#N/A"},{"$error":"#N/A"},{"$error":"#N/A"},{"$error":"#N/A"}]
[2023,3,26,13,45011.54166666518,{"$f":"NA()","v":{"$error":"#N/A"}},"Invalid",{"$f":"NA()","v":{"$error":"#N/A"}},{"$f":"NA()","v":{"$error":"#N/A"}},"Invalid",{"$f":"NA()","v":{"$error":"#N/A"}},"Calibration Error","As above",{"$error":"#N/A"},{"$error":"#N/A"},{"$error":"#N/A"},{"$error":"#N/A"}]
[2023,3,26,14,45011.583333331844,{"$f":"NA()","v":{"$error":"#N/A"}},"Invalid",{"$f":"NA()","v":{"$error":"#N/A"}},{"$f":"NA()","v":{"$error":"#N/A"}},"Invalid",{"$f":"NA()","v":{"$error":"#N/A"}},"Calibration Error","As above",{"$error":"#N/A"},{"$error":"#N/A"},{"$error":"#N/A"},{"$error":"#N/A"}]
[2023,3,26,15,45011.624999998508,{"$f":"NA()","v":{"$error":"#N/A"}},"Invalid",{"$f":"NA()","v":{"$error":"#N/A"}},{"$f":"NA()","v":{"$error":"#N/A"}},"Invalid",{"$f":"NA()","v":{"$error":"#N/A"}},"Calibration Error","As above",{"$error":"#N/A"},{"$error":"#N/A"},{"$error":"#N/A"},{"$error":"#N/A"}]
[2023,3,26,16,45011.666666665173,{"$f":"NA()","v":{"$error":"#N/A"}},"Invalid",{"$f":"NA()","v":{"$error":"#N/A"}},{"$f":"NA()","v":{"$error":"#N/A"}},"Invalid",{"$f":"NA()","v":{"$error":"#N/A"}},"Calibration Error","As above",{"$error":"#N/A"},{"$error":"#N/A"},{"$error":"#N/A"},{"$error":"#N/A"}]
[2023,3,26,17,45011.708333331837,{"$f":"NA()","v":{"$error":"#N/A"}},"Invalid",{"$f":"NA()","v":{"$error":"#N/A"}},{"$f":"NA()","v":{"$error":"#N/A"}},"Invalid",{"$f":"NA()","v":{"$error":"#N/A"}},"Calibration Error","As above",{"$error":"#N/A"},{"$error":"#N/A"},{"$error":"#N/A"},{"$error":"#N/A"}]
[2023,3,26,18,45011.749999998501,{"$f":"NA()","v":{"$error":"#N/A"}},"Invalid",{"$f":"NA()","v":{"$error":"#N/A"}},{"$f":"NA()","v":{"$error":"#N/A"}},"Invalid",{"$f":"NA()","v":{"$error":"#N/A"}},"Calibration Error","As above",{"$error":"#N/A"},{"$error":"#N/A"},{"$error":"#N/A"},{"$error":"#N/A"}]
[2023,3,26,19,45011.791666665165,{"$f":"NA()","v":{"$error":"#N/A"}},"Invalid",{"$f":"NA()","v":{"$error":"#N/A"}},{"$f":"NA()","v":{"$error":"#N/A"}},"Invalid",{"$f":"NA()","v":{"$error":"#N/A"}},"Calibration Error","As above",{"$error":"#N/A"},{"$error":"#N/A"},{"$error":"#N/A"},{"$error":"#N/A"}]
[2023,3,26,20,45011.83333333183,{"$f":"NA()","v":{"$error":"#N/A"}},"Invalid",{"$f":"NA()","v":{"$error":"#N/A"}},{"$f":"NA()","v":{"$error":"#N/A"}},"Invalid",{"$f":"NA()","v":{"$error":"#N/A"}},"Calibration Error","As above",{"$error":"#N/A"},{"$error":"#N/A"},{"$error":"#N/A"},{"$error":"#N/A"}]
[2023,3,26,21,45011.874999998494,{"$f":"NA()","v":{"$error":"#N/A"}},"Invalid",{"$f":"NA()","v":{"$error":"#N/A"}},{"$f":"NA()","v":{"$error":"#N/A"}},"Invalid",{"$f":"NA()","v":{"$error":"#N/A"}},"Calibration Error","As above",{"$error":"#N/A"},{"$error":"#N/A"},{"$error":"#N/A"},{"$error":"#N/A"}]
[2023,3,26,22,45011.916666665158,{"$f":"NA()","v":{"$error":"#N/A"}},"Invalid",{"$f":"NA()","v":{"$error":"#N/A"}},{"$f":"NA()","v":{"$error":"#N/A"}},"Invalid",{"$f":"NA()","v":{"$error":"#N/A"}},"Calibration Error","As above",{"$error":"#N/A"},{"$error":"#N/A"},{"$error":"#N/A"},{"$error":"#N/A"}]
[2023,3,26,23,45011.958333331822,{"$f":"NA()","v":{"$error":"#N/A"}},"Invalid",{"$f":"NA()","v":{"$error":"#N/A"}},{"$f":"NA()","v":{"$error":"#N/A"}},"Invalid",{"$f":"NA()","v":{"$error":"#N/A"}},"Calibration Error","As above",{"$error":"#N/A"},{"$error":"#N/A"},{"$error":"#N/A"},{"$error":"#N/A"}]
[2023,3,27,0,45011.999999998487,{"$f":"NA()","v":{"$error":"#N/A"}},"Invalid",{"$f":"NA()","v":{"$error":"#N/A"}},{"$f":"NA()","v":{"$error":"#N/A"}},"Invalid",{"$f":"NA()","v":{"$error":"#N/A"}},"Calibration Error","As above",{"$error":"#N/A"},{"$error":"#N/A"},{"$error":"#N/A"},{"$error":"#N/A"}]
[2023,3,27,1,45012.041666665151,{"$f":"NA()","v":{"$error":"#N/A"}},"Invalid",{"$f":"NA()","v":{"$error":"#N/A"}},{"$f":"NA()","v":{"$error":"#N/A"}},"Invalid",{"$f":"NA()","v":{"$error":"#N/A"}},"Calibration Error","As above",{"$error":"#N/A"},{"$error":"#N/A"},{"$error":"#N/A"},{"$error":"#N/A"}]
[2023,3,27,2,45012.083333331815,{"$f":"NA()","v":{"$error":"#N/A"}},"Invalid",{"$f":"NA()","v":{"$error":"#N/A"}},{"$f":"NA()","v":{"$error":"#N/A"}},"Invalid",{"$f":"NA()","v":{"$error":"#N/A"}},"Calibration Error","As above",{"$error":"#N/A"},{"$error":"#N/A"},{"$error":"#N/A"},{"$error":"#N/A"}]
[2023,3,27,3,45012.124999998479,{"$f":"NA()","v":{"$error":"#N/A"}},"Invalid",{"$f":"NA()","v":{"$error":"#N/A"}},{"$f":"NA()","v":{"$error":"#N/A"}},"Invalid",{"$f":"NA()","v":{"$error":"#N/A"}},"Calibration Error","As above",{"$error":"#N/A"},{"$error":"#N/A"},{"$error":"#N/A"},{"$error":"#N/A"}]
[2023,3,27,4,45012.166666665144,{"$f":"NA()","v":{"$error":"#N/A"}},"Invalid",{"$f":"NA()","v":{"$error":"#N/A"}},{"$f":"NA()","v":{"$error":"#N/A"}},"Invalid",{"$f":"NA()","v":{"$error":"#N/A"}},"Calibration Error","As above",{"$error":"#N/A"},{"$error":"#N/A"},{"$error":"#N/A"},{"$error":"#N/A"}]
[2023,3,27,5,45012.208333331808,{"$f":"NA()","v":{"$error":"#N/A"}},"Invalid",{"$f":"NA()","v":{"$error":"#N/A"}},{"$f":"NA()","v":{"$error":"#N/A"}},"Invalid",{"$f":"NA()","v":{"$error":"#N/A"}},"Calibration Error","As above",{"$error":"#N/A"},{"$error":"#N/A"},{"$error":"#N/A"},{"$error":"#N/A"}]
[2023,3,27,6,45012.249999998472,{"$f":"NA()","v":{"$error":"#N/A"}},"Invalid",{"$f":"NA()","v":{"$error":"#N/A"}},{"$f":"NA()","v":{"$error":"#N/A"}},"Invalid",{"$f":"NA()","v":{"$error":"#N/A"}},"Calibration Error","As above",{"$error":"#N/A"},{"$error":"#N/A"},{"$error":"#N/A"},{"$error":"#N/A"}]
[2023,3,27,7,45012.291666665136,{"$f":"NA()","v":{"$error":"#N/A"}},"Invalid",{"$f":"NA()","v":{"$error":"#N/A"}},{"$f":"NA()","v":{"$error":"#N/A"}},"Invalid",{"$f":"NA()","v":{"$error":"#N/A"}},"Calibration Error","As above",{"$error":"#N/A"},{"$error":"#N/A"},{"$error":"#N/A"},{"$error":"#N/A"}]
[2023,3,27,8,45012.333333331801,{"$f":"NA()","v":{"$error":"#N/A"}},"Invalid",{"$f":"NA()","v":{"$error":"#N/A"}},{"$f":"NA()","v":{"$error":"#N/A"}},"Invalid",{"$f":"NA()","v":{"$error":"#N/A"}},"Calibration Error","As above",{"$error":"#N/A"},{"$error":"#N/A"},{"$error":"#N/A"},{"$error":"#N/A"}]
[2023,3,27,9,45012.374999998465,{"$f":"NA()","v":{"$error":"#N/A"}},"Invalid",{"$f":"NA()","v":{"$error":"#N/A"}},{"$f":"NA()","v":{"$error":"#N/A"}},"Invalid",{"$f":"NA()","v":{"$error":"#N/A"}},"Calibration Error","As above",{"$error":"#N/A"},{"$error":"#N/A"},{"$error":"#N/A"},{"$error":"#N/A"}]
[2023,3,27,10,45012.416666665129,{"$f":"NA()","v":{"$error":"#N/A"}},"Invalid",{"$f":"NA()","v":{"$error":"#N/A"}},{"$f":"NA()","v":{"$error":"#N/A"}},"Invalid",{"$f":"NA()","v":{"$error":"#N/A"}},"Calibration Error","As above",{"$error":"#N/A"},{"$error":"#N/A"},{"$error":"#N/A"},{"$error":"#N/A"}]
[2023,3,27,11,45012.458333331793,{"$f":"NA()","v":{"$error":"#N/A"}},"Invalid",{"$f":"NA()","v":{"$error":"#N/A"}},{"$f":"NA()","v":{"$error":"#N/A"}},"Invalid",{"$f":"NA()","v":{"$error":"#N/A"}},"Calibration Error","As above",{"$error":"#N/A"},{"$error":"#N/A"},{"$error":"#N/A"},{"$error":"#N/A"}]
[2023,3,27,12,45012.499999998457,{"$f":"NA()","v":{"$error":"#N/A"}},"Invalid",{"$f":"NA()","v":{"$error":"#N/A"}},{"$f":"NA()","v":{"$error":"#N/A"}},"Invalid",{"$f":"NA()","v":{"$error":"#N/A"}},"Calibration Error","As above",{"$error":"#N/A"},{"$error":"#N/A"},{"$error":"#N/A"},{"$error":"#N/A"}]
[2023,3,27,13,45012.541666665122,{"$f":"NA()","v":{"$error":"#N/A"}},"Invalid",{"$f":"NA()","v":{"$error":"#N/A"}},{"$f":"NA()","v":{"$error":"#N/A"}},"Invalid",{"$f":"NA()","v":{"$error":"#N/A"}},"Calibration Error","As above",{"$error":"#N/A"},{"$error":"#N/A"},{"$error":"#N/A"},{"$error":"#N/A"}]
[2023,3,27,14,45012.583333331786,{"$f":"NA()","v":{"$error":"#N/A"}},"Invalid",{"$f":"NA()","v":{"$error":"#N/A"}},{"$f":"NA()","v":{"$error":"#N/A"}},"Invalid",{"$f":"NA()","v":{"$error":"#N/A"}},"Calibration Error","As above",{"$error":"#N/A"},{"$error":"#N/A"},{"$error":"#N/A"},{"$error":"#N/A"}]
[2023,3,27,15,45012.62499999845,{"$f":"NA()","v":{"$error":"#N/A"}},"Invalid",{"$f":"NA()","v":{"$error":"#N/A"}},{"$f":"NA()","v":{"$error":"#N/A"}},"Invalid",{"$f":"NA()","v":{"$error":"#N/A"}},"Calibration Error","As above",{"$error":"#N/A"},{"$error":"#N/A"},{"$error":"#N/A"},{"$error":"#N/A"}]
[2023,3,27,16,45012.666666665114,{"$f":"NA()","v":{"$error":"#N/A"}},"Invalid",{"$f":"NA()","v":{"$error":"#N/A"}},{"$f":"NA()","v":{"$error":"#N/A"}},"Invalid",{"$f":"NA()","v":{"$error":"#N/A"}},"Calibration Error","As above",{"$f":"IF(G642=\"Valid\", F642, NA())","v":{"$error":"#N/A"}},{"$f":"IF(G642=\"Valid\", H642, NA())","v":{"$error":"#N/A"}},{"$f":"IF(J642=\"Valid\", I642, NA())","v":{"$error":"#N/A"}},{"$f":"IF(J642=\"Valid\", K642, NA())","v":{"$error":"#N/A"}}]
[2023,3,27,17,45012.708333331779,{"$f":"NA()","v":{"$error":"#N/A"}},"Invalid",{"$f":"NA()","v":{"$error":"#N/A"}},{"$f":"NA()","v":{"$error":"#N/A"}},"Invalid",{"$f":"NA()","v":{"$error":"#N/A"}},"Calibration Error","As above",{"$error":"#N/A"},{"$error":"#N/A"},{"$error":"#N/A"},{"$error":"#N/A"}]
[{"$f":"A643","v":2023},3,27,{"$f":"IF(D643=23,0,D643+1)","v":18},{"$f":"E643+0.0416666666666666","v":45012.749999998443},{"$f":"NA()","v":{"$error":"#N/A"}},"Invalid",{"$f":"NA()","v":{"$error":"#N/A"}},{"$f":"NA()","v":{"$error":"#N/A"}},"Invalid",{"$f":"NA()","v":{"$error":"#N/A"}},"Calibration Error","As above",{"$error":"#N/A"},{"$error":"#N/A"},{"$error":"#N/A"},{"$error":"#N/A"}]
[2023,3,27,19,45012.791666665107,{"$f":"NA()","v":{"$error":"#N/A"}},"Invalid",{"$f":"NA()","v":{"$error":"#N/A"}},{"$f":"NA()","v":{"$error":"#N/A"}},"Invalid",{"$f":"NA()","v":{"$error":"#N/A"}},"Calibration Error","As above",{"$error":"#N/A"},{"$error":"#N/A"},{"$error":"#N/A"},{"$error":"#N/A"}]
[2023,3,27,20,45012.833333331771,{"$f":"NA()","v":{"$error":"#N/A"}},"Invalid",{"$f":"NA()","v":{"$error":"#N/A"}},{"$f":"NA()","v":{"$error":"#N/A"}},"Invalid",{"$f":"NA()","v":{"$error":"#N/A"}},"Calibration Error","As above",{"$error":"#N/A"},{"$error":"#N/A"},{"$error":"#N/A"},{"$error":"#N/A"}]
[2023,3,27,21,45012.874999998436,{"$f":"NA()","v":{"$error":"#N/A"}},"Invalid",{"$f":"NA()","v":{"$error":"#N/A"}},{"$f":"NA()","v":{"$error":"#N/A"}},"Invalid",{"$f":"NA()","v":{"$error":"#N/A"}},"Calibration Error","As above",{"$error":"#N/A"},{"$error":"#N/A"},{"$error":"#N/A"},{"$error":"#N/A"}]
[2023,3,27,22,45012.9166666651,{"$f":"NA()","v":{"$error":"#N/A"}},"Invalid",{"$f":"NA()","v":{"$error":"#N/A"}},{"$f":"NA()","v":{"$error":"#N/A"}},"Invalid",{"$f":"NA()","v":{"$error":"#N/A"}},"Calibration Error","As above",{"$error":"#N/A"},{"$error":"#N/A"},{"$error":"#N/A"},{"$error":"#N/A"}]
[2023,3,27,23,45012.958333331764,{"$f":"NA()","v":{"$error":"#N/A"}},"Invalid",{"$f":"NA()","v":{"$error":"#N/A"}},{"$f":"NA()","v":{"$error":"#N/A"}},"Invalid",{"$f":"NA()","v":{"$error":"#N/A"}},"Calibration Error","As above",{"$error":"#N/A"},{"$error":"#N/A"},{"$error":"#N/A"},{"$error":"#N/A"}]
[2023,3,28,0,45012.999999998428,{"$f":"NA()","v":{"$error":"#N/A"}},"Invalid",{"$f":"NA()","v":{"$error":"#N/A"}},{"$f":"NA()","v":{"$error":"#N/A"}},"Invalid",{"$f":"NA()","v":{"$error":"#N/A"}},"Calibration Error","As above",{"$error":"#N/A"},{"$error":"#N/A"},{"$error":"#N/A"},{"$error":"#N/A"}]
[2023,3,28,1,45013.041666665093,{"$f":"NA()","v":{"$error":"#N/A"}},"Invalid",{"$f":"NA()","v":{"$error":"#N/A"}},{"$f":"NA()","v":{"$error":"#N/A"}},"Invalid",{"$f":"NA()","v":{"$error":"#N/A"}},"Calibration Error","As above",{"$error":"#N/A"},{"$error":"#N/A"},{"$error":"#N/A"},{"$error":"#N/A"}]
[2023,3,28,2,45013.083333331757,{"$f":"NA()","v":{"$error":"#N/A"}},"Invalid",{"$f":"NA()","v":{"$error":"#N/A"}},{"$f":"NA()","v":{"$error":"#N/A"}},"Invalid",{"$f":"NA()","v":{"$error":"#N/A"}},"Calibration Error","As above",{"$error":"#N/A"},{"$error":"#N/A"},{"$error":"#N/A"},{"$error":"#N/A"}]
[2023,3,28,3,45013.124999998421,{"$f":"NA()","v":{"$error":"#N/A"}},"Invalid",{"$f":"NA()","v":{"$error":"#N/A"}},{"$f":"NA()","v":{"$error":"#N/A"}},"Invalid",{"$f":"NA()","v":{"$error":"#N/A"}},"Calibration Error","As above",{"$error":"#N/A"},{"$error":"#N/A"},{"$error":"#N/A"},{"$error":"#N/A"}]
[2023,3,28,4,45013.166666665085,{"$f":"NA()","v":{"$error":"#N/A"}},"Invalid",{"$f":"NA()","v":{"$error":"#N/A"}},{"$f":"NA()","v":{"$error":"#N/A"}},"Invalid",{"$f":"NA()","v":{"$error":"#N/A"}},"Calibration Error","As above",{"$error":"#N/A"},{"$error":"#N/A"},{"$error":"#N/A"},{"$error":"#N/A"}]
[2023,3,28,5,45013.20833333175,{"$f":"NA()","v":{"$error":"#N/A"}},"Invalid",{"$f":"NA()","v":{"$error":"#N/A"}},{"$f":"NA()","v":{"$error":"#N/A"}},"Invalid",{"$f":"NA()","v":{"$error":"#N/A"}},"Calibration Error","As above",{"$error":"#N/A"},{"$error":"#N/A"},{"$error":"#N/A"},{"$error":"#N/A"}]
[2023,3,28,6,45013.249999998414,{"$f":"NA()","v":{"$error":"#N/A"}},"Invalid",{"$f":"NA()","v":{"$error":"#N/A"}},{"$f":"NA()","v":{"$error":"#N/A"}},"Invalid",{"$f":"NA()","v":{"$error":"#N/A"}},"Calibration Error","As above",{"$error":"#N/A"},{"$error":"#N/A"},{"$error":"#N/A"},{"$error":"#N/A"}]
[2023,3,28,7,45013.291666665078,{"$f":"NA()","v":{"$error":"#N/A"}},"Invalid",{"$f":"NA()","v":{"$error":"#N/A"}},{"$f":"NA()","v":{"$error":"#N/A"}},"Invalid",{"$f":"NA()","v":{"$error":"#N/A"}},"Calibration Error","As above",{"$error":"#N/A"},{"$error":"#N/A"},{"$error":"#N/A"},{"$error":"#N/A"}]
[2023,3,28,8,45013.333333331742,{"$f":"NA()","v":{"$error":"#N/A"}},"Invalid",{"$f":"NA()","v":{"$error":"#N/A"}},{"$f":"NA()","v":{"$error":"#N/A"}},"Invalid",{"$f":"NA()","v":{"$error":"#N/A"}},"Calibration Error","As above",{"$error":"#N/A"},{"$error":"#N/A"},{"$error":"#N/A"},{"$error":"#N/A"}]
[2023,3,28,9,45013.374999998407,{"$f":"NA()","v":{"$error":"#N/A"}},"Invalid",{"$f":"NA()","v":{"$error":"#N/A"}},{"$f":"NA()","v":{"$error":"#N/A"}},"Invalid",{"$f":"NA()","v":{"$error":"#N/A"}},"Calibration Error","As above",{"$error":"#N/A"},{"$error":"#N/A"},{"$error":"#N/A"},{"$error":"#N/A"}]
[2023,3,28,10,45013.416666665071,{"$f":"NA()","v":{"$error":"#N/A"}},"Invalid",{"$f":"NA()","v":{"$error":"#N/A"}},{"$f":"NA()","v":{"$error":"#N/A"}},"Invalid",{"$f":"NA()","v":{"$error":"#N/A"}},"Calibration Error","As above",{"$error":"#N/A"},{"$error":"#N/A"},{"$error":"#N/A"},{"$error":"#N/A"}]
[2023,3,28,11,45013.458333331735,{"$f":"NA()","v":{"$error":"#N/A"}},"Invalid",{"$f":"NA()","v":{"$error":"#N/A"}},{"$f":"NA()","v":{"$error":"#N/A"}},"Invalid",{"$f":"NA()","v":{"$error":"#N/A"}},"Calibration Error","As above",{"$error":"#N/A"},{"$error":"#N/A"},{"$error":"#N/A"},{"$error":"#N/A"}]
[2023,3,28,12,45013.499999998399,{"$f":"NA()","v":{"$error":"#N/A"}},"Invalid",{"$f":"NA()","v":{"$error":"#N/A"}},{"$f":"NA()","v":{"$error":"#N/A"}},"Invalid",{"$f":"NA()","v":{"$error":"#N/A"}},"Calibration Error","As above",{"$error":"#N/A"},{"$error":"#N/A"},{"$error":"#N/A"},{"$error":"#N/A"}]
[2023,3,28,13,45013.541666665064,{"$f":"NA()","v":{"$error":"#N/A"}},"Invalid",{"$f":"NA()","v":{"$error":"#N/A"}},{"$f":"NA()","v":{"$error":"#N/A"}},"Invalid",{"$f":"NA()","v":{"$error":"#N/A"}},"Calibration Error","As above",{"$error":"#N/A"},{"$error":"#N/A"},{"$error":"#N/A"},{"$error":"#N/A"}]
[2023,3,28,14,45013.583333331728,{"$f":"NA()","v":{"$error":"#N/A"}},"Invalid",{"$f":"NA()","v":{"$error":"#N/A"}},{"$f":"NA()","v":{"$error":"#N/A"}},"Invalid",{"$f":"NA()","v":{"$error":"#N/A"}},"Calibration Error","As above",{"$error":"#N/A"},{"$error":"#N/A"},{"$error":"#N/A"},{"$error":"#N/A"}]
[2023,3,28,15,45013.624999998392,{"$f":"NA()","v":{"$error":"#N/A"}},"Invalid",{"$f":"NA()","v":{"$error":"#N/A"}},{"$f":"NA()","v":{"$error":"#N/A"}},"Invalid",{"$f":"NA()","v":{"$error":"#N/A"}},"Calibration Error","As above",{"$error":"#N/A"},{"$error":"#N/A"},{"$error":"#N/A"},{"$error":"#N/A"}]
[2023,3,28,16,45013.666666665056,{"$f":"NA()","v":{"$error":"#N/A"}},"Invalid",{"$f":"NA()","v":{"$error":"#N/A"}},{"$f":"NA()","v":{"$error":"#N/A"}},"Invalid",{"$f":"NA()","v":{"$error":"#N/A"}},"Calibration Error","As above",{"$error":"#N/A"},{"$error":"#N/A"},{"$error":"#N/A"},{"$error":"#N/A"}]
[2023,{"$f":"B666","v":3},{"$f":"C643+1","v":28},17,45013.70833333172,{"$f":"NA()","v":{"$error":"#N/A"}},"Invalid",{"$f":"NA()","v":{"$error":"#N/A"}},{"$f":"NA()","v":{"$error":"#N/A"}},"Invalid",{"$f":"NA()","v":{"$error":"#N/A"}},"Calibration Error","As above",{"$error":"#N/A"},{"$error":"#N/A"},{"$error":"#N/A"},{"$error":"#N/A"}]
[2023,3,28,18,45013.749999998385,{"$f":"NA()","v":{"$error":"#N/A"}},"Invalid",{"$f":"NA()","v":{"$error":"#N/A"}},{"$f":"NA()","v":{"$error":"#N/A"}},"Invalid",{"$f":"NA()","v":{"$error":"#N/A"}},"Calibration Error","As above",{"$error":"#N/A"},{"$error":"#N/A"},{"$error":"#N/A"},{"$error":"#N/A"}]
[2023,3,28,19,45013.791666665049,{"$f":"NA()","v":{"$error":"#N/A"}},"Invalid",{"$f":"NA()","v":{"$error":"#N/A"}},{"$f":"NA()","v":{"$error":"#N/A"}},"Invalid",{"$f":"NA()","v":{"$error":"#N/A"}},"Calibration Error","As above",{"$error":"#N/A"},{"$error":"#N/A"},{"$error":"#N/A"},{"$error":"#N/A"}]
[2023,3,28,20,45013.833333331713,{"$f":"NA()","v":{"$error":"#N/A"}},"Invalid",{"$f":"NA()","v":{"$error":"#N/A"}},{"$f":"NA()","v":{"$error":"#N/A"}},"Invalid",{"$f":"NA()","v":{"$error":"#N/A"}},"Calibration Error","As above",{"$error":"#N/A"},{"$error":"#N/A"},{"$error":"#N/A"},{"$error":"#N/A"}]
[2023,3,28,21,45013.874999998377,{"$f":"NA()","v":{"$error":"#N/A"}},"Invalid",{"$f":"NA()","v":{"$error":"#N/A"}},{"$f":"NA()","v":{"$error":"#N/A"}},"Invalid",{"$f":"NA()","v":{"$error":"#N/A"}},"Calibration Error","As above",{"$error":"#N/A"},{"$error":"#N/A"},{"$error":"#N/A"},{"$error":"#N/A"}]
[2023,3,28,22,45013.916666665042,{"$f":"NA()","v":{"$error":"#N/A"}},"Invalid",{"$f":"NA()","v":{"$error":"#N/A"}},{"$f":"NA()","v":{"$error":"#N/A"}},"Invalid",{"$f":"NA()","v":{"$error":"#N/A"}},"Calibration Error","As above",{"$error":"#N/A"},{"$error":"#N/A"},{"$error":"#N/A"},{"$error":"#N/A"}]
[2023,3,28,23,45013.958333331706,{"$f":"NA()","v":{"$error":"#N/A"}},"Invalid",{"$f":"NA()","v":{"$error":"#N/A"}},{"$f":"NA()","v":{"$error":"#N/A"}},"Invalid",{"$f":"NA()","v":{"$error":"#N/A"}},"Calibration Error","As above",{"$error":"#N/A"},{"$error":"#N/A"},{"$error":"#N/A"},{"$error":"#N/A"}]
[2023,3,29,0,45013.99999999837,{"$f":"NA()","v":{"$error":"#N/A"}},"Invalid",{"$f":"NA()","v":{"$error":"#N/A"}},{"$f":"NA()","v":{"$error":"#N/A"}},"Invalid",{"$f":"NA()","v":{"$error":"#N/A"}},"Calibration Error","As above",{"$error":"#N/A"},{"$error":"#N/A"},{"$error":"#N/A"},{"$error":"#N/A"}]
[2023,3,29,1,45014.041666665034,{"$f":"NA()","v":{"$error":"#N/A"}},"Invalid",{"$f":"NA()","v":{"$error":"#N/A"}},{"$f":"NA()","v":{"$error":"#N/A"}},"Invalid",{"$f":"NA()","v":{"$error":"#N/A"}},"Calibration Error","As above",{"$error":"#N/A"},{"$error":"#N/A"},{"$error":"#N/A"},{"$error":"#N/A"}]
[2023,3,29,2,45014.083333331699,{"$f":"NA()","v":{"$error":"#N/A"}},"Invalid",{"$f":"NA()","v":{"$error":"#N/A"}},{"$f":"NA()","v":{"$error":"#N/A"}},"Invalid",{"$f":"NA()","v":{"$error":"#N/A"}},"Calibration Error","As above",{"$error":"#N/A"},{"$error":"#N/A"},{"$error":"#N/A"},{"$error":"#N/A"}]
[2023,3,29,3,45014.124999998363,{"$f":"NA()","v":{"$error":"#N/A"}},"Invalid",{"$f":"NA()","v":{"$error":"#N/A"}},{"$f":"NA()","v":{"$error":"#N/A"}},"Invalid",{"$f":"NA()","v":{"$error":"#N/A"}},"Calibration Error","As above",{"$error":"#N/A"},{"$error":"#N/A"},{"$error":"#N/A"},{"$error":"#N/A"}]
[2023,3,29,4,45014.166666665027,{"$f":"NA()","v":{"$error":"#N/A"}},"Invalid",{"$f":"NA()","v":{"$error":"#N/A"}},{"$f":"NA()","v":{"$error":"#N/A"}},"Invalid",{"$f":"NA()","v":{"$error":"#N/A"}},"Calibration Error","As above",{"$error":"#N/A"},{"$error":"#N/A"},{"$error":"#N/A"},{"$error":"#N/A"}]
[2023,3,29,5,45014.208333331691,{"$f":"NA()","v":{"$error":"#N/A"}},"Invalid",{"$f":"NA()","v":{"$error":"#N/A"}},{"$f":"NA()","v":{"$error":"#N/A"}},"Invalid",{"$f":"NA()","v":{"$error":"#N/A"}},"Calibration Error","As above",{"$error":"#N/A"},{"$error":"#N/A"},{"$error":"#N/A"},{"$error":"#N/A"}]
[2023,3,29,6,45014.249999998356,{"$f":"NA()","v":{"$error":"#N/A"}},"Invalid",{"$f":"NA()","v":{"$error":"#N/A"}},{"$f":"NA()","v":{"$error":"#N/A"}},"Invalid",{"$f":"NA()","v":{"$error":"#N/A"}},"Calibration Error","As above",{"$error":"#N/A"},{"$error":"#N/A"},{"$error":"#N/A"},{"$error":"#N/A"}]
[2023,3,29,7,45014.29166666502,{"$f":"NA()","v":{"$error":"#N/A"}},"Invalid",{"$f":"NA()","v":{"$error":"#N/A"}},{"$f":"NA()","v":{"$error":"#N/A"}},"Invalid",{"$f":"NA()","v":{"$error":"#N/A"}},"Calibration Error","As above",{"$error":"#N/A"},{"$error":"#N/A"},{"$error":"#N/A"},{"$error":"#N/A"}]
[2023,3,29,8,45014.333333331684,{"$f":"NA()","v":{"$error":"#N/A"}},"Invalid",{"$f":"NA()","v":{"$error":"#N/A"}},{"$f":"NA()","v":{"$error":"#N/A"}},"Invalid",{"$f":"NA()","v":{"$error":"#N/A"}},"Calibration Error","As above",{"$error":"#N/A"},{"$error":"#N/A"},{"$error":"#N/A"},{"$error":"#N/A"}]
[2023,3,29,9,45014.374999998348,{"$f":"NA()","v":{"$error":"#N/A"}},"Invalid",{"$f":"NA()","v":{"$error":"#N/A"}},{"$f":"NA()","v":{"$error":"#N/A"}},"Invalid",{"$f":"NA()","v":{"$error":"#N/A"}},"Calibration Error","As above",{"$error":"#N/A"},{"$error":"#N/A"},{"$error":"#N/A"},{"$error":"#N/A"}]
[2023,3,29,10,45014.416666665013,{"$f":"NA()","v":{"$error":"#N/A"}},"Invalid",{"$f":"NA()","v":{"$error":"#N/A"}},{"$f":"NA()","v":{"$error":"#N/A"}},"Invalid",{"$f":"NA()","v":{"$error":"#N/A"}},"Calibration Error","As above",{"$error":"#N/A"},{"$error":"#N/A"},{"$error":"#N/A"},{"$error":"#N/A"}]
[2023,3,29,11,45014.458333331677,{"$f":"NA()","v":{"$error":"#N/A"}},"Invalid",{"$f":"NA()","v":{"$error":"#N/A"}},{"$f":"NA()","v":{"$error":"#N/A"}},"Invalid",{"$f":"NA()","v":{"$error":"#N/A"}},"Calibration Error","As above",{"$error":"#N/A"},{"$error":"#N/A"},{"$error":"#N/A"},{"$error":"#N/A"}]
[2023,3,29,12,45014.499999998341,{"$f":"NA()","v":{"$error":"#N/A"}},"Invalid",{"$f":"NA()","v":{"$error":"#N/A"}},{"$f":"NA()","v":{"$error":"#N/A"}},"Invalid",{"$f":"NA()","v":{"$error":"#N/A"}},"Calibration Error","As above",{"$error":"#N/A"},{"$error":"#N/A"},{"$error":"#N/A"},{"$error":"#N/A"}]
[2023,3,29,13,45014.541666665005,{"$f":"NA()","v":{"$error":"#N/A"}},"Invalid",{"$f":"NA()","v":{"$error":"#N/A"}},{"$f":"NA()","v":{"$error":"#N/A"}},"Invalid",{"$f":"NA()","v":{"$error":"#N/A"}},"Calibration Error","As above",{"$error":"#N/A"},{"$error":"#N/A"},{"$error":"#N/A"},{"$error":"#N/A"}]
[2023,3,29,14,45014.58333333167,{"$f":"NA()","v":{"$error":"#N/A"}},"Invalid",{"$f":"NA()","v":{"$error":"#N/A"}},{"$f":"NA()","v":{"$error":"#N/A"}},"Invalid",{"$f":"NA()","v":{"$error":"#N/A"}},"Calibration Error","As above",{"$error":"#N/A"},{"$error":"#N/A"},{"$error":"#N/A"},{"$error":"#N/A"}]
[2023,3,29,15,45014.624999998334,{"$f":"NA()","v":{"$error":"#N/A"}},"Invalid",{"$f":"NA()","v":{"$error":"#N/A"}},{"$f":"NA()","v":{"$error":"#N/A"}},"Invalid",{"$f":"NA()","v":{"$error":"#N/A"}},"Calibration Error","As above",{"$error":"#N/A"},{"$error":"#N/A"},{"$error":"#N/A"},{"$error":"#N/A"}]
[2023,3,29,16,45014.666666664998,{"$f":"NA()","v":{"$error":"#N/A"}},"Invalid",{"$f":"NA()","v":{"$error":"#N/A"}},{"$f":"NA()","v":{"$error":"#N/A"}},"Invalid",{"$f":"NA()","v":{"$error":"#N/A"}},"Calibration Error","As above",{"$error":"#N/A"},{"$error":"#N/A"},{"$error":"#N/A"},{"$error":"#N/A"}]
[2023,3,29,17,45014.708333331662,{"$f":"NA()","v":{"$error":"#N/A"}},"Invalid",{"$f":"NA()","v":{"$error":"#N/A"}},{"$f":"NA()","v":{"$error":"#N/A"}},"Invalid",{"$f":"NA()","v":{"$error":"#N/A"}},"Calibration Error","As above",{"$error":"#N/A"},{"$error":"#N/A"},{"$error":"#N/A"},{"$error":"#N/A"}]
[2023,3,29,18,45014.749999998327,{"$f":"NA()","v":{"$error":"#N/A"}},"Invalid",{"$f":"NA()","v":{"$error":"#N/A"}},{"$f":"NA()","v":{"$error":"#N/A"}},"Invalid",{"$f":"NA()","v":{"$error":"#N/A"}},"Calibration Error","As above",{"$error":"#N/A"},{"$error":"#N/A"},{"$error":"#N/A"},{"$error":"#N/A"}]
[2023,3,29,19,45014.791666664991,{"$f":"NA()","v":{"$error":"#N/A"}},"Invalid",{"$f":"NA()","v":{"$error":"#N/A"}},{"$f":"NA()","v":{"$error":"#N/A"}},"Invalid",{"$f":"NA()","v":{"$error":"#N/A"}},"Calibration Error","As above",{"$error":"#N/A"},{"$error":"#N/A"},{"$error":"#N/A"},{"$error":"#N/A"}]
[2023,3,29,20,45014.833333331655,{"$f":"NA()","v":{"$error":"#N/A"}},"Invalid",{"$f":"NA()","v":{"$error":"#N/A"}},{"$f":"NA()","v":{"$error":"#N/A"}},"Invalid",{"$f":"NA()","v":{"$error":"#N/A"}},"Calibration Error","As above",{"$error":"#N/A"},{"$error":"#N/A"},{"$error":"#N/A"},{"$error":"#N/A"}]
[2023,3,29,21,45014.874999998319,{"$f":"NA()","v":{"$error":"#N/A"}},"Invalid",{"$f":"NA()","v":{"$error":"#N/A"}},{"$f":"NA()","v":{"$error":"#N/A"}},"Invalid",{"$f":"NA()","v":{"$error":"#N/A"}},"Calibration Error","As above",{"$error":"#N/A"},{"$error":"#N/A"},{"$error":"#N/A"},{"$error":"#N/A"}]
[2023,3,29,22,45014.916666664983,{"$f":"NA()","v":{"$error":"#N/A"}},"Invalid",{"$f":"NA()","v":{"$error":"#N/A"}},{"$f":"NA()","v":{"$error":"#N/A"}},"Invalid",{"$f":"NA()","v":{"$error":"#N/A"}},"Calibration Error","As above",{"$error":"#N/A"},{"$error":"#N/A"},{"$error":"#N/A"},{"$error":"#N/A"}]
[2023,3,29,23,45014.958333331648,{"$f":"NA()","v":{"$error":"#N/A"}},"Invalid",{"$f":"NA()","v":{"$error":"#N/A"}},{"$f":"NA()","v":{"$error":"#N/A"}},"Invalid",{"$f":"NA()","v":{"$error":"#N/A"}},"Calibration Error","As above",{"$error":"#N/A"},{"$error":"#N/A"},{"$error":"#N/A"},{"$error":"#N/A"}]
[2023,3,30,0,45014.999999998312,{"$f":"NA()","v":{"$error":"#N/A"}},"Invalid",{"$f":"NA()","v":{"$error":"#N/A"}},{"$f":"NA()","v":{"$error":"#N/A"}},"Invalid",{"$f":"NA()","v":{"$error":"#N/A"}},"Calibration Error","As above",{"$error":"#N/A"},{"$error":"#N/A"},{"$error":"#N/A"},{"$error":"#N/A"}]
[2023,3,30,1,45015.041666664976,{"$f":"NA()","v":{"$error":"#N/A"}},"Invalid",{"$f":"NA()","v":{"$error":"#N/A"}},{"$f":"NA()","v":{"$error":"#N/A"}},"Invalid",{"$f":"NA()","v":{"$error":"#N/A"}},"Calibration Error","As above",{"$error":"#N/A"},{"$error":"#N/A"},{"$error":"#N/A"},{"$error":"#N/A"}]
[2023,3,30,2,45015.08333333164,{"$f":"NA()","v":{"$error":"#N/A"}},"Invalid",{"$f":"NA()","v":{"$error":"#N/A"}},{"$f":"NA()","v":{"$error":"#N/A"}},"Invalid",{"$f":"NA()","v":{"$error":"#N/A"}},"Calibration Error","As above",{"$error":"#N/A"},{"$error":"#N/A"},{"$error":"#N/A"},{"$error":"#N/A"}]
[2023,3,30,3,45015.124999998305,{"$f":"NA()","v":{"$error":"#N/A"}},"Invalid",{"$f":"NA()","v":{"$error":"#N/A"}},{"$f":"NA()","v":{"$error":"#N/A"}},"Invalid",{"$f":"NA()","v":{"$error":"#N/A"}},"Calibration Error","As above",{"$error":"#N/A"},{"$error":"#N/A"},{"$error":"#N/A"},{"$error":"#N/A"}]
[2023,3,30,4,45015.166666664969,{"$f":"NA()","v":{"$error":"#N/A"}},"Invalid",{"$f":"NA()","v":{"$error":"#N/A"}},{"$f":"NA()","v":{"$error":"#N/A"}},"Invalid",{"$f":"NA()","v":{"$error":"#N/A"}},"Calibration Error","As above",{"$error":"#N/A"},{"$error":"#N/A"},{"$error":"#N/A"},{"$error":"#N/A"}]
[2023,3,30,5,45015.208333331633,{"$f":"NA()","v":{"$error":"#N/A"}},"Invalid",{"$f":"NA()","v":{"$error":"#N/A"}},{"$f":"NA()","v":{"$error":"#N/A"}},"Invalid",{"$f":"NA()","v":{"$error":"#N/A"}},"Calibration Error","As above",{"$error":"#N/A"},{"$error":"#N/A"},{"$error":"#N/A"},{"$error":"#N/A"}]
[2023,3,30,6,45015.249999998297,{"$f":"NA()","v":{"$error":"#N/A"}},"Invalid",{"$f":"NA()","v":{"$error":"#N/A"}},{"$f":"NA()","v":{"$error":"#N/A"}},"Invalid",{"$f":"NA()","v":{"$error":"#N/A"}},"Calibration Error","As above",{"$error":"#N/A"},{"$error":"#N/A"},{"$error":"#N/A"},{"$error":"#N/A"}]
[2023,3,30,7,45015.291666664962,{"$f":"NA()","v":{"$error":"#N/A"}},"Invalid",{"$f":"NA()","v":{"$error":"#N/A"}},{"$f":"NA()","v":{"$error":"#N/A"}},"Invalid",{"$f":"NA()","v":{"$error":"#N/A"}},"Calibration Error","As above",{"$error":"#N/A"},{"$error":"#N/A"},{"$error":"#N/A"},{"$error":"#N/A"}]
[2023,3,30,8,45015.333333331626,{"$f":"NA()","v":{"$error":"#N/A"}},"Invalid",{"$f":"NA()","v":{"$error":"#N/A"}},{"$f":"NA()","v":{"$error":"#N/A"}},"Invalid",{"$f":"NA()","v":{"$error":"#N/A"}},"Calibration Error","As above",{"$f":"IF(G706=\"Valid\", F706, NA())","v":{"$error":"#N/A"}},{"$f":"IF(G706=\"Valid\", H706, NA())","v":{"$error":"#N/A"}},{"$f":"IF(J706=\"Valid\", I706, NA())","v":{"$error":"#N/A"}},{"$f":"IF(J706=\"Valid\", K706, NA())","v":{"$error":"#N/A"}}]
[2023,3,30,9,45015.37499999829,{"$f":"NA()","v":{"$error":"#N/A"}},"Invalid",{"$f":"NA()","v":{"$error":"#N/A"}},{"$f":"NA()","v":{"$error":"#N/A"}},"Invalid",{"$f":"NA()","v":{"$error":"#N/A"}},"Calibration Error","As above",{"$error":"#N/A"},{"$error":"#N/A"},{"$error":"#N/A"},{"$error":"#N/A"}]
[{"$f":"A707","v":2023},3,30,{"$f":"IF(D707=23,0,D707+1)","v":10},{"$f":"E707+0.0416666666666666","v":45015.416666664954},{"$f":"NA()","v":{"$error":"#N/A"}},"Invalid",{"$f":"NA()","v":{"$error":"#N/A"}},{"$f":"NA()","v":{"$error":"#N/A"}},"Invalid",{"$f":"NA()","v":{"$error":"#N/A"}},"Calibration Error","As above",{"$error":"#N/A"},{"$error":"#N/A"},{"$error":"#N/A"},{"$error":"#N/A"}]
[2023,3,30,11,45015.458333331619,{"$f":"NA()","v":{"$error":"#N/A"}},"Invalid",{"$f":"NA()","v":{"$error":"#N/A"}},{"$f":"NA()","v":{"$error":"#N/A"}},"Invalid",{"$f":"NA()","v":{"$error":"#N/A"}},"Calibration Error","As above",{"$error":"#N/A"},{"$error":"#N/A"},{"$error":"#N/A"},{"$error":"#N/A"}]
[2023,3,30,12,45015.499999998283,{"$f":"NA()","v":{"$error":"#N/A"}},"Invalid",{"$f":"NA()","v":{"$error":"#N/A"}},{"$f":"NA()","v":{"$error":"#N/A"}},"Invalid",{"$f":"NA()","v":{"$error":"#N/A"}},"Calibration Error","As above",{"$error":"#N/A"},{"$error":"#N/A"},{"$error":"#N/A"},{"$error":"#N/A"}]
[2023,3,30,13,45015.541666664947,{"$f":"NA()","v":{"$error":"#N/A"}},"Invalid",{"$f":"NA()","v":{"$error":"#N/A"}},{"$f":"NA()","v":{"$error":"#N/A"}},"Invalid",{"$f":"NA()","v":{"$error":"#N/A"}},"Calibration Error","As above",{"$error":"#N/A"},{"$error":"#N/A"},{"$error":"#N/A"},{"$error":"#N/A"}]
[2023,3,30,14,45015.583333331611,{"$f":"NA()","v":{"$error":"#N/A"}},"Invalid",{"$f":"NA()","v":{"$error":"#N/A"}},{"$f":"NA()","v":{"$error":"#N/A"}},"Invalid",{"$f":"NA()","v":{"$error":"#N/A"}},"Calibration Error","As above",{"$error":"#N/A"},{"$error":"#N/A"},{"$error":"#N/A"},{"$error":"#N/A"}]
[2023,3,30,15,45015.624999998276,{"$f":"NA()","v":{"$error":"#N/A"}},"Invalid",{"$f":"NA()","v":{"$error":"#N/A"}},{"$f":"NA()","v":{"$error":"#N/A"}},"Invalid",{"$f":"NA()","v":{"$error":"#N/A"}},"Calibration Error","As above",{"$error":"#N/A"},{"$error":"#N/A"},{"$error":"#N/A"},{"$error":"#N/A"}]
[2023,3,30,16,45015.66666666494,{"$f":"NA()","v":{"$error":"#N/A"}},"Invalid",{"$f":"NA()","v":{"$error":"#N/A"}},{"$f":"NA()","v":{"$error":"#N/A"}},"Invalid",{"$f":"NA()","v":{"$error":"#N/A"}},"Calibration Error","As above",{"$error":"#N/A"},{"$error":"#N/A"},{"$error":"#N/A"},{"$error":"#N/A"}]
[2023,3,30,17,45015.708333331604,{"$f":"NA()","v":{"$error":"#N/A"}},"Invalid",{"$f":"NA()","v":{"$error":"#N/A"}},{"$f":"NA()","v":{"$error":"#N/A"}},"Invalid",{"$f":"NA()","v":{"$error":"#N/A"}},"Calibration Error","As above",{"$error":"#N/A"},{"$error":"#N/A"},{"$error":"#N/A"},{"$error":"#N/A"}]
[2023,3,30,18,45015.749999998268,{"$f":"NA()","v":{"$error":"#N/A"}},"Invalid",{"$f":"NA()","v":{"$error":"#N/A"}},{"$f":"NA()","v":{"$error":"#N/A"}},"Invalid",{"$f":"NA()","v":{"$error":"#N/A"}},"Calibration Error","As above",{"$error":"#N/A"},{"$error":"#N/A"},{"$error":"#N/A"},{"$error":"#N/A"}]
[2023,3,30,19,45015.791666664933,{"$f":"NA()","v":{"$error":"#N/A"}},"Invalid",{"$f":"NA()","v":{"$error":"#N/A"}},{"$f":"NA()","v":{"$error":"#N/A"}},"Invalid",{"$f":"NA()","v":{"$error":"#N/A"}},"Calibration Error","As above",{"$error":"#N/A"},{"$error":"#N/A"},{"$error":"#N/A"},{"$error":"#N/A"}]
[2023,3,30,20,45015.833333331597,{"$f":"NA()","v":{"$error":"#N/A"}},"Invalid",{"$f":"NA()","v":{"$error":"#N/A"}},{"$f":"NA()","v":{"$error":"#N/A"}},"Invalid",{"$f":"NA()","v":{"$error":"#N/A"}},"Calibration Error","As above",{"$error":"#N/A"},{"$error":"#N/A"},{"$error":"#N/A"},{"$error":"#N/A"}]
[2023,3,30,21,45015.874999998261,{"$f":"NA()","v":{"$error":"#N/A"}},"Invalid",{"$f":"NA()","v":{"$error":"#N/A"}},{"$f":"NA()","v":{"$error":"#N/A"}},"Invalid",{"$f":"NA()","v":{"$error":"#N/A"}},"Calibration Error","As above",{"$error":"#N/A"},{"$error":"#N/A"},{"$error":"#N/A"},{"$error":"#N/A"}]
[2023,3,30,22,45015.916666664925,{"$f":"NA()","v":{"$error":"#N/A"}},"Invalid",{"$f":"NA()","v":{"$error":"#N/A"}},{"$f":"NA()","v":{"$error":"#N/A"}},"Invalid",{"$f":"NA()","v":{"$error":"#N/A"}},"Calibration Error","As above",{"$error":"#N/A"},{"$error":"#N/A"},{"$error":"#N/A"},{"$error":"#N/A"}]
[2023,3,30,23,45015.95833333159,{"$f":"NA()","v":{"$error":"#N/A"}},"Invalid",{"$f":"NA()","v":{"$error":"#N/A"}},{"$f":"NA()","v":{"$error":"#N/A"}},"Invalid",{"$f":"NA()","v":{"$error":"#N/A"}},"Calibration Error","As above",{"$error":"#N/A"},{"$error":"#N/A"},{"$error":"#N/A"},{"$error":"#N/A"}]
[2023,3,31,0,45015.999999998254,{"$f":"NA()","v":{"$error":"#N/A"}},"Invalid",{"$f":"NA()","v":{"$error":"#N/A"}},{"$f":"NA()","v":{"$error":"#N/A"}},"Invalid",{"$f":"NA()","v":{"$error":"#N/A"}},"Calibration Error","As above",{"$error":"#N/A"},{"$error":"#N/A"},{"$error":"#N/A"},{"$error":"#N/A"}]
[2023,3,31,1,45016.041666664918,{"$f":"NA()","v":{"$error":"#N/A"}},"Invalid",{"$f":"NA()","v":{"$error":"#N/A"}},{"$f":"NA()","v":{"$error":"#N/A"}},"Invalid",{"$f":"NA()","v":{"$error":"#N/A"}},"Calibration Error","As above",{"$error":"#N/A"},{"$error":"#N/A"},{"$error":"#N/A"},{"$error":"#N/A"}]
[2023,3,31,2,45016.083333331582,{"$f":"NA()","v":{"$error":"#N/A"}},"Invalid",{"$f":"NA()","v":{"$error":"#N/A"}},{"$f":"NA()","v":{"$error":"#N/A"}},"Invalid",{"$f":"NA()","v":{"$error":"#N/A"}},"Calibration Error","As above",{"$error":"#N/A"},{"$error":"#N/A"},{"$error":"#N/A"},{"$error":"#N/A"}]
[2023,3,31,3,45016.124999998246,{"$f":"NA()","v":{"$error":"#N/A"}},"Invalid",{"$f":"NA()","v":{"$error":"#N/A"}},{"$f":"NA()","v":{"$error":"#N/A"}},"Invalid",{"$f":"NA()","v":{"$error":"#N/A"}},"Calibration Error","As above",{"$error":"#N/A"},{"$error":"#N/A"},{"$error":"#N/A"},{"$error":"#N/A"}]
[2023,3,31,4,45016.166666664911,{"$f":"NA()","v":{"$error":"#N/A"}},"Invalid",{"$f":"NA()","v":{"$error":"#N/A"}},{"$f":"NA()","v":{"$error":"#N/A"}},"Invalid",{"$f":"NA()","v":{"$error":"#N/A"}},"Calibration Error","As above",{"$error":"#N/A"},{"$error":"#N/A"},{"$error":"#N/A"},{"$error":"#N/A"}]
[2023,3,31,5,45016.208333331575,{"$f":"NA()","v":{"$error":"#N/A"}},"Invalid",{"$f":"NA()","v":{"$error":"#N/A"}},{"$f":"NA()","v":{"$error":"#N/A"}},"Invalid",{"$f":"NA()","v":{"$error":"#N/A"}},"Calibration Error","As above",{"$error":"#N/A"},{"$error":"#N/A"},{"$error":"#N/A"},{"$error":"#N/A"}]
[2023,3,31,6,45016.249999998239,{"$f":"NA()","v":{"$error":"#N/A"}},"Invalid",{"$f":"NA()","v":{"$error":"#N/A"}},{"$f":"NA()","v":{"$error":"#N/A"}},"Invalid",{"$f":"NA()","v":{"$error":"#N/A"}},"Calibration Error","As above",{"$error":"#N/A"},{"$error":"#N/A"},{"$error":"#N/A"},{"$error":"#N/A"}]
[2023,3,31,7,45016.291666664903,{"$f":"NA()","v":{"$error":"#N/A"}},"Invalid",{"$f":"NA()","v":{"$error":"#N/A"}},{"$f":"NA()","v":{"$error":"#N/A"}},"Invalid",{"$f":"NA()","v":{"$error":"#N/A"}},"Calibration Error","As above",{"$error":"#N/A"},{"$error":"#N/A"},{"$error":"#N/A"},{"$error":"#N/A"}]
[2023,3,31,8,45016.333333331568,{"$f":"NA()","v":{"$error":"#N/A"}},"Invalid",{"$f":"NA()","v":{"$error":"#N/A"}},{"$f":"NA()","v":{"$error":"#N/A"}},"Invalid",{"$f":"NA()","v":{"$error":"#N/A"}},"Calibration Error","As above",{"$error":"#N/A"},{"$error":"#N/A"},{"$error":"#N/A"},{"$error":"#N/A"}]
[2023,3,{"$f":"C707+1","v":31},9,45016.374999998232,{"$f":"NA()","v":{"$error":"#N/A"}},"Invalid",{"$f":"NA()","v":{"$error":"#N/A"}},{"$f":"NA()","v":{"$error":"#N/A"}},"Invalid",{"$f":"NA()","v":{"$error":"#N/A"}},"Calibration Error","As above",{"$error":"#N/A"},{"$error":"#N/A"},{"$error":"#N/A"},{"$error":"#N/A"}]
[2023,3,31,10,45016.416666664896,{"$f":"NA()","v":{"$error":"#N/A"}},"Invalid",{"$f":"NA()","v":{"$error":"#N/A"}},{"$f":"NA()","v":{"$error":"#N/A"}},"Invalid",{"$f":"NA()","v":{"$error":"#N/A"}},"Calibration Error","As above",{"$error":"#N/A"},{"$error":"#N/A"},{"$error":"#N/A"},{"$error":"#N/A"}]
[2023,3,31,11,45016.45833333156,{"$f":"NA()","v":{"$error":"#N/A"}},"Invalid",{"$f":"NA()","v":{"$error":"#N/A"}},{"$f":"NA()","v":{"$error":"#N/A"}},"Invalid",{"$f":"NA()","v":{"$error":"#N/A"}},"Calibration Error","As above",{"$error":"#N/A"},{"$error":"#N/A"},{"$error":"#N/A"},{"$error":"#N/A"}]
[2023,3,31,12,45016.499999998225,{"$f":"NA()","v":{"$error":"#N/A"}},"Invalid",{"$f":"NA()","v":{"$error":"#N/A"}},{"$f":"NA()","v":{"$error":"#N/A"}},"Invalid",{"$f":"NA()","v":{"$error":"#N/A"}},"Calibration Error","As above",{"$error":"#N/A"},{"$error":"#N/A"},{"$error":"#N/A"},{"$error":"#N/A"}]
[2023,3,31,13,45016.541666664889,{"$f":"NA()","v":{"$error":"#N/A"}},"Invalid",{"$f":"NA()","v":{"$error":"#N/A"}},{"$f":"NA()","v":{"$error":"#N/A"}},"Invalid",{"$f":"NA()","v":{"$error":"#N/A"}},"Calibration Error","As above",{"$error":"#N/A"},{"$error":"#N/A"},{"$error":"#N/A"},{"$error":"#N/A"}]
[2023,3,31,14,45016.583333331553,{"$f":"NA()","v":{"$error":"#N/A"}},"Invalid",{"$f":"NA()","v":{"$error":"#N/A"}},{"$f":"NA()","v":{"$error":"#N/A"}},"Invalid",{"$f":"NA()","v":{"$error":"#N/A"}},"Calibration Error","As above",{"$error":"#N/A"},{"$error":"#N/A"},{"$error":"#N/A"},{"$error":"#N/A"}]
[2023,3,31,15,45016.624999998217,{"$f":"NA()","v":{"$error":"#N/A"}},"Invalid",{"$f":"NA()","v":{"$error":"#N/A"}},{"$f":"NA()","v":{"$error":"#N/A"}},"Invalid",{"$f":"NA()","v":{"$error":"#N/A"}},"Calibration Error","As above",{"$error":"#N/A"},{"$error":"#N/A"},{"$error":"#N/A"},{"$error":"#N/A"}]
[2023,3,31,16,45016.666666664882,{"$f":"NA()","v":{"$error":"#N/A"}},"Invalid",{"$f":"NA()","v":{"$error":"#N/A"}},{"$f":"NA()","v":{"$error":"#N/A"}},"Invalid",{"$f":"NA()","v":{"$error":"#N/A"}},"Calibration Error","As above",{"$error":"#N/A"},{"$error":"#N/A"},{"$error":"#N/A"},{"$error":"#N/A"}]
[2023,3,31,17,45016.708333331546,{"$f":"NA()","v":{"$error":"#N/A"}},"Invalid",{"$f":"NA()","v":{"$error":"#N/A"}},{"$f":"NA()","v":{"$error":"#N/A"}},"Invalid",{"$f":"NA()","v":{"$error":"#N/A"}},"Calibration Error","As above",{"$error":"#N/A"},{"$error":"#N/A"},{"$error":"#N/A"},{"$error":"#N/A"}]
[2023,3,31,18,45016.74999999821,{"$f":"NA()","v":{"$error":"#N/A"}},"Invalid",{"$f":"NA()","v":{"$error":"#N/A"}},{"$f":"NA()","v":{"$error":"#N/A"}},"Invalid",{"$f":"NA()","v":{"$error":"#N/A"}},"Calibration Error","As above",{"$error":"#N/A"},{"$error":"#N/A"},{"$error":"#N/A"},{"$error":"#N/A"}]
[{"$f":"A740","v":2023},3,31,19,45016.791666664874,{"$f":"NA()","v":{"$error":"#N/A"}},"Invalid",{"$f":"NA()","v":{"$error":"#N/A"}},{"$f":"NA()","v":{"$error":"#N/A"}},"Invalid",{"$f":"NA()","v":{"$error":"#N/A"}},"Calibration Error","As above",{"$error":"#N/A"},{"$error":"#N/A"},{"$error":"#N/A"},{"$error":"#N/A"}]
[{"$f":"A741","v":2023},3,31,20,45016.833333331539,{"$f":"NA()","v":{"$error":"#N/A"}},"Invalid",{"$f":"NA()","v":{"$error":"#N/A"}},{"$f":"NA()","v":{"$error":"#N/A"}},"Invalid",{"$f":"NA()","v":{"$error":"#N/A"}},"Calibration Error","As above",{"$error":"#N/A"},{"$error":"#N/A"},{"$error":"#N/A"},{"$error":"#N/A"}]
[{"$f":"A742","v":2023},3,31,21,45016.874999998203,{"$f":"NA()","v":{"$error":"#N/A"}},"Invalid",{"$f":"NA()","v":{"$error":"#N/A"}},{"$f":"NA()","v":{"$error":"#N/A"}},"Invalid",{"$f":"NA()","v":{"$error":"#N/A"}},"Calibration Error","As above",{"$error":"#N/A"},{"$error":"#N/A"},{"$error":"#N/A"},{"$error":"#N/A"}]
[{"$f":"A743","v":2023},3,31,22,45016.916666664867,{"$f":"NA()","v":{"$error":"#N/A"}},"Invalid",{"$f":"NA()","v":{"$error":"#N/A"}},{"$f":"NA()","v":{"$error":"#N/A"}},"Invalid",{"$f":"NA()","v":{"$error":"#N/A"}},"Calibration Error","As above",{"$error":"#N/A"},{"$error":"#N/A"},{"$error":"#N/A"},{"$error":"#N/A"}]
[{"$f":"A744","v":2023},3,31,23,45016.958333331531,{"$f":"NA()","v":{"$error":"#N/A"}},"Invalid",{"$f":"NA()","v":{"$error":"#N/A"}},{"$f":"NA()","v":{"$error":"#N/A"}},"Invalid",{"$f":"NA()","v":{"$error":"#N/A"}},"Calibration Error","As above",{"$error":"#N/A"},{"$error":"#N/A"},{"$error":"#N/A"},{"$error":"#N/A"}]