{"text_format":"1","workbook":"xlsx","n_sheets":7,"sheets":["Instructions","Meta data_sheet","Meta data_lookup","Raw data_sheet","Raw data_format","24hr_PM10_chart","24hr_PM2.5_chart"],"not_rendered":{"charts":4,"images":0,"macros":1,"external_links":0,"defined_names":10,"comments":0,"pivot_tables":0},"unopened":[{"sheet":"24hr_PM10_chart","index":5,"reason":"not_a_worksheet"},{"sheet":"24hr_PM2.5_chart","index":6,"reason":"not_a_worksheet"}],"bounds":{"document_bytes":16777216,"sheet_cells":100000,"rows_first":2000,"rows_last":500,"rows_between":2000,"halvings":0,"cell_chars":16384,"cell_head_chars":4096},"cells_cut":0,"cells_raw":0,"read":"whole","date_system":"1900"}

{"sheet":"Instructions","index":0,"n_rows":0,"n_cols":0,"rows_kept":0,"cut":false,"hidden":false,"merged":[]}

{"sheet":"Meta data_sheet","index":1,"n_rows":17,"n_cols":5,"rows_kept":17,"cut":false,"hidden":false,"merged":[[18,0,18,1],[16,0,16,1]]}
["Ambient Monitoring Station","Details",null,"Ambient Monitoring Results","Details"]
["Location","Werris Creek",null,"PM2.5 monitoring start (dd/mm/yyyy hh:mm)","2019-06-01"]
["Easting",{"$f":"VLOOKUP($B$2,'Meta data_lookup'!$A$2:$D$5,2,FALSE)","v":276783},null,"PM2.5 monitoring end","2019-07-01"]
["Northing",{"$f":"VLOOKUP($B$2,'Meta data_lookup'!$A$2:$D$5,3,FALSE)","v":6528734},null,"PM2.5 monitoring period (h)",{"$f":"(E3-E2)*24","v":720}]
["Site elevation (m)",{"$f":"VLOOKUP($B$2,'Meta data_lookup'!$A$2:$D$5,4,FALSE)","v":"ND"},null,"Number of valid PM2.5 results",{"$f":"COUNTIF('Raw data_sheet'!G2:G745,\"Valid\")","v":530}]
["Description of surrounding land use","Agriculture/Mining",null,"Proportion of valid PM2.5 results (%)",{"$f":"E5/E4","v":0.73611111111111116}]
["Typical sources impacting on the site","Agriculture",null,"PM10 monitoring start (dd/mm/yyyy hh:mm)","2019-06-01"]
["Site compliance with AS/NZS 3580.1.1:2007","Yes",null,"PM10 monitoring end","2019-07-01"]
["PM2.5 method compliance with AS/NZS 3580.9.13:2013\n","Yes",null,"PM10 monitoring period (h)",{"$f":"(E8-E7)*24","v":720}]
["PM2.5 instrument make","Thermo Scientific",null,"Number of valid PM10 results",{"$f":"COUNTIF('Raw data_sheet'!J2:J745,\"Valid\")","v":549}]
["PM2.5 instrument model","1405DF",null,"Proportion of valid PM10 results (%)",{"$f":"E10/E9","v":0.76249999999999996}]
["PM2.5 instrument intake height (m)",3.5]
["PM10 method compliance with AS 3580.9.8-2008\n","No*"]
["PM10 instrument make","Thermo Scientific"]
["PM10 instrument model","1405DF"]
["PM10 instrument intake height (m)",3.5]
["*The 1405DF TEOM used at this site measures PM10 indirectly rather than directly. The unit does however meet the intent of AS 3580.9.8-2008, and this method has been accredited by the USEPA. It is considered scientifically robust and is used extensively throughout NSW with EPA's knowledge and informal acceptance."]

{"sheet":"Meta data_lookup","index":2,"n_rows":5,"n_cols":4,"rows_kept":5,"cut":false,"hidden":false,"merged":[]}
["Location","Easting","Northing","Site elevation (m)"]
["Maules Creek",225302,6623037,"ND"]
["Breeza",237993,6542606,"ND"]
["Will-gai",231804,6596392,"ND"]
["Werris Creek",276783,6528734,"ND"]

{"sheet":"Raw data_sheet","index":3,"n_rows":745,"n_cols":21,"rows_kept":745,"cut":false,"hidden":false,"merged":[]}
["Year","Month","Day","Hour","Date and time","PM2.5_hourly","PM2.5_Data_Status","PM2.5_24hr_rolling_average","PM10_hourly","PM10_Data_Status","PM10_24hr_rolling_average","Cause of data invalidity, if applicable","Detailed comments","PM2.5_hourly_valid_plot","PM2.5_24hr_rolling_ave_valid_plot","PM10_hourly_valid_plot","PM10_24hr_rolling_ave_valid_plot","PM10_hourly_valid_plot_series","PM10_24hr_rolling_average_valid_plot_series","PM2.5_hourly_valid_plot_series","PM2.5_24hr_rolling_average_valid_plot_series"]
[2019,6,1,0,{"$f":"DATE(A2,B2,C2)+TIME(D2,0,0)","v":43617},3.6,"Valid",0.8,19.899999999999999,"Valid",9.5,null,null,{"$f":"IF(G2=\"Valid\", F2, NA())","v":3.6},{"$f":"IF(G2=\"Valid\", H2, NA())","v":0.8},{"$f":"IF(J2=\"Valid\", I2, NA())","v":19.899999999999999},{"$f":"IF(J2=\"Valid\", K2, NA())","v":9.5},19.899999999999999,9.5,3.6,0.8]
[{"$f":"A2","v":2019},{"$f":"B2","v":6},{"$f":"C2","v":1},{"$f":"IF(D2=23,0,D2+1)","v":1},{"$f":"E2+0.0416666666666666","v":43617.041666666664},8.3000000000000007,"Valid",1.1000000000000001,37.700000000000003,"Valid",10.9,null,null,8.3000000000000007,1.1000000000000001,37.700000000000003,10.9,37.700000000000003,10.9,8.3000000000000007,1.1000000000000001]
[{"$f":"A3","v":2019},{"$f":"B3","v":6},1,{"$f":"IF(D3=23,0,D3+1)","v":2},{"$f":"E3+0.0416666666666666","v":43617.083333333328},{"$f":"NA()","v":{"$error":"#N/A"}},"Invalid",{"$f":"NA()","v":{"$error":"#N/A"}},9.6,"Valid",11.1,"Calibration Error","value outside range",{"$error":"#N/A"},{"$error":"#N/A"},9.6,11.1,9.6,11.1]
[2019,6,1,3,43617.124999999993,8.6999999999999993,"Valid",1.4,16.7,"Valid",11.7,null,null,8.6999999999999993,1.4,16.7,11.7,16.7,11.7,8.6999999999999993,1.4]
[2019,6,1,4,43617.166666666657,4.4000000000000004,"Valid",1.7,10.9,"Valid",12.1,null,null,4.4000000000000004,1.7,10.9,12.1,10.9,12.1,4.4000000000000004,1.7]
[2019,6,1,5,43617.208333333321,{"$f":"NA()","v":{"$error":"#N/A"}},"Invalid",{"$f":"NA()","v":{"$error":"#N/A"}},-0.1,"Valid",11.9,"Calibration Error","value outside range",{"$error":"#N/A"},{"$error":"#N/A"},-0.1,11.9,-0.1,11.9]
[2019,6,1,6,43617.249999999985,2.9,"Valid",1.3,12.6,"Valid",12.2,null,null,2.9,1.3,12.6,12.2,12.6,12.2,2.9,1.3]
[2019,6,1,7,43617.29166666665,0.3,"Valid",1.4,6,"Valid",12.4,null,null,0.3,1.4,6,12.4,6,12.4,0.3,1.4]
[2019,6,1,8,43617.333333333314,0.6,"Valid",1.2,4.7,"Valid",12.1,null,null,0.6,1.2,4.7,12.1,4.7,12.1,0.6,1.2]
[2019,6,1,9,43617.374999999978,{"$f":"NA()","v":{"$error":"#N/A"}},"Invalid",{"$f":"NA()","v":{"$error":"#N/A"}},-0.9,"Valid",11.9,"Calibration Error","value outside range",{"$error":"#N/A"},{"$error":"#N/A"},-0.9,11.9,-0.9,11.9]
[2019,6,1,10,43617.416666666642,4.5,"Valid",0.1,13.1,"Valid",11.6,null,null,4.5,0.1,13.1,11.6,13.1,11.6,4.5,0.1]
[2019,6,1,11,43617.458333333307,7.7,"Valid",0.3,20.399999999999999,"Valid",12.3,null,null,7.7,0.3,20.399999999999999,12.3,20.399999999999999,12.3,7.7,0.3]
[2019,6,1,12,43617.499999999971,5.0999999999999996,"Valid",0.3,13,"Valid",12.5,null,null,5.0999999999999996,0.3,13,12.5,13,12.5,5.0999999999999996,0.3]
[2019,6,1,13,43617.541666666635,3.8,"Valid",0.4,9.4,"Valid",12.3,null,null,3.8,0.4,9.4,12.3,9.4,12.3,3.8,0.4]
[2019,6,1,14,43617.583333333299,7,"Valid",0.9,13.5,"Valid",12.7,null,null,7,0.9,13.5,12.7,13.5,12.7,7,0.9]
[2019,6,1,15,43617.624999999964,7.2,"Valid",1.1000000000000001,14.2,"Valid",12.8,null,null,7.2,1.1000000000000001,14.2,12.8,14.2,12.8,7.2,1.1000000000000001]
[2019,6,1,16,43617.666666666628,4.9000000000000004,"Valid",1.2,10.4,"Valid",12.8,null,null,4.9000000000000004,1.2,10.4,12.8,10.4,12.8,4.9000000000000004,1.2]
[2019,6,1,17,43617.708333333292,10.5,"Valid",1.5,15,"Valid",12.9,null,null,10.5,1.5,15,12.9,15,12.9,10.5,1.5]
[2019,6,1,18,43617.749999999956,5.3,"Valid",1.5,8.4,"Valid",12.3,null,null,5.3,1.5,8.4,12.3,8.4,12.3,5.3,1.5]
[2019,6,1,19,43617.791666666621,1.3,"Valid",1.5,5.0999999999999996,"Valid",11.9,null,null,1.3,1.5,5.0999999999999996,11.9,5.0999999999999996,11.9,1.3,1.5]
[2019,6,1,20,43617.833333333285,-1.8,"Valid",1.3,2.8,"Valid",11.6,null,null,-1.8,1.3,2.8,11.6,2.8,11.6,-1.8,1.3]
[2019,6,1,21,43617.874999999949,{"$f":"NA()","v":{"$error":"#N/A"}},"Invalid",{"$f":"NA()","v":{"$error":"#N/A"}},-1.6,"Valid",11.2,"Calibration Error","value outside range",{"$error":"#N/A"},{"$error":"#N/A"},-1.6,11.2,-1.6,11.2]
[2019,6,1,22,43617.916666666613,{"$f":"NA()","v":{"$error":"#N/A"}},"Invalid",{"$f":"NA()","v":{"$error":"#N/A"}},-4,"Valid",9.8000000000000007,"Calibration Error","value outside range",{"$error":"#N/A"},{"$error":"#N/A"},-4,9.8000000000000007,-4,9.8000000000000007]
[2019,{"$f":"B24","v":6},{"$f":"C24","v":1},23,43617.958333333278,0.7,"Valid",1.8,3.8,"Valid",10.1,null,null,0.7,1.8,3.8,10.1,3.8,10.1,0.7,1.8]
[2019,{"$f":"B25","v":6},{"$f":"C2+1","v":2},0,43617.999999999942,6.5,"Valid",1.9,9.4,"Valid",9.6,null,null,6.5,1.9,9.4,9.6,9.4,9.6,6.5,1.9]
[2019,{"$f":"B26","v":6},{"$f":"C3+1","v":2},1,43618.041666666606,2.9,"Valid",1.7,5.3,"Valid",8.1999999999999993,null,null,2.9,1.7,5.3,8.1999999999999993,5.3,8.1999999999999993,2.9,1.7]
[2019,6,2,2,43618.08333333327,11.4,"Valid",2.4,12.5,"Valid",8.3000000000000007,null,null,11.4,2.4,12.5,8.3000000000000007,12.5,8.3000000000000007,11.4,2.4]
[2019,6,2,3,43618.124999999935,-1.6,"Valid",1.9,1.2,"Valid",7.7,null,null,-1.6,1.9,1.2,7.7,1.2,7.7,-1.6,1.9]
[2019,6,2,4,43618.166666666599,{"$f":"NA()","v":{"$error":"#N/A"}},"Invalid",{"$f":"NA()","v":{"$error":"#N/A"}},-0.8,"Valid",7.1,"Calibration Error","value outside range",{"$error":"#N/A"},{"$error":"#N/A"},-0.8,7.1,-0.8,7.1]
[2019,6,2,5,43618.208333333263,{"$f":"NA()","v":{"$error":"#N/A"}},"Invalid",{"$f":"NA()","v":{"$error":"#N/A"}},-5.8,"Valid",6.9,"Calibration Error","value outside range",{"$error":"#N/A"},{"$error":"#N/A"},-5.8,6.9,-5.8,6.9]
[2019,6,2,6,43618.249999999927,3.4,"Valid",1.5,4.9000000000000004,"Valid",6.5,null,null,3.4,1.5,4.9000000000000004,6.5,4.9000000000000004,6.5,3.4,1.5]
[2019,6,2,7,43618.291666666591,{"$f":"NA()","v":{"$error":"#N/A"}},"Invalid",{"$f":"NA()","v":{"$error":"#N/A"}},-2.2000000000000002,"Valid",6.2,"Calibration Error","value outside range",{"$error":"#N/A"},{"$error":"#N/A"},-2.2000000000000002,6.2,-2.2000000000000002,6.2]
[2019,6,2,8,43618.333333333256,-1.3,"Valid",1.2,1.5,"Valid",6.1,null,null,-1.3,1.2,1.5,6.1,1.5,6.1,-1.3,1.2]
[2019,6,2,9,43618.37499999992,-0.4,"Valid",1.9,3.2,"Valid",6.3,null,null,-0.4,1.9,3.2,6.3,3.2,6.3,-0.4,1.9]
[2019,6,2,10,43618.416666666584,1.5,"Valid",1.8,4.8,"Valid",6,null,null,1.5,1.8,4.8,6,4.8,6,1.5,1.8]
[2019,6,2,11,43618.458333333248,-1.5,"Valid",1.4,1,"Valid",5.2,null,null,-1.5,1.4,1,5.2,1,5.2,-1.5,1.4]
[2019,6,2,12,43618.499999999913,-0.1,"Valid",1.2,5.6,"Valid",4.9000000000000004,null,null,-0.1,1.2,5.6,4.9000000000000004,5.6,4.9000000000000004,-0.1,1.2]
[2019,6,2,13,43618.541666666577,3.1,"Valid",1.2,7.1,"Valid",4.8,null,null,3.1,1.2,7.1,4.8,7.1,4.8,3.1,1.2]
[2019,6,2,14,43618.583333333241,2.2999999999999998,"Valid",1,5.2,"Valid",4.5,null,null,2.2999999999999998,1,5.2,4.5,5.2,4.5,2.2999999999999998,1]
[2019,6,2,15,43618.624999999905,4.5999999999999996,"Valid",0.9,8.1999999999999993,"Valid",4.2,null,null,4.5999999999999996,0.9,8.1999999999999993,4.2,8.1999999999999993,4.2,4.5999999999999996,0.9]
[2019,6,2,16,43618.66666666657,5.7,"Valid",0.9,10.5,"Valid",4.3,null,null,5.7,0.9,10.5,4.3,10.5,4.3,5.7,0.9]
[2019,6,2,17,43618.708333333234,6.5,"Valid",0.8,14.4,"Valid",4.2,null,null,6.5,0.8,14.4,4.2,14.4,4.2,6.5,0.8]
[2019,6,2,18,43618.749999999898,10.9,"Valid",1,17.8,"Valid",4.5,null,null,10.9,1,17.8,4.5,17.8,4.5,10.9,1]
[2019,6,2,19,43618.791666666562,-0.6,"Valid",0.9,2.6,"Valid",4.4000000000000004,null,null,-0.6,0.9,2.6,4.4000000000000004,2.6,4.4000000000000004,-0.6,0.9]
[2019,6,2,20,43618.833333333227,1.4,"Valid",1,3.8,"Valid",4.5,null,null,1.4,1,3.8,4.5,3.8,4.5,1.4,1]
[2019,6,2,21,43618.874999999891,{"$f":"NA()","v":{"$error":"#N/A"}},"Invalid",{"$f":"NA()","v":{"$error":"#N/A"}},-1.1000000000000001,"Valid",4.5,"Calibration Error","value outside range",{"$error":"#N/A"},{"$error":"#N/A"},-1.1000000000000001,4.5,-1.1000000000000001,4.5]
[2019,6,2,22,43618.916666666555,3.6,"Valid",1.6,5.0999999999999996,"Valid",4.9000000000000004,null,null,3.6,1.6,5.0999999999999996,4.9000000000000004,5.0999999999999996,4.9000000000000004,3.6,1.6]
[2019,6,2,23,43618.958333333219,-1.3,"Valid",1.5,1.1000000000000001,"Valid",4.8,null,null,-1.3,1.5,1.1000000000000001,4.8,1.1000000000000001,4.8,-1.3,1.5]
[2019,6,3,0,43618.999999999884,1,"Valid",1.3,3.6,"Valid",4.5,null,null,1,1.3,3.6,4.5,3.6,4.5,1,1.3]
[2019,6,3,1,43619.041666666548,-2,"Valid",1.1000000000000001,0.2,"Valid",4.3,null,null,-2,1.1000000000000001,0.2,4.3,0.2,4.3,-2,1.1000000000000001]
[2019,6,3,2,43619.083333333212,{"$f":"NA()","v":{"$error":"#N/A"}},"Invalid",{"$f":"NA()","v":{"$error":"#N/A"}},-2.6,"Valid",3.7,"Calibration Error","value outside range",{"$error":"#N/A"},{"$error":"#N/A"},-2.6,3.7,-2.6,3.7]
[2019,6,3,3,43619.124999999876,{"$f":"NA()","v":{"$error":"#N/A"}},"Invalid",{"$f":"NA()","v":{"$error":"#N/A"}},-0.9,"Valid",3.6,"Calibration Error","value outside range",{"$error":"#N/A"},{"$error":"#N/A"},-0.9,3.6,-0.9,3.6]
[2019,6,3,4,43619.166666666541,6.2,"Valid",0.7,7.4,"Valid",3.9,null,null,6.2,0.7,7.4,3.9,7.4,3.9,6.2,0.7]
[2019,6,3,5,43619.208333333205,{"$f":"NA()","v":{"$error":"#N/A"}},"Invalid",{"$f":"NA()","v":{"$error":"#N/A"}},0.2,"Valid",4.2,"Calibration Error","value outside range",{"$error":"#N/A"},{"$error":"#N/A"},0.2,4.2,0.2,4.2]
[2019,6,3,6,43619.249999999869,1,"Valid",0.9,3.9,"Valid",4.2,null,null,1,0.9,3.9,4.2,3.9,4.2,1,0.9]
[2019,6,3,7,43619.291666666533,7.1,"Valid",1.3,9.1999999999999993,"Valid",4.5999999999999996,null,null,7.1,1.3,9.1999999999999993,4.5999999999999996,9.1999999999999993,4.5999999999999996,7.1,1.3]
[2019,6,3,8,43619.333333333198,1,"Valid",1.4,4.0999999999999996,"Valid",4.7,null,null,1,1.4,4.0999999999999996,4.7,4.0999999999999996,4.7,1,1.4]
[2019,6,3,9,43619.374999999862,2.1,"Valid",1.5,5.7,"Valid",4.8,null,null,2.1,1.5,5.7,4.8,5.7,4.8,2.1,1.5]
[2019,6,3,10,43619.416666666526,3.9,"Valid",1.6,7.1,"Valid",5,null,null,3.9,1.6,7.1,5,7.1,5,3.9,1.6]
[2019,6,3,11,43619.45833333319,6.8,"Valid",2,9.5,"Valid",5.3,null,null,6.8,2,9.5,5.3,9.5,5.3,6.8,2]
[2019,6,3,12,43619.499999999854,5.5,"Valid",2.2000000000000002,8.4,"Valid",5.5,null,null,5.5,2.2000000000000002,8.4,5.5,8.4,5.5,5.5,2.2000000000000002]
[2019,6,3,13,43619.541666666519,-1.9,"Valid",2,2.1,"Valid",5.3,null,null,-1.9,2,2.1,5.3,2.1,5.3,-1.9,2]
[2019,6,3,14,43619.583333333183,7.2,"Valid",2.2000000000000002,11.7,"Valid",5.5,null,null,7.2,2.2000000000000002,11.7,5.5,11.7,5.5,7.2,2.2000000000000002]
[2019,6,3,15,43619.624999999847,0.8,"Valid",2.1,3.9,"Valid",5.3,null,null,0.8,2.1,3.9,5.3,3.9,5.3,0.8,2.1]
[2019,6,3,16,43619.666666666511,1.5,"Valid",1.9,4.5999999999999996,"Valid",5.0999999999999996,null,null,{"$f":"IF(G66=\"Valid\", F66, NA())","v":1.5},{"$f":"IF(G66=\"Valid\", H66, NA())","v":1.9},{"$f":"IF(J66=\"Valid\", I66, NA())","v":4.5999999999999996},{"$f":"IF(J66=\"Valid\", K66, NA())","v":5.0999999999999996},4.5999999999999996,5.0999999999999996,1.5,1.9]
[2019,6,3,17,43619.708333333176,{"$f":"NA()","v":{"$error":"#N/A"}},"Invalid",{"$f":"NA()","v":{"$error":"#N/A"}},-1.9,"Valid",4.4000000000000004,"Calibration Error","value outside range",{"$error":"#N/A"},{"$error":"#N/A"},-1.9,4.4000000000000004,-1.9,4.4000000000000004]
[{"$f":"A67","v":2019},6,3,{"$f":"IF(D67=23,0,D67+1)","v":18},{"$f":"E67+0.0416666666666666","v":43619.74999999984},{"$f":"NA()","v":{"$error":"#N/A"}},"Invalid",{"$f":"NA()","v":{"$error":"#N/A"}},-0.6,"Valid",3.6,"Calibration Error","value outside range",{"$error":"#N/A"},{"$error":"#N/A"},-0.6,3.6,-0.6,3.6]
[2019,6,3,19,43619.791666666504,6.1,"Valid",1,8.1,"Valid",3.8,null,null,6.1,1,8.1,3.8,8.1,3.8,6.1,1]
[2019,6,3,20,43619.833333333168,5.3,"Valid",1.2,7.6,"Valid",4,null,null,5.3,1.2,7.6,4,7.6,4,5.3,1.2]
[2019,6,3,21,43619.874999999833,4.0999999999999996,"Valid",1.5,5.8,"Valid",4.3,null,null,4.0999999999999996,1.5,5.8,4.3,5.8,4.3,4.0999999999999996,1.5]
[2019,6,3,22,43619.916666666497,3.9,"Valid",1.5,4.0999999999999996,"Valid",4.2,null,null,3.9,1.5,4.0999999999999996,4.2,4.0999999999999996,4.2,3.9,1.5]
[2019,6,3,23,43619.958333333161,1.5,"Valid",1.6,1.1000000000000001,"Valid",4.2,null,null,1.5,1.6,1.1000000000000001,4.2,1.1000000000000001,4.2,1.5,1.6]
[2019,6,4,0,43619.999999999825,{"$f":"NA()","v":{"$error":"#N/A"}},"Invalid",{"$f":"NA()","v":{"$error":"#N/A"}},13.7,"Valid",4.5999999999999996,"Calibration Error","PM2.5 > PM10",{"$error":"#N/A"},{"$error":"#N/A"},13.7,4.5999999999999996,13.7,4.5999999999999996]
[2019,6,4,1,43620.04166666649,{"$f":"NA()","v":{"$error":"#N/A"}},"Invalid",{"$f":"NA()","v":{"$error":"#N/A"}},-4.8,"Valid",4.4000000000000004,"Calibration Error","value outside range",{"$error":"#N/A"},{"$error":"#N/A"},-4.8,4.4000000000000004,-4.8,4.4000000000000004]
[2019,6,4,2,43620.083333333154,{"$f":"NA()","v":{"$error":"#N/A"}},"Invalid",{"$f":"NA()","v":{"$error":"#N/A"}},-2.8,"Valid",4.4000000000000004,"Calibration Error","value outside range",{"$error":"#N/A"},{"$error":"#N/A"},-2.8,4.4000000000000004,-2.8,4.4000000000000004]
[2019,6,4,3,43620.124999999818,0,"Valid",2.2000000000000002,2.1,"Valid",4.5,null,null,0,2.2000000000000002,2.1,4.5,2.1,4.5,0,2.2000000000000002]
[2019,6,4,4,43620.166666666482,3.1,"Valid",2,4.4000000000000004,"Valid",4.4000000000000004,null,null,3.1,2,4.4000000000000004,4.4000000000000004,4.4000000000000004,4.4000000000000004,3.1,2]
[2019,6,4,5,43620.208333333147,1.5,"Valid",2.2000000000000002,3.1,"Valid",4.5,null,null,1.5,2.2000000000000002,3.1,4.5,3.1,4.5,1.5,2.2000000000000002]
[2019,6,4,6,43620.249999999811,6.6,"Valid",2.5,7.6,"Valid",4.7,null,null,6.6,2.5,7.6,4.7,7.6,4.7,6.6,2.5]
[2019,6,4,7,43620.291666666475,11.7,"Valid",2.7,12.1,"Valid",4.8,null,null,11.7,2.7,12.1,4.8,12.1,4.8,11.7,2.7]
[2019,6,4,8,43620.333333333139,5.0999999999999996,"Valid",2.8,6.5,"Valid",4.9000000000000004,null,null,5.0999999999999996,2.8,6.5,4.9000000000000004,6.5,4.9000000000000004,5.0999999999999996,2.8]
[2019,6,4,9,43620.374999999804,14.7,"Valid",3.4,15.3,"Valid",5.3,null,null,14.7,3.4,15.3,5.3,15.3,5.3,14.7,3.4]
[2019,6,4,10,43620.416666666468,7.2,"Valid",3.5,9.1,"Valid",5.5,null,null,7.2,3.5,9.1,5.5,9.1,5.5,7.2,3.5]
[2019,6,4,11,43620.458333333132,22,"Valid",4.2,24.1,"Valid",6.1,null,null,22,4.2,24.1,6.1,24.1,6.1,22,4.2]
[2019,6,4,12,43620.499999999796,9,"Valid",4.4000000000000004,11.2,"Valid",6.3,null,null,9,4.4000000000000004,11.2,6.3,11.2,6.3,9,4.4000000000000004]
[2019,6,4,13,43620.541666666461,8.4,"Valid",4.8,11.4,"Valid",6.6,null,null,8.4,4.8,11.4,6.6,11.4,6.6,8.4,4.8]
[2019,6,4,14,43620.583333333125,15.6,"Valid",5.2,18.5,"Valid",7,null,null,15.6,5.2,18.5,7,18.5,7,15.6,5.2]
[2019,6,4,15,43620.624999999789,2.2000000000000002,"Valid",5.2,10,"Valid",7.2,null,null,2.2000000000000002,5.2,10,7.2,10,7.2,2.2000000000000002,5.2]
[2019,6,4,16,43620.666666666453,3.8,"Valid",5.3,11.4,"Valid",7.5,null,null,3.8,5.3,11.4,7.5,11.4,7.5,3.8,5.3]
[2019,{"$f":"B90","v":6},{"$f":"C67+1","v":4},17,43620.708333333117,9.4,"Valid",5.9,20.100000000000001,"Valid",8.4,null,null,9.4,5.9,20.100000000000001,8.4,20.100000000000001,8.4,9.4,5.9]
[2019,6,4,18,43620.749999999782,7.2,"Valid",6.4,12.1,"Valid",8.9,null,null,7.2,6.4,12.1,8.9,12.1,8.9,7.2,6.4]
[2019,6,4,19,43620.791666666446,8.4,"Valid",6.4,12.3,"Valid",9,null,null,8.4,6.4,12.3,9,12.3,9,8.4,6.4]
[2019,6,4,20,43620.83333333311,9.6999999999999993,"Valid",6.6,13.7,"Valid",9.3000000000000007,null,null,9.6999999999999993,6.6,13.7,9.3000000000000007,13.7,9.3000000000000007,9.6999999999999993,6.6]
[2019,6,4,21,43620.874999999774,9.6999999999999993,"Valid",6.8,14.7,"Valid",9.6,null,null,9.6999999999999993,6.8,14.7,9.6,14.7,9.6,9.6999999999999993,6.8]
[2019,6,4,22,43620.916666666439,12.9,"Valid",7.2,23,"Valid",10.4,null,null,12.9,7.2,23,10.4,23,10.4,12.9,7.2]
[2019,6,4,23,43620.958333333103,12.2,"Valid",7.6,18.100000000000001,"Valid",11,null,null,12.2,7.6,18.100000000000001,11,18.100000000000001,11,12.2,7.6]
[2019,6,5,0,43620.999999999767,12.1,"Valid",7.5,16.7,"Valid",11.2,null,null,12.1,7.5,16.7,11.2,16.7,11.2,12.1,7.5]
[2019,6,5,1,43621.041666666431,8.3000000000000007,"Valid",8.1,11.2,"Valid",11.8,null,null,8.3000000000000007,8.1,11.2,11.8,11.2,11.8,8.3000000000000007,8.1]
[2019,6,5,2,43621.083333333096,11.6,"Valid",8.8000000000000007,14.1,"Valid",12.5,null,null,11.6,8.8000000000000007,14.1,12.5,14.1,12.5,11.6,8.8000000000000007]
[2019,6,5,3,43621.12499999976,13.7,"Valid",9.4,16.2,"Valid",13.1,null,null,13.7,9.4,16.2,13.1,16.2,13.1,13.7,9.4]
[2019,6,5,4,43621.166666666424,13.8,"Valid",9.8000000000000007,18.5,"Valid",13.7,null,null,13.8,9.8000000000000007,18.5,13.7,18.5,13.7,13.8,9.8000000000000007]
[2019,6,5,5,43621.208333333088,12,"Valid",10.3,16.399999999999999,"Valid",14.3,null,null,12,10.3,16.399999999999999,14.3,16.399999999999999,14.3,12,10.3]
[2019,6,5,6,43621.249999999753,6.9,"Valid",10.199999999999999,10.4,"Valid",14.3,null,null,6.9,10.199999999999999,10.4,14.3,10.4,14.3,6.9,10.199999999999999]
[2019,6,5,7,43621.291666666417,11.1,"Valid",10.199999999999999,13.9,"Valid",14.4,null,null,11.1,10.199999999999999,13.9,14.4,13.9,14.4,11.1,10.199999999999999]
[2019,6,5,8,43621.333333333081,11.1,"Valid",10.5,15.5,"Valid",14.8,null,null,11.1,10.5,15.5,14.8,15.5,14.8,11.1,10.5]
[2019,6,5,9,43621.374999999745,12.8,"Valid",10.5,19.399999999999999,"Valid",15,null,null,12.8,10.5,19.399999999999999,15,19.399999999999999,15,12.8,10.5]
[2019,6,5,10,43621.41666666641,9.5,"Valid",10.6,15.9,"Valid",15.4,null,null,9.5,10.6,15.9,15.4,15.9,15.4,9.5,10.6]
[2019,6,5,11,43621.458333333074,10.7,"Valid",10.1,17.5,"Valid",15.1,null,null,10.7,10.1,17.5,15.1,17.5,15.1,10.7,10.1]
[2019,6,5,12,43621.499999999738,12.9,"Valid",10.4,18.3,"Valid",15.5,null,null,12.9,10.4,18.3,15.5,18.3,15.5,12.9,10.4]
[2019,6,5,13,43621.541666666402,12.6,"Valid",10.5,18.7,"Valid",15.8,null,null,12.6,10.5,18.7,15.8,18.7,15.8,12.6,10.5]
[2019,6,5,14,43621.583333333067,15.5,"Valid",10.5,19.8,"Valid",15.9,null,null,15.5,10.5,19.8,15.9,19.8,15.9,15.5,10.5]
[2019,6,5,15,43621.624999999731,12.9,"Valid",11,17.899999999999999,"Valid",16.2,null,null,12.9,11,17.899999999999999,16.2,17.899999999999999,16.2,12.9,11]
[2019,6,5,16,43621.666666666395,4.9000000000000004,"Valid",11,12.9,"Valid",16.2,null,null,4.9000000000000004,11,12.9,16.2,12.9,16.2,4.9000000000000004,11]
[2019,6,5,17,43621.708333333059,5.3,"Valid",10.7,11.1,"Valid",15.7,null,null,5.3,10.7,11.1,15.7,11.1,15.7,5.3,10.7]
[2019,6,5,18,43621.749999999724,5,"Valid",10.6,9.9,"Valid",15.6,null,null,5,10.6,9.9,15.6,9.9,15.6,5,10.6]
[2019,6,5,19,43621.791666666388,5.8,"Valid",10.5,11.2,"Valid",15.5,null,null,5.8,10.5,11.2,15.5,11.2,15.5,5.8,10.5]
[2019,6,5,20,43621.833333333052,8.5,"Valid",10.4,13,"Valid",15.5,null,null,8.5,10.4,13,15.5,13,15.5,8.5,10.4]
[2019,6,5,21,43621.874999999716,13.3,"Valid",10.5,17.399999999999999,"Valid",15.5,null,null,13.3,10.5,17.399999999999999,15.5,17.399999999999999,15.5,13.3,10.5]
[2019,6,5,22,43621.91666666638,13,"Valid",10.5,16.399999999999999,"Valid",15.1,null,null,13,10.5,16.399999999999999,15.1,16.399999999999999,15.1,13,10.5]
[2019,6,5,23,43621.958333333045,8.1999999999999993,"Valid",10.3,10.4,"Valid",14.9,null,null,8.1999999999999993,10.3,10.4,14.9,10.4,14.9,8.1999999999999993,10.3]
[2019,6,6,0,43621.999999999709,1.9,"Valid",9.9,5,"Valid",14.4,null,null,1.9,9.9,5,14.4,5,14.4,1.9,9.9]
[2019,6,6,1,43622.041666666373,6.1,"Valid",9.8000000000000007,8.1999999999999993,"Valid",14.2,null,null,6.1,9.8000000000000007,8.1999999999999993,14.2,8.1999999999999993,14.2,6.1,9.8000000000000007]
[2019,6,6,2,43622.083333333037,12.7,"Valid",9.8000000000000007,15.1,"Valid",14.3,null,null,12.7,9.8000000000000007,15.1,14.3,15.1,14.3,12.7,9.8000000000000007]
[2019,6,6,3,43622.124999999702,8.1999999999999993,"Valid",9.6,11.2,"Valid",14.1,null,null,8.1999999999999993,9.6,11.2,14.1,11.2,14.1,8.1999999999999993,9.6]
[2019,6,6,4,43622.166666666366,2.1,"Valid",9.1,5.2,"Valid",13.5,null,null,2.1,9.1,5.2,13.5,5.2,13.5,2.1,9.1]
[2019,6,6,5,43622.20833333303,5.7,"Valid",8.8000000000000007,8,"Valid",13.1,null,null,5.7,8.8000000000000007,8,13.1,8,13.1,5.7,8.8000000000000007]
[2019,6,6,6,43622.249999999694,{"$f":"NA()","v":{"$error":"#N/A"}},"Invalid",{"$f":"NA()","v":{"$error":"#N/A"}},0.4,"Valid",12.6,"Calibration Error","value outside range",{"$error":"#N/A"},{"$error":"#N/A"},0.4,12.6,0.4,12.6]
[2019,6,6,7,43622.291666666359,3.3,"Valid",8,6.4,"Valid",12.3,null,null,3.3,8,6.4,12.3,6.4,12.3,3.3,8]
[2019,6,6,8,43622.333333333023,-0.9,"Valid",7.6,2,"Valid",11.8,null,null,{"$f":"IF(G130=\"Valid\", F130, NA())","v":-0.9},{"$f":"IF(G130=\"Valid\", H130, NA())","v":7.6},{"$f":"IF(J130=\"Valid\", I130, NA())","v":2},{"$f":"IF(J130=\"Valid\", K130, NA())","v":11.8},2,11.8,-0.9,7.6]
[2019,6,6,9,43622.374999999687,8.8000000000000007,"Valid",7.5,13.3,"Valid",11.8,null,null,8.8000000000000007,7.5,13.3,11.8,13.3,11.8,8.8000000000000007,7.5]
[{"$f":"A131","v":2019},6,6,{"$f":"IF(D131=23,0,D131+1)","v":10},{"$f":"E131+0.0416666666666666","v":43622.416666666351},14.9,"Valid",7.9,18.5,"Valid",12,null,null,14.9,7.9,18.5,12,18.5,12,14.9,7.9]
[2019,6,6,11,43622.458333333016,6.3,"Valid",7.7,10.9,"Valid",11.8,null,null,6.3,7.7,10.9,11.8,10.9,11.8,6.3,7.7]
[2019,6,6,12,43622.49999999968,5.6,"Valid",7.5,8.5,"Valid",11.5,null,null,5.6,7.5,8.5,11.5,8.5,11.5,5.6,7.5]
[2019,6,6,13,43622.541666666344,5.2,"Valid",7.2,7.6,"Valid",11,null,null,5.2,7.2,7.6,11,7.6,11,5.2,7.2]
[2019,6,6,14,43622.583333333008,{"$f":"NA()","v":{"$error":"#N/A"}},"Invalid",{"$f":"NA()","v":{"$error":"#N/A"}},-1.3,"Valid",10.199999999999999,"Calibration Error","value outside range",{"$error":"#N/A"},{"$error":"#N/A"},-1.3,10.199999999999999,-1.3,10.199999999999999]
[2019,6,6,15,43622.624999999673,-1.8,"Valid",5.7,2,"Valid",9.6,null,null,-1.8,5.7,2,9.6,2,9.6,-1.8,5.7]
[2019,6,6,16,43622.666666666337,6.1,"Valid",5.8,10.5,"Valid",9.4,null,null,6.1,5.8,10.5,9.4,10.5,9.4,6.1,5.8]
[2019,6,6,17,43622.708333333001,5.0999999999999996,"Valid",5.7,9.9,"Valid",9.3000000000000007,null,null,5.0999999999999996,5.7,9.9,9.3000000000000007,9.9,9.3000000000000007,5.0999999999999996,5.7]
[2019,6,6,18,43622.749999999665,4.5999999999999996,"Valid",5.6,9.9,"Valid",9.1999999999999993,null,null,4.5999999999999996,5.6,9.9,9.1999999999999993,9.9,9.1999999999999993,4.5999999999999996,5.6]
[2019,6,6,19,43622.79166666633,3.4,"Valid",5.5,6.5,"Valid",8.9,null,null,3.4,5.5,6.5,8.9,6.5,8.9,3.4,5.5]
[2019,6,6,20,43622.833333332994,4,"Valid",5.3,6.4,"Valid",8.6,null,null,4,5.3,6.4,8.6,6.4,8.6,4,5.3]
[2019,6,6,21,43622.874999999658,6.2,"Valid",5,7.5,"Valid",8.3000000000000007,null,null,6.2,5,7.5,8.3000000000000007,7.5,8.3000000000000007,6.2,5]
[2019,6,6,22,43622.916666666322,9.9,"Valid",4.9000000000000004,10.7,"Valid",8.1,null,null,9.9,4.9000000000000004,10.7,8.1,10.7,8.1,9.9,4.9000000000000004]
[2019,6,6,23,43622.958333332987,6.7,"Valid",4.9000000000000004,7.7,"Valid",7.9,null,null,6.7,4.9000000000000004,7.7,7.9,7.7,7.9,6.7,4.9000000000000004]
[2019,6,7,0,43622.999999999651,2.4,"Valid",4.8,4,"Valid",7.9,null,null,2.4,4.8,4,7.9,4,7.9,2.4,4.8]
[2019,6,7,1,43623.041666666315,6.4,"Valid",4.8,8.1999999999999993,"Valid",7.8,null,null,6.4,4.8,8.1999999999999993,7.8,8.1999999999999993,7.8,6.4,4.8]
[2019,6,7,2,43623.083333332979,3.8,"Valid",4.4000000000000004,5.5,"Valid",7.4,null,null,3.8,4.4000000000000004,5.5,7.4,5.5,7.4,3.8,4.4000000000000004]
[2019,6,7,3,43623.124999999643,{"$f":"NA()","v":{"$error":"#N/A"}},"Invalid",{"$f":"NA()","v":{"$error":"#N/A"}},{"$f":"NA()","v":{"$error":"#N/A"}},"Invalid",{"$f":"NA()","v":{"$error":"#N/A"}},"Calibration Error","value outside range",{"$error":"#N/A"},{"$error":"#N/A"},{"$error":"#N/A"},{"$error":"#N/A"}]
[2019,6,7,4,43623.166666666308,{"$f":"NA()","v":{"$error":"#N/A"}},"Invalid",{"$f":"NA()","v":{"$error":"#N/A"}},{"$f":"NA()","v":{"$error":"#N/A"}},"Invalid",{"$f":"NA()","v":{"$error":"#N/A"}},"Calibration Error","value outside range",{"$error":"#N/A"},{"$error":"#N/A"},{"$error":"#N/A"},{"$error":"#N/A"}]
[2019,6,7,5,43623.208333332972,{"$f":"NA()","v":{"$error":"#N/A"}},"Invalid",{"$f":"NA()","v":{"$error":"#N/A"}},{"$f":"NA()","v":{"$error":"#N/A"}},"Invalid",{"$f":"NA()","v":{"$error":"#N/A"}},"Calibration Error","value outside range",{"$error":"#N/A"},{"$error":"#N/A"},{"$error":"#N/A"},{"$error":"#N/A"}]
[2019,6,7,6,43623.249999999636,{"$f":"NA()","v":{"$error":"#N/A"}},"Invalid",{"$f":"NA()","v":{"$error":"#N/A"}},{"$f":"NA()","v":{"$error":"#N/A"}},"Invalid",{"$f":"NA()","v":{"$error":"#N/A"}},"Calibration Error","value outside range",{"$error":"#N/A"},{"$error":"#N/A"},{"$error":"#N/A"},{"$error":"#N/A"}]
[2019,6,7,7,43623.2916666663,{"$f":"NA()","v":{"$error":"#N/A"}},"Invalid",{"$f":"NA()","v":{"$error":"#N/A"}},{"$f":"NA()","v":{"$error":"#N/A"}},"Invalid",{"$f":"NA()","v":{"$error":"#N/A"}},"Calibration Error","value outside range",{"$error":"#N/A"},{"$error":"#N/A"},{"$error":"#N/A"},{"$error":"#N/A"}]
[2019,6,7,8,43623.333333332965,{"$f":"NA()","v":{"$error":"#N/A"}},"Invalid",{"$f":"NA()","v":{"$error":"#N/A"}},{"$f":"NA()","v":{"$error":"#N/A"}},"Invalid",{"$f":"NA()","v":{"$error":"#N/A"}},"Calibration Error","value outside range",{"$error":"#N/A"},{"$error":"#N/A"},{"$error":"#N/A"},{"$error":"#N/A"}]
[2019,{"$f":"B154","v":6},{"$f":"C131+1","v":7},9,43623.374999999629,{"$f":"NA()","v":{"$error":"#N/A"}},"Invalid",{"$f":"NA()","v":{"$error":"#N/A"}},{"$f":"NA()","v":{"$error":"#N/A"}},"Invalid",{"$f":"NA()","v":{"$error":"#N/A"}},"Calibration Error","value outside range",{"$error":"#N/A"},{"$error":"#N/A"},{"$error":"#N/A"},{"$error":"#N/A"}]
[2019,6,7,10,43623.416666666293,{"$f":"NA()","v":{"$error":"#N/A"}},"Invalid",{"$f":"NA()","v":{"$error":"#N/A"}},{"$f":"NA()","v":{"$error":"#N/A"}},"Invalid",{"$f":"NA()","v":{"$error":"#N/A"}},"Calibration Error","value outside range",{"$error":"#N/A"},{"$error":"#N/A"},{"$error":"#N/A"},{"$error":"#N/A"}]
[2019,6,7,11,43623.458333332957,{"$f":"NA()","v":{"$error":"#N/A"}},"Invalid",{"$f":"NA()","v":{"$error":"#N/A"}},{"$f":"NA()","v":{"$error":"#N/A"}},"Invalid",{"$f":"NA()","v":{"$error":"#N/A"}},"Calibration Error","value outside range",{"$error":"#N/A"},{"$error":"#N/A"},{"$error":"#N/A"},{"$error":"#N/A"}]
[2019,6,7,12,43623.499999999622,{"$f":"NA()","v":{"$error":"#N/A"}},"Invalid",{"$f":"NA()","v":{"$error":"#N/A"}},{"$f":"NA()","v":{"$error":"#N/A"}},"Invalid",{"$f":"NA()","v":{"$error":"#N/A"}},"Calibration Error","value outside range",{"$error":"#N/A"},{"$error":"#N/A"},{"$error":"#N/A"},{"$error":"#N/A"}]
[2019,6,7,13,43623.541666666286,{"$f":"NA()","v":{"$error":"#N/A"}},"Invalid",{"$f":"NA()","v":{"$error":"#N/A"}},{"$f":"NA()","v":{"$error":"#N/A"}},"Invalid",{"$f":"NA()","v":{"$error":"#N/A"}},"Calibration Error","value outside range",{"$error":"#N/A"},{"$error":"#N/A"},{"$error":"#N/A"},{"$error":"#N/A"}]
[2019,6,7,14,43623.58333333295,{"$f":"NA()","v":{"$error":"#N/A"}},"Invalid",{"$f":"NA()","v":{"$error":"#N/A"}},{"$f":"NA()","v":{"$error":"#N/A"}},"Invalid",{"$f":"NA()","v":{"$error":"#N/A"}},"Calibration Error","value outside range",{"$error":"#N/A"},{"$error":"#N/A"},{"$error":"#N/A"},{"$error":"#N/A"}]
[2019,6,7,15,43623.624999999614,{"$f":"NA()","v":{"$error":"#N/A"}},"Invalid",{"$f":"NA()","v":{"$error":"#N/A"}},{"$f":"NA()","v":{"$error":"#N/A"}},"Invalid",{"$f":"NA()","v":{"$error":"#N/A"}},"Calibration Error","value outside range",{"$error":"#N/A"},{"$error":"#N/A"},{"$error":"#N/A"},{"$error":"#N/A"}]
[2019,6,7,16,43623.666666666279,{"$f":"NA()","v":{"$error":"#N/A"}},"Invalid",{"$f":"NA()","v":{"$error":"#N/A"}},{"$f":"NA()","v":{"$error":"#N/A"}},"Invalid",{"$f":"NA()","v":{"$error":"#N/A"}},"Calibration Error","value outside range",{"$error":"#N/A"},{"$error":"#N/A"},{"$error":"#N/A"},{"$error":"#N/A"}]
[2019,6,7,17,43623.708333332943,{"$f":"NA()","v":{"$error":"#N/A"}},"Invalid",{"$f":"NA()","v":{"$error":"#N/A"}},{"$f":"NA()","v":{"$error":"#N/A"}},"Invalid",{"$f":"NA()","v":{"$error":"#N/A"}},"Calibration Error","value outside range",{"$error":"#N/A"},{"$error":"#N/A"},{"$error":"#N/A"},{"$error":"#N/A"}]
[2019,6,7,18,43623.749999999607,{"$f":"NA()","v":{"$error":"#N/A"}},"Invalid",{"$f":"NA()","v":{"$error":"#N/A"}},{"$f":"NA()","v":{"$error":"#N/A"}},"Invalid",{"$f":"NA()","v":{"$error":"#N/A"}},"Calibration Error","value outside range",{"$error":"#N/A"},{"$error":"#N/A"},{"$error":"#N/A"},{"$error":"#N/A"}]
[2019,6,7,19,43623.791666666271,{"$f":"NA()","v":{"$error":"#N/A"}},"Invalid",{"$f":"NA()","v":{"$error":"#N/A"}},{"$f":"NA()","v":{"$error":"#N/A"}},"Invalid",{"$f":"NA()","v":{"$error":"#N/A"}},"Calibration Error","value outside range",{"$error":"#N/A"},{"$error":"#N/A"},{"$error":"#N/A"},{"$error":"#N/A"}]
[2019,6,7,20,43623.833333332936,{"$f":"NA()","v":{"$error":"#N/A"}},"Invalid",{"$f":"NA()","v":{"$error":"#N/A"}},{"$f":"NA()","v":{"$error":"#N/A"}},"Invalid",{"$f":"NA()","v":{"$error":"#N/A"}},"Calibration Error","value outside range",{"$error":"#N/A"},{"$error":"#N/A"},{"$error":"#N/A"},{"$error":"#N/A"}]
[2019,6,7,21,43623.8749999996,{"$f":"NA()","v":{"$error":"#N/A"}},"Invalid",{"$f":"NA()","v":{"$error":"#N/A"}},{"$f":"NA()","v":{"$error":"#N/A"}},"Invalid",{"$f":"NA()","v":{"$error":"#N/A"}},"Calibration Error","value outside range",{"$error":"#N/A"},{"$error":"#N/A"},{"$error":"#N/A"},{"$error":"#N/A"}]
[2019,6,7,22,43623.916666666264,{"$f":"NA()","v":{"$error":"#N/A"}},"Invalid",{"$f":"NA()","v":{"$error":"#N/A"}},{"$f":"NA()","v":{"$error":"#N/A"}},"Invalid",{"$f":"NA()","v":{"$error":"#N/A"}},"Calibration Error","value outside range",{"$error":"#N/A"},{"$error":"#N/A"},{"$error":"#N/A"},{"$error":"#N/A"}]
[2019,6,7,23,43623.958333332928,{"$f":"NA()","v":{"$error":"#N/A"}},"Invalid",{"$f":"NA()","v":{"$error":"#N/A"}},{"$f":"NA()","v":{"$error":"#N/A"}},"Invalid",{"$f":"NA()","v":{"$error":"#N/A"}},"Calibration Error","value outside range",{"$error":"#N/A"},{"$error":"#N/A"},{"$error":"#N/A"},{"$error":"#N/A"}]
[2019,6,8,0,43623.999999999593,{"$f":"NA()","v":{"$error":"#N/A"}},"Invalid",{"$f":"NA()","v":{"$error":"#N/A"}},{"$f":"NA()","v":{"$error":"#N/A"}},"Invalid",{"$f":"NA()","v":{"$error":"#N/A"}},"Calibration Error","value outside range",{"$error":"#N/A"},{"$error":"#N/A"},{"$error":"#N/A"},{"$error":"#N/A"}]
[2019,6,8,1,43624.041666666257,{"$f":"NA()","v":{"$error":"#N/A"}},"Invalid",{"$f":"NA()","v":{"$error":"#N/A"}},{"$f":"NA()","v":{"$error":"#N/A"}},"Invalid",{"$f":"NA()","v":{"$error":"#N/A"}},"Calibration Error","value outside range",{"$error":"#N/A"},{"$error":"#N/A"},{"$error":"#N/A"},{"$error":"#N/A"}]
[2019,6,8,2,43624.083333332921,{"$f":"NA()","v":{"$error":"#N/A"}},"Invalid",{"$f":"NA()","v":{"$error":"#N/A"}},{"$f":"NA()","v":{"$error":"#N/A"}},"Invalid",{"$f":"NA()","v":{"$error":"#N/A"}},"Calibration Error","value outside range",{"$error":"#N/A"},{"$error":"#N/A"},{"$error":"#N/A"},{"$error":"#N/A"}]
[2019,6,8,3,43624.124999999585,{"$f":"NA()","v":{"$error":"#N/A"}},"Invalid",{"$f":"NA()","v":{"$error":"#N/A"}},{"$f":"NA()","v":{"$error":"#N/A"}},"Invalid",{"$f":"NA()","v":{"$error":"#N/A"}},"Calibration Error","value outside range",{"$error":"#N/A"},{"$error":"#N/A"},{"$error":"#N/A"},{"$error":"#N/A"}]
[2019,6,8,4,43624.16666666625,{"$f":"NA()","v":{"$error":"#N/A"}},"Invalid",{"$f":"NA()","v":{"$error":"#N/A"}},{"$f":"NA()","v":{"$error":"#N/A"}},"Invalid",{"$f":"NA()","v":{"$error":"#N/A"}},"Calibration Error","value outside range",{"$error":"#N/A"},{"$error":"#N/A"},{"$error":"#N/A"},{"$error":"#N/A"}]
[2019,6,8,5,43624.208333332914,{"$f":"NA()","v":{"$error":"#N/A"}},"Invalid",{"$f":"NA()","v":{"$error":"#N/A"}},{"$f":"NA()","v":{"$error":"#N/A"}},"Invalid",{"$f":"NA()","v":{"$error":"#N/A"}},"Calibration Error","value outside range",{"$error":"#N/A"},{"$error":"#N/A"},{"$error":"#N/A"},{"$error":"#N/A"}]
[2019,6,8,6,43624.249999999578,{"$f":"NA()","v":{"$error":"#N/A"}},"Invalid",{"$f":"NA()","v":{"$error":"#N/A"}},{"$f":"NA()","v":{"$error":"#N/A"}},"Invalid",{"$f":"NA()","v":{"$error":"#N/A"}},"Calibration Error","value outside range",{"$error":"#N/A"},{"$error":"#N/A"},{"$error":"#N/A"},{"$error":"#N/A"}]
[2019,6,8,7,43624.291666666242,{"$f":"NA()","v":{"$error":"#N/A"}},"Invalid",{"$f":"NA()","v":{"$error":"#N/A"}},{"$f":"NA()","v":{"$error":"#N/A"}},"Invalid",{"$f":"NA()","v":{"$error":"#N/A"}},"Calibration Error","value outside range",{"$error":"#N/A"},{"$error":"#N/A"},{"$error":"#N/A"},{"$error":"#N/A"}]
[2019,6,8,8,43624.333333332906,{"$f":"NA()","v":{"$error":"#N/A"}},"Invalid",{"$f":"NA()","v":{"$error":"#N/A"}},{"$f":"NA()","v":{"$error":"#N/A"}},"Invalid",{"$f":"NA()","v":{"$error":"#N/A"}},"Calibration Error","value outside range",{"$error":"#N/A"},{"$error":"#N/A"},{"$error":"#N/A"},{"$error":"#N/A"}]
[2019,6,8,9,43624.374999999571,{"$f":"NA()","v":{"$error":"#N/A"}},"Invalid",{"$f":"NA()","v":{"$error":"#N/A"}},{"$f":"NA()","v":{"$error":"#N/A"}},"Invalid",{"$f":"NA()","v":{"$error":"#N/A"}},"Calibration Error","value outside range",{"$error":"#N/A"},{"$error":"#N/A"},{"$error":"#N/A"},{"$error":"#N/A"}]
[2019,6,8,10,43624.416666666235,{"$f":"NA()","v":{"$error":"#N/A"}},"Invalid",{"$f":"NA()","v":{"$error":"#N/A"}},{"$f":"NA()","v":{"$error":"#N/A"}},"Invalid",{"$f":"NA()","v":{"$error":"#N/A"}},"Calibration Error","value outside range",{"$error":"#N/A"},{"$error":"#N/A"},{"$error":"#N/A"},{"$error":"#N/A"}]
[2019,6,8,11,43624.458333332899,{"$f":"NA()","v":{"$error":"#N/A"}},"Invalid",{"$f":"NA()","v":{"$error":"#N/A"}},{"$f":"NA()","v":{"$error":"#N/A"}},"Invalid",{"$f":"NA()","v":{"$error":"#N/A"}},"Calibration Error","value outside range",{"$error":"#N/A"},{"$error":"#N/A"},{"$error":"#N/A"},{"$error":"#N/A"}]
[2019,6,8,12,43624.499999999563,{"$f":"NA()","v":{"$error":"#N/A"}},"Invalid",{"$f":"NA()","v":{"$error":"#N/A"}},{"$f":"NA()","v":{"$error":"#N/A"}},"Invalid",{"$f":"NA()","v":{"$error":"#N/A"}},"Calibration Error","value outside range",{"$error":"#N/A"},{"$error":"#N/A"},{"$error":"#N/A"},{"$error":"#N/A"}]
[2019,6,8,13,43624.541666666228,{"$f":"NA()","v":{"$error":"#N/A"}},"Invalid",{"$f":"NA()","v":{"$error":"#N/A"}},{"$f":"NA()","v":{"$error":"#N/A"}},"Invalid",{"$f":"NA()","v":{"$error":"#N/A"}},"Calibration Error","value outside range",{"$error":"#N/A"},{"$error":"#N/A"},{"$error":"#N/A"},{"$error":"#N/A"}]
[2019,6,8,14,43624.583333332892,{"$f":"NA()","v":{"$error":"#N/A"}},"Invalid",{"$f":"NA()","v":{"$error":"#N/A"}},{"$f":"NA()","v":{"$error":"#N/A"}},"Invalid",{"$f":"NA()","v":{"$error":"#N/A"}},"Calibration Error","value outside range",{"$error":"#N/A"},{"$error":"#N/A"},{"$error":"#N/A"},{"$error":"#N/A"}]
[2019,6,8,15,43624.624999999556,{"$f":"NA()","v":{"$error":"#N/A"}},"Invalid",{"$f":"NA()","v":{"$error":"#N/A"}},{"$f":"NA()","v":{"$error":"#N/A"}},"Invalid",{"$f":"NA()","v":{"$error":"#N/A"}},"Calibration Error","value outside range",{"$error":"#N/A"},{"$error":"#N/A"},{"$error":"#N/A"},{"$error":"#N/A"}]
[2019,6,8,16,43624.66666666622,{"$f":"NA()","v":{"$error":"#N/A"}},"Invalid",{"$f":"NA()","v":{"$error":"#N/A"}},{"$f":"NA()","v":{"$error":"#N/A"}},"Invalid",{"$f":"NA()","v":{"$error":"#N/A"}},"Calibration Error","value outside range",{"$error":"#N/A"},{"$error":"#N/A"},{"$error":"#N/A"},{"$error":"#N/A"}]
[2019,6,8,17,43624.708333332885,{"$f":"NA()","v":{"$error":"#N/A"}},"Invalid",{"$f":"NA()","v":{"$error":"#N/A"}},{"$f":"NA()","v":{"$error":"#N/A"}},"Invalid",{"$f":"NA()","v":{"$error":"#N/A"}},"Calibration Error","value outside range",{"$error":"#N/A"},{"$error":"#N/A"},{"$error":"#N/A"},{"$error":"#N/A"}]
[2019,6,8,18,43624.749999999549,{"$f":"NA()","v":{"$error":"#N/A"}},"Invalid",{"$f":"NA()","v":{"$error":"#N/A"}},{"$f":"NA()","v":{"$error":"#N/A"}},"Invalid",{"$f":"NA()","v":{"$error":"#N/A"}},"Calibration Error","value outside range",{"$error":"#N/A"},{"$error":"#N/A"},{"$error":"#N/A"},{"$error":"#N/A"}]
[2019,6,8,19,43624.791666666213,{"$f":"NA()","v":{"$error":"#N/A"}},"Invalid",{"$f":"NA()","v":{"$error":"#N/A"}},{"$f":"NA()","v":{"$error":"#N/A"}},"Invalid",{"$error":"#N/A"},"Calibration Error","value outside range",{"$error":"#N/A"},{"$error":"#N/A"},{"$error":"#N/A"},{"$error":"#N/A"}]
[2019,6,8,20,43624.833333332877,{"$f":"NA()","v":{"$error":"#N/A"}},"Invalid",{"$f":"NA()","v":{"$error":"#N/A"}},{"$error":"#N/A"},"Invalid",{"$error":"#N/A"},"Calibration Error","value outside range",{"$error":"#N/A"},{"$error":"#N/A"},{"$error":"#N/A"},{"$error":"#N/A"}]
[2019,6,8,21,43624.874999999542,{"$f":"NA()","v":{"$error":"#N/A"}},"Invalid",{"$f":"NA()","v":{"$error":"#N/A"}},{"$error":"#N/A"},"Invalid",{"$error":"#N/A"},"Calibration Error","value outside range",{"$error":"#N/A"},{"$error":"#N/A"},{"$error":"#N/A"},{"$error":"#N/A"}]
[2019,6,8,22,43624.916666666206,{"$f":"NA()","v":{"$error":"#N/A"}},"Invalid",{"$f":"NA()","v":{"$error":"#N/A"}},{"$error":"#N/A"},"Invalid",{"$error":"#N/A"},"Calibration Error","value outside range",{"$error":"#N/A"},{"$error":"#N/A"},{"$error":"#N/A"},{"$error":"#N/A"}]
[2019,6,8,23,43624.95833333287,{"$f":"NA()","v":{"$error":"#N/A"}},"Invalid",{"$f":"NA()","v":{"$error":"#N/A"}},{"$error":"#N/A"},"Invalid",{"$error":"#N/A"},"Calibration Error","value outside range",{"$error":"#N/A"},{"$error":"#N/A"},{"$error":"#N/A"},{"$error":"#N/A"}]
[2019,6,9,0,43624.999999999534,{"$f":"NA()","v":{"$error":"#N/A"}},"Invalid",{"$f":"NA()","v":{"$error":"#N/A"}},{"$error":"#N/A"},"Invalid",{"$error":"#N/A"},"Calibration Error","value outside range",{"$f":"IF(G194=\"Valid\", F194, NA())","v":{"$error":"#N/A"}},{"$f":"IF(G194=\"Valid\", H194, NA())","v":{"$error":"#N/A"}},{"$f":"IF(J194=\"Valid\", I194, NA())","v":{"$error":"#N/A"}},{"$f":"IF(J194=\"Valid\", K194, NA())","v":{"$error":"#N/A"}}]
[2019,6,9,1,43625.041666666199,{"$f":"NA()","v":{"$error":"#N/A"}},"Invalid",{"$f":"NA()","v":{"$error":"#N/A"}},{"$error":"#N/A"},"Invalid",{"$error":"#N/A"},"Calibration Error","value outside range",{"$error":"#N/A"},{"$error":"#N/A"},{"$error":"#N/A"},{"$error":"#N/A"}]
[{"$f":"A195","v":2019},6,9,{"$f":"IF(D195=23,0,D195+1)","v":2},{"$f":"E195+0.0416666666666666","v":43625.083333332863},{"$f":"NA()","v":{"$error":"#N/A"}},"Invalid",{"$f":"NA()","v":{"$error":"#N/A"}},{"$error":"#N/A"},"Invalid",{"$error":"#N/A"},"Calibration Error","value outside range",{"$error":"#N/A"},{"$error":"#N/A"},{"$error":"#N/A"},{"$error":"#N/A"}]
[2019,6,9,3,43625.124999999527,{"$f":"NA()","v":{"$error":"#N/A"}},"Invalid",{"$f":"NA()","v":{"$error":"#N/A"}},{"$error":"#N/A"},"Invalid",{"$error":"#N/A"},"Calibration Error","value outside range",{"$error":"#N/A"},{"$error":"#N/A"},{"$error":"#N/A"},{"$error":"#N/A"}]
[2019,6,9,4,43625.166666666191,{"$f":"NA()","v":{"$error":"#N/A"}},"Invalid",{"$f":"NA()","v":{"$error":"#N/A"}},{"$error":"#N/A"},"Invalid",{"$error":"#N/A"},"Calibration Error","value outside range",{"$error":"#N/A"},{"$error":"#N/A"},{"$error":"#N/A"},{"$error":"#N/A"}]
[2019,6,9,5,43625.208333332856,{"$f":"NA()","v":{"$error":"#N/A"}},"Invalid",{"$f":"NA()","v":{"$error":"#N/A"}},{"$error":"#N/A"},"Invalid",{"$error":"#N/A"},"Calibration Error","value outside range",{"$error":"#N/A"},{"$error":"#N/A"},{"$error":"#N/A"},{"$error":"#N/A"}]
[2019,6,9,6,43625.24999999952,{"$f":"NA()","v":{"$error":"#N/A"}},"Invalid",{"$f":"NA()","v":{"$error":"#N/A"}},{"$error":"#N/A"},"Invalid",{"$error":"#N/A"},"Calibration Error","value outside range",{"$error":"#N/A"},{"$error":"#N/A"},{"$error":"#N/A"},{"$error":"#N/A"}]
[2019,6,9,7,43625.291666666184,{"$f":"NA()","v":{"$error":"#N/A"}},"Invalid",{"$f":"NA()","v":{"$error":"#N/A"}},{"$error":"#N/A"},"Invalid",{"$error":"#N/A"},"Calibration Error","value outside range",{"$error":"#N/A"},{"$error":"#N/A"},{"$error":"#N/A"},{"$error":"#N/A"}]
[2019,6,9,8,43625.333333332848,{"$f":"NA()","v":{"$error":"#N/A"}},"Invalid",{"$f":"NA()","v":{"$error":"#N/A"}},{"$error":"#N/A"},"Invalid",{"$error":"#N/A"},"Calibration Error","value outside range",{"$error":"#N/A"},{"$error":"#N/A"},{"$error":"#N/A"},{"$error":"#N/A"}]
[2019,6,9,9,43625.374999999513,{"$f":"NA()","v":{"$error":"#N/A"}},"Invalid",{"$f":"NA()","v":{"$error":"#N/A"}},{"$error":"#N/A"},"Invalid",{"$error":"#N/A"},"Calibration Error","value outside range",{"$error":"#N/A"},{"$error":"#N/A"},{"$error":"#N/A"},{"$error":"#N/A"}]
[2019,6,9,10,43625.416666666177,{"$f":"NA()","v":{"$error":"#N/A"}},"Invalid",{"$f":"NA()","v":{"$error":"#N/A"}},{"$error":"#N/A"},"Invalid",{"$error":"#N/A"},"Calibration Error","value outside range",{"$error":"#N/A"},{"$error":"#N/A"},{"$error":"#N/A"},{"$error":"#N/A"}]
[2019,6,9,11,43625.458333332841,{"$f":"NA()","v":{"$error":"#N/A"}},"Invalid",{"$f":"NA()","v":{"$error":"#N/A"}},{"$error":"#N/A"},"Invalid",{"$error":"#N/A"},"Calibration Error","value outside range",{"$error":"#N/A"},{"$error":"#N/A"},{"$error":"#N/A"},{"$error":"#N/A"}]
[2019,6,9,12,43625.499999999505,{"$f":"NA()","v":{"$error":"#N/A"}},"Invalid",{"$f":"NA()","v":{"$error":"#N/A"}},{"$error":"#N/A"},"Invalid",{"$error":"#N/A"},"Calibration Error","value outside range",{"$error":"#N/A"},{"$error":"#N/A"},{"$error":"#N/A"},{"$error":"#N/A"}]
[2019,6,9,13,43625.541666666169,{"$f":"NA()","v":{"$error":"#N/A"}},"Invalid",{"$error":"#N/A"},{"$error":"#N/A"},"Invalid",{"$error":"#N/A"},"Calibration Error","value outside range",{"$error":"#N/A"},{"$error":"#N/A"},{"$error":"#N/A"},{"$error":"#N/A"}]
[2019,6,9,14,43625.583333332834,{"$f":"NA()","v":{"$error":"#N/A"}},"Invalid",{"$error":"#N/A"},{"$error":"#N/A"},"Invalid",{"$error":"#N/A"},"Calibration Error","value outside range",{"$error":"#N/A"},{"$error":"#N/A"},{"$error":"#N/A"},{"$error":"#N/A"}]
[2019,6,9,15,43625.624999999498,{"$f":"NA()","v":{"$error":"#N/A"}},"Invalid",{"$error":"#N/A"},{"$error":"#N/A"},"Invalid",{"$error":"#N/A"},"Calibration Error","value outside range",{"$error":"#N/A"},{"$error":"#N/A"},{"$error":"#N/A"},{"$error":"#N/A"}]
[2019,6,9,16,43625.666666666162,{"$f":"NA()","v":{"$error":"#N/A"}},"Invalid",{"$error":"#N/A"},{"$error":"#N/A"},"Invalid",{"$error":"#N/A"},"Calibration Error","value outside range",{"$error":"#N/A"},{"$error":"#N/A"},{"$error":"#N/A"},{"$error":"#N/A"}]
[2019,6,9,17,43625.708333332826,{"$f":"NA()","v":{"$error":"#N/A"}},"Invalid",{"$error":"#N/A"},{"$error":"#N/A"},"Invalid",{"$error":"#N/A"},"Calibration Error","value outside range",{"$error":"#N/A"},{"$error":"#N/A"},{"$error":"#N/A"},{"$error":"#N/A"}]
[2019,6,9,18,43625.749999999491,{"$f":"NA()","v":{"$error":"#N/A"}},"Invalid",{"$error":"#N/A"},{"$error":"#N/A"},"Invalid",{"$error":"#N/A"},"Calibration Error","value outside range",{"$error":"#N/A"},{"$error":"#N/A"},{"$error":"#N/A"},{"$error":"#N/A"}]
[2019,6,9,19,43625.791666666155,{"$f":"NA()","v":{"$error":"#N/A"}},"Invalid",{"$error":"#N/A"},{"$error":"#N/A"},"Invalid",{"$error":"#N/A"},"Calibration Error","value outside range",{"$error":"#N/A"},{"$error":"#N/A"},{"$error":"#N/A"},{"$error":"#N/A"}]
[2019,6,9,20,43625.833333332819,{"$f":"NA()","v":{"$error":"#N/A"}},"Invalid",{"$error":"#N/A"},{"$error":"#N/A"},"Invalid",{"$error":"#N/A"},"Calibration Error","value outside range",{"$error":"#N/A"},{"$error":"#N/A"},{"$error":"#N/A"},{"$error":"#N/A"}]
[2019,6,9,21,43625.874999999483,{"$f":"NA()","v":{"$error":"#N/A"}},"Invalid",{"$error":"#N/A"},{"$error":"#N/A"},"Invalid",{"$error":"#N/A"},"Calibration Error","value outside range",{"$error":"#N/A"},{"$error":"#N/A"},{"$error":"#N/A"},{"$error":"#N/A"}]
[2019,6,9,22,43625.916666666148,{"$f":"NA()","v":{"$error":"#N/A"}},"Invalid",{"$error":"#N/A"},{"$error":"#N/A"},"Invalid",{"$error":"#N/A"},"Calibration Error","value outside range",{"$error":"#N/A"},{"$error":"#N/A"},{"$error":"#N/A"},{"$error":"#N/A"}]
[2019,6,9,23,43625.958333332812,{"$f":"NA()","v":{"$error":"#N/A"}},"Invalid",{"$error":"#N/A"},{"$error":"#N/A"},"Invalid",{"$error":"#N/A"},"Calibration Error","value outside range",{"$error":"#N/A"},{"$error":"#N/A"},{"$error":"#N/A"},{"$error":"#N/A"}]
[2019,6,10,0,43625.999999999476,{"$f":"NA()","v":{"$error":"#N/A"}},"Invalid",{"$error":"#N/A"},{"$error":"#N/A"},"Invalid",{"$error":"#N/A"},"Calibration Error","value outside range",{"$error":"#N/A"},{"$error":"#N/A"},{"$error":"#N/A"},{"$error":"#N/A"}]
[2019,{"$f":"B218","v":6},{"$f":"C195+1","v":10},1,43626.04166666614,{"$f":"NA()","v":{"$error":"#N/A"}},"Invalid",{"$error":"#N/A"},{"$error":"#N/A"},"Invalid",{"$error":"#N/A"},"Calibration Error","value outside range",{"$error":"#N/A"},{"$error":"#N/A"},{"$error":"#N/A"},{"$error":"#N/A"}]
[2019,6,10,2,43626.083333332805,{"$f":"NA()","v":{"$error":"#N/A"}},"Invalid",{"$error":"#N/A"},{"$error":"#N/A"},"Invalid",{"$error":"#N/A"},"Calibration Error","value outside range",{"$error":"#N/A"},{"$error":"#N/A"},{"$error":"#N/A"},{"$error":"#N/A"}]
[2019,6,10,3,43626.124999999469,{"$f":"NA()","v":{"$error":"#N/A"}},"Invalid",{"$error":"#N/A"},{"$error":"#N/A"},"Invalid",{"$error":"#N/A"},"Calibration Error","value outside range",{"$error":"#N/A"},{"$error":"#N/A"},{"$error":"#N/A"},{"$error":"#N/A"}]
[2019,6,10,4,43626.166666666133,16.8,"Valid",{"$error":"#N/A"},17.3,"Valid",{"$error":"#N/A"},"Calibration Error","24Hr average lost due to data interruption",16.8,{"$error":"#N/A"},17.3,{"$error":"#N/A"},17.3,null,16.8]
[2019,6,10,5,43626.208333332797,10.199999999999999,"Valid",{"$error":"#N/A"},11.9,"Valid",{"$error":"#N/A"},"Calibration Error","24Hr average lost due to data interruption",10.199999999999999,{"$error":"#N/A"},11.9,{"$error":"#N/A"},11.9,null,10.199999999999999]
[2019,6,10,6,43626.249999999462,8,"Valid",{"$error":"#N/A"},9.5,"Valid",{"$error":"#N/A"},"Calibration Error","24Hr average lost due to data interruption",8,{"$error":"#N/A"},9.5,{"$error":"#N/A"},9.5,null,8]
[2019,6,10,7,43626.291666666126,11.6,"Valid",{"$error":"#N/A"},13.1,"Valid",{"$error":"#N/A"},"Calibration Error","24Hr average lost due to data interruption",11.6,{"$error":"#N/A"},13.1,{"$error":"#N/A"},13.1,null,11.6]
[2019,6,10,8,43626.33333333279,{"$f":"NA()","v":{"$error":"#N/A"}},"Invalid",{"$error":"#N/A"},{"$error":"#N/A"},"Invalid",{"$error":"#N/A"},"Calibration Error","value outside range",{"$error":"#N/A"},{"$error":"#N/A"},{"$error":"#N/A"},{"$error":"#N/A"}]
[2019,6,10,9,43626.374999999454,{"$f":"NA()","v":{"$error":"#N/A"}},"Invalid",{"$error":"#N/A"},{"$error":"#N/A"},"Invalid",{"$error":"#N/A"},"Calibration Error","value outside range",{"$error":"#N/A"},{"$error":"#N/A"},{"$error":"#N/A"},{"$error":"#N/A"}]
[2019,6,10,10,43626.416666666119,{"$f":"NA()","v":{"$error":"#N/A"}},"Invalid",{"$error":"#N/A"},{"$error":"#N/A"},"Invalid",{"$error":"#N/A"},"Calibration Error","value outside range",{"$error":"#N/A"},{"$error":"#N/A"},{"$error":"#N/A"},{"$error":"#N/A"}]
[2019,6,10,11,43626.458333332783,{"$f":"NA()","v":{"$error":"#N/A"}},"Invalid",{"$error":"#N/A"},{"$error":"#N/A"},"Invalid",{"$error":"#N/A"},"Calibration Error","value outside range",{"$error":"#N/A"},{"$error":"#N/A"},{"$error":"#N/A"},{"$error":"#N/A"}]
[2019,6,10,12,43626.499999999447,{"$f":"NA()","v":{"$error":"#N/A"}},"Invalid",{"$error":"#N/A"},{"$error":"#N/A"},"Invalid",{"$error":"#N/A"},"Calibration Error","value outside range",{"$error":"#N/A"},{"$error":"#N/A"},{"$error":"#N/A"},{"$error":"#N/A"}]
[2019,6,10,13,43626.541666666111,{"$f":"NA()","v":{"$error":"#N/A"}},"Invalid",{"$error":"#N/A"},{"$error":"#N/A"},"Invalid",{"$error":"#N/A"},"Calibration Error","value outside range",{"$error":"#N/A"},{"$error":"#N/A"},{"$error":"#N/A"},{"$error":"#N/A"}]
[2019,6,10,14,43626.583333332776,{"$f":"NA()","v":{"$error":"#N/A"}},"Invalid",{"$error":"#N/A"},{"$error":"#N/A"},"Invalid",{"$error":"#N/A"},"Calibration Error","value outside range",{"$error":"#N/A"},{"$error":"#N/A"},{"$error":"#N/A"},{"$error":"#N/A"}]
[2019,6,10,15,43626.62499999944,{"$f":"NA()","v":{"$error":"#N/A"}},"Invalid",{"$error":"#N/A"},{"$error":"#N/A"},"Invalid",{"$error":"#N/A"},"Calibration Error","value outside range",{"$error":"#N/A"},{"$error":"#N/A"},{"$error":"#N/A"},{"$error":"#N/A"}]
[2019,6,10,16,43626.666666666104,{"$f":"NA()","v":{"$error":"#N/A"}},"Invalid",{"$error":"#N/A"},{"$error":"#N/A"},"Invalid",{"$error":"#N/A"},"Calibration Error","value outside range",{"$error":"#N/A"},{"$error":"#N/A"},{"$error":"#N/A"},{"$error":"#N/A"}]
[2019,6,10,17,43626.708333332768,{"$f":"NA()","v":{"$error":"#N/A"}},"Invalid",{"$error":"#N/A"},{"$error":"#N/A"},"Invalid",{"$error":"#N/A"},"Calibration Error","value outside range",{"$error":"#N/A"},{"$error":"#N/A"},{"$error":"#N/A"},{"$error":"#N/A"}]
[2019,6,10,18,43626.749999999432,{"$f":"NA()","v":{"$error":"#N/A"}},"Invalid",{"$error":"#N/A"},{"$error":"#N/A"},"Invalid",{"$error":"#N/A"},"Calibration Error","value outside range",{"$error":"#N/A"},{"$error":"#N/A"},{"$error":"#N/A"},{"$error":"#N/A"}]
[2019,6,10,19,43626.791666666097,{"$f":"NA()","v":{"$error":"#N/A"}},"Invalid",{"$error":"#N/A"},{"$error":"#N/A"},"Invalid",{"$error":"#N/A"},"Calibration Error","value outside range",{"$error":"#N/A"},{"$error":"#N/A"},{"$error":"#N/A"},{"$error":"#N/A"}]
[2019,6,10,20,43626.833333332761,{"$f":"NA()","v":{"$error":"#N/A"}},"Invalid",{"$error":"#N/A"},{"$error":"#N/A"},"Invalid",{"$error":"#N/A"},"Calibration Error","value outside range",{"$error":"#N/A"},{"$error":"#N/A"},{"$error":"#N/A"},{"$error":"#N/A"}]
[2019,6,10,21,43626.874999999425,{"$f":"NA()","v":{"$error":"#N/A"}},"Invalid",{"$error":"#N/A"},{"$error":"#N/A"},"Invalid",{"$error":"#N/A"},"Calibration Error","value outside range",{"$error":"#N/A"},{"$error":"#N/A"},{"$error":"#N/A"},{"$error":"#N/A"}]
[2019,6,10,22,43626.916666666089,{"$f":"NA()","v":{"$error":"#N/A"}},"Invalid",{"$error":"#N/A"},{"$error":"#N/A"},"Invalid",{"$error":"#N/A"},"Calibration Error","value outside range",{"$error":"#N/A"},{"$error":"#N/A"},{"$error":"#N/A"},{"$error":"#N/A"}]
[2019,6,10,23,43626.958333332754,{"$f":"NA()","v":{"$error":"#N/A"}},"Invalid",{"$error":"#N/A"},{"$error":"#N/A"},"Invalid",{"$error":"#N/A"},"Calibration Error","value outside range",{"$error":"#N/A"},{"$error":"#N/A"},{"$error":"#N/A"},{"$error":"#N/A"}]
[2019,6,11,0,43626.999999999418,{"$f":"NA()","v":{"$error":"#N/A"}},"Invalid",{"$error":"#N/A"},{"$error":"#N/A"},"Invalid",{"$error":"#N/A"},"Calibration Error","value outside range",{"$error":"#N/A"},{"$error":"#N/A"},{"$error":"#N/A"},{"$error":"#N/A"}]
[2019,6,11,1,43627.041666666082,{"$f":"NA()","v":{"$error":"#N/A"}},"Invalid",{"$error":"#N/A"},{"$error":"#N/A"},"Invalid",{"$error":"#N/A"},"Calibration Error","value outside range",{"$error":"#N/A"},{"$error":"#N/A"},{"$error":"#N/A"},{"$error":"#N/A"}]
[2019,6,11,2,43627.083333332746,{"$f":"NA()","v":{"$error":"#N/A"}},"Invalid",{"$error":"#N/A"},{"$error":"#N/A"},"Invalid",{"$error":"#N/A"},"Calibration Error","value outside range",{"$error":"#N/A"},{"$error":"#N/A"},{"$error":"#N/A"},{"$error":"#N/A"}]
[2019,6,11,3,43627.124999999411,{"$f":"NA()","v":{"$error":"#N/A"}},"Invalid",{"$error":"#N/A"},{"$error":"#N/A"},"Invalid",{"$error":"#N/A"},"Calibration Error","value outside range",{"$error":"#N/A"},{"$error":"#N/A"},{"$error":"#N/A"},{"$error":"#N/A"}]
[2019,6,11,4,43627.166666666075,{"$f":"NA()","v":{"$error":"#N/A"}},"Invalid",{"$error":"#N/A"},{"$error":"#N/A"},"Invalid",{"$error":"#N/A"},"Calibration Error","value outside range",{"$error":"#N/A"},{"$error":"#N/A"},{"$error":"#N/A"},{"$error":"#N/A"}]
[2019,6,11,5,43627.208333332739,{"$f":"NA()","v":{"$error":"#N/A"}},"Invalid",{"$error":"#N/A"},{"$error":"#N/A"},"Invalid",{"$error":"#N/A"},"Calibration Error","value outside range",{"$error":"#N/A"},{"$error":"#N/A"},{"$error":"#N/A"},{"$error":"#N/A"}]
[2019,6,11,6,43627.249999999403,{"$f":"NA()","v":{"$error":"#N/A"}},"Invalid",{"$error":"#N/A"},{"$error":"#N/A"},"Invalid",{"$error":"#N/A"},"Calibration Error","value outside range",{"$error":"#N/A"},{"$error":"#N/A"},{"$error":"#N/A"},{"$error":"#N/A"}]
[2019,6,11,7,43627.291666666068,{"$f":"NA()","v":{"$error":"#N/A"}},"Invalid",{"$error":"#N/A"},{"$error":"#N/A"},"Invalid",{"$error":"#N/A"},"Calibration Error","value outside range",{"$error":"#N/A"},{"$error":"#N/A"},{"$error":"#N/A"},{"$error":"#N/A"}]
[2019,6,11,8,43627.333333332732,{"$f":"NA()","v":{"$error":"#N/A"}},"Invalid",{"$error":"#N/A"},{"$error":"#N/A"},"Invalid",{"$error":"#N/A"},"Calibration Error","value outside range",{"$error":"#N/A"},{"$error":"#N/A"},{"$error":"#N/A"},{"$error":"#N/A"}]
[2019,6,11,9,43627.374999999396,{"$f":"NA()","v":{"$error":"#N/A"}},"Invalid",{"$error":"#N/A"},{"$error":"#N/A"},"Invalid",{"$error":"#N/A"},"Calibration Error","value outside range",{"$error":"#N/A"},{"$error":"#N/A"},{"$error":"#N/A"},{"$error":"#N/A"}]
[2019,6,11,10,43627.41666666606,{"$f":"NA()","v":{"$error":"#N/A"}},"Invalid",{"$error":"#N/A"},{"$error":"#N/A"},"Invalid",{"$error":"#N/A"},"Calibration Error","value outside range",{"$error":"#N/A"},{"$error":"#N/A"},{"$error":"#N/A"},{"$error":"#N/A"}]
[2019,6,11,11,43627.458333332725,{"$f":"NA()","v":{"$error":"#N/A"}},"Invalid",{"$error":"#N/A"},{"$error":"#N/A"},"Invalid",{"$error":"#N/A"},"Calibration Error","value outside range",{"$error":"#N/A"},{"$error":"#N/A"},{"$error":"#N/A"},{"$error":"#N/A"}]
[2019,6,11,12,43627.499999999389,{"$f":"NA()","v":{"$error":"#N/A"}},"Invalid",{"$error":"#N/A"},{"$error":"#N/A"},"Invalid",{"$error":"#N/A"},"Calibration Error","value outside range",{"$error":"#N/A"},{"$error":"#N/A"},{"$error":"#N/A"},{"$error":"#N/A"}]
[2019,6,11,13,43627.541666666053,{"$f":"NA()","v":{"$error":"#N/A"}},"Invalid",{"$error":"#N/A"},{"$error":"#N/A"},"Invalid",{"$error":"#N/A"},"Calibration Error","value outside range",{"$error":"#N/A"},{"$error":"#N/A"},{"$error":"#N/A"},{"$error":"#N/A"}]
[2019,6,11,14,43627.583333332717,{"$f":"NA()","v":{"$error":"#N/A"}},"Invalid",{"$error":"#N/A"},{"$error":"#N/A"},"Invalid",{"$error":"#N/A"},"Calibration Error","value outside range",{"$error":"#N/A"},{"$error":"#N/A"},{"$error":"#N/A"},{"$error":"#N/A"}]
[2019,6,11,15,43627.624999999382,{"$f":"NA()","v":{"$error":"#N/A"}},"Invalid",{"$error":"#N/A"},{"$error":"#N/A"},"Invalid",{"$error":"#N/A"},"Calibration Error","value outside range",{"$error":"#N/A"},{"$error":"#N/A"},{"$error":"#N/A"},{"$error":"#N/A"}]
[2019,6,11,16,43627.666666666046,33.200000000000003,"Valid",{"$error":"#N/A"},72.7,"Valid",{"$error":"#N/A"},"Calibration Error","24Hr average lost due to data interruption",{"$f":"IF(G258=\"Valid\", F258, NA())","v":33.200000000000003},{"$f":"IF(G258=\"Valid\", H258, NA())","v":{"$error":"#N/A"}},{"$f":"IF(J258=\"Valid\", I258, NA())","v":72.7},{"$f":"IF(J258=\"Valid\", K258, NA())","v":{"$error":"#N/A"}},72.7,null,33.200000000000003]
[2019,6,11,17,43627.70833333271,31.1,"Valid",{"$error":"#N/A"},64.7,"Valid",{"$error":"#N/A"},"Calibration Error","24Hr average lost due to data interruption",31.1,{"$error":"#N/A"},64.7,{"$error":"#N/A"},64.7,null,31.1]
[{"$f":"A259","v":2019},6,11,{"$f":"IF(D259=23,0,D259+1)","v":18},{"$f":"E259+0.0416666666666666","v":43627.749999999374},22.6,"Valid",{"$error":"#N/A"},37.299999999999997,"Valid",{"$error":"#N/A"},"Calibration Error","24Hr average lost due to data interruption",22.6,{"$error":"#N/A"},37.299999999999997,{"$error":"#N/A"},37.299999999999997,null,22.6]
[2019,6,11,19,43627.791666666039,23.1,"Valid",{"$error":"#N/A"},23.2,"Valid",{"$error":"#N/A"},"Calibration Error","24Hr average lost due to data interruption",23.1,{"$error":"#N/A"},23.2,{"$error":"#N/A"},23.2,null,23.1]
[2019,6,11,20,43627.833333332703,{"$f":"NA()","v":{"$error":"#N/A"}},"Invalid",{"$error":"#N/A"},{"$error":"#N/A"},"Invalid",{"$error":"#N/A"},"Calibration Error","value outside range",{"$error":"#N/A"},{"$error":"#N/A"},{"$error":"#N/A"},{"$error":"#N/A"}]
[2019,6,11,21,43627.874999999367,{"$f":"NA()","v":{"$error":"#N/A"}},"Invalid",{"$error":"#N/A"},{"$error":"#N/A"},"Invalid",{"$error":"#N/A"},"Calibration Error","value outside range",{"$error":"#N/A"},{"$error":"#N/A"},{"$error":"#N/A"},{"$error":"#N/A"}]
[2019,6,11,22,43627.916666666031,{"$f":"NA()","v":{"$error":"#N/A"}},"Invalid",{"$error":"#N/A"},{"$error":"#N/A"},"Invalid",{"$error":"#N/A"},"Calibration Error","value outside range",{"$error":"#N/A"},{"$error":"#N/A"},{"$error":"#N/A"},{"$error":"#N/A"}]
[2019,6,11,23,43627.958333332695,{"$f":"NA()","v":{"$error":"#N/A"}},"Invalid",{"$error":"#N/A"},{"$error":"#N/A"},"Invalid",{"$error":"#N/A"},"Calibration Error","value outside range",{"$error":"#N/A"},{"$error":"#N/A"},{"$error":"#N/A"},{"$error":"#N/A"}]
[2019,6,12,0,43627.99999999936,{"$f":"NA()","v":{"$error":"#N/A"}},"Invalid",{"$error":"#N/A"},{"$error":"#N/A"},"Invalid",{"$error":"#N/A"},"Calibration Error","value outside range",{"$error":"#N/A"},{"$error":"#N/A"},{"$error":"#N/A"},{"$error":"#N/A"}]
[2019,6,12,1,43628.041666666024,{"$f":"NA()","v":{"$error":"#N/A"}},"Invalid",{"$error":"#N/A"},{"$error":"#N/A"},"Invalid",{"$error":"#N/A"},"Calibration Error","value outside range",{"$error":"#N/A"},{"$error":"#N/A"},{"$error":"#N/A"},{"$error":"#N/A"}]
[2019,6,12,2,43628.083333332688,{"$f":"NA()","v":{"$error":"#N/A"}},"Invalid",{"$error":"#N/A"},{"$error":"#N/A"},"Invalid",{"$error":"#N/A"},"Calibration Error","value outside range",{"$error":"#N/A"},{"$error":"#N/A"},{"$error":"#N/A"},{"$error":"#N/A"}]
[2019,6,12,3,43628.124999999352,{"$f":"NA()","v":{"$error":"#N/A"}},"Invalid",{"$error":"#N/A"},{"$error":"#N/A"},"Invalid",{"$error":"#N/A"},"Calibration Error","value outside range",{"$error":"#N/A"},{"$error":"#N/A"},{"$error":"#N/A"},{"$error":"#N/A"}]
[2019,6,12,4,43628.166666666017,{"$f":"NA()","v":{"$error":"#N/A"}},"Invalid",{"$error":"#N/A"},{"$error":"#N/A"},"Invalid",{"$error":"#N/A"},"Calibration Error","value outside range",{"$error":"#N/A"},{"$error":"#N/A"},{"$error":"#N/A"},{"$error":"#N/A"}]
[2019,6,12,5,43628.208333332681,{"$f":"NA()","v":{"$error":"#N/A"}},"Invalid",{"$error":"#N/A"},{"$error":"#N/A"},"Invalid",{"$error":"#N/A"},"Calibration Error","value outside range",{"$error":"#N/A"},{"$error":"#N/A"},{"$error":"#N/A"},{"$error":"#N/A"}]
[2019,6,12,6,43628.249999999345,{"$f":"NA()","v":{"$error":"#N/A"}},"Invalid",{"$error":"#N/A"},{"$error":"#N/A"},"Invalid",{"$error":"#N/A"},"Calibration Error","value outside range",{"$error":"#N/A"},{"$error":"#N/A"},{"$error":"#N/A"},{"$error":"#N/A"}]
[2019,6,12,7,43628.291666666009,{"$f":"NA()","v":{"$error":"#N/A"}},"Invalid",{"$error":"#N/A"},{"$error":"#N/A"},"Invalid",{"$error":"#N/A"},"Calibration Error","value outside range",{"$error":"#N/A"},{"$error":"#N/A"},{"$error":"#N/A"},{"$error":"#N/A"}]
[2019,6,12,8,43628.333333332674,{"$f":"NA()","v":{"$error":"#N/A"}},"Invalid",{"$error":"#N/A"},{"$error":"#N/A"},"Invalid",{"$error":"#N/A"},"Calibration Error","value outside range",{"$error":"#N/A"},{"$error":"#N/A"},{"$error":"#N/A"},{"$error":"#N/A"}]
[2019,6,12,9,43628.374999999338,{"$f":"NA()","v":{"$error":"#N/A"}},"Invalid",{"$error":"#N/A"},{"$error":"#N/A"},"Invalid",{"$error":"#N/A"},"Calibration Error","value outside range",{"$error":"#N/A"},{"$error":"#N/A"},{"$error":"#N/A"},{"$error":"#N/A"}]
[2019,6,12,10,43628.416666666002,{"$error":"#N/A"},"Invalid",{"$error":"#N/A"},{"$error":"#N/A"},"Invalid",{"$error":"#N/A"},"Power Failure","no data",{"$error":"#N/A"},{"$error":"#N/A"},{"$error":"#N/A"},{"$error":"#N/A"}]
[2019,6,12,11,43628.458333332666,{"$error":"#N/A"},"Invalid",{"$error":"#N/A"},{"$error":"#N/A"},"Invalid",{"$error":"#N/A"},"Power Failure","no data",{"$error":"#N/A"},{"$error":"#N/A"},{"$error":"#N/A"},{"$error":"#N/A"}]
[2019,6,12,12,43628.499999999331,{"$f":"NA()","v":{"$error":"#N/A"}},"Invalid",{"$error":"#N/A"},{"$error":"#N/A"},"Invalid",{"$error":"#N/A"},"Calibration Error","Technical fault rendered data unreliable",{"$error":"#N/A"},{"$error":"#N/A"},{"$error":"#N/A"},{"$error":"#N/A"}]
[2019,6,12,13,43628.541666665995,{"$f":"NA()","v":{"$error":"#N/A"}},"Invalid",{"$error":"#N/A"},{"$error":"#N/A"},"Invalid",{"$error":"#N/A"},"Calibration Error","Technical fault rendered data unreliable",{"$error":"#N/A"},{"$error":"#N/A"},{"$error":"#N/A"},{"$error":"#N/A"}]
[2019,6,12,14,43628.583333332659,6.5,"Valid",{"$error":"#N/A"},12.6,"Valid",{"$error":"#N/A"},"Calibration Error","24Hr average lost due to data interruption",6.5,{"$error":"#N/A"},12.6,{"$error":"#N/A"},12.6,null,6.5]
[2019,6,12,15,43628.624999999323,4.2,"Valid",{"$error":"#N/A"},11.7,"Valid",{"$error":"#N/A"},"Calibration Error","24Hr average lost due to data interruption",4.2,{"$error":"#N/A"},11.7,{"$error":"#N/A"},11.7,null,4.2]
[2019,6,12,16,43628.666666665988,{"$f":"NA()","v":{"$error":"#N/A"}},"Invalid",{"$error":"#N/A"},{"$error":"#N/A"},"Invalid",{"$error":"#N/A"},"Calibration Error","Technical fault rendered data unreliable",{"$error":"#N/A"},{"$error":"#N/A"},{"$error":"#N/A"},{"$error":"#N/A"}]
[2019,{"$f":"B282","v":6},{"$f":"C259+1","v":12},17,43628.708333332652,{"$f":"NA()","v":{"$error":"#N/A"}},"Invalid",{"$error":"#N/A"},{"$error":"#N/A"},"Invalid",{"$error":"#N/A"},"Calibration Error","Technical fault rendered data unreliable",{"$error":"#N/A"},{"$error":"#N/A"},{"$error":"#N/A"},{"$error":"#N/A"}]
[2019,6,12,18,43628.749999999316,{"$f":"NA()","v":{"$error":"#N/A"}},"Invalid",{"$error":"#N/A"},{"$error":"#N/A"},"Invalid",{"$error":"#N/A"},"Calibration Error","Technical fault rendered data unreliable",{"$error":"#N/A"},{"$error":"#N/A"},{"$error":"#N/A"},{"$error":"#N/A"}]
[2019,6,12,19,43628.79166666598,{"$f":"NA()","v":{"$error":"#N/A"}},"Invalid",{"$error":"#N/A"},{"$error":"#N/A"},"Invalid",{"$error":"#N/A"},"Calibration Error","Technical fault rendered data unreliable",{"$error":"#N/A"},{"$error":"#N/A"},{"$error":"#N/A"},{"$error":"#N/A"}]
[2019,6,12,20,43628.833333332645,{"$f":"NA()","v":{"$error":"#N/A"}},"Invalid",{"$error":"#N/A"},{"$error":"#N/A"},"Invalid",{"$error":"#N/A"},"Calibration Error","Technical fault rendered data unreliable",{"$error":"#N/A"},{"$error":"#N/A"},{"$error":"#N/A"},{"$error":"#N/A"}]
[2019,6,12,21,43628.874999999309,{"$f":"NA()","v":{"$error":"#N/A"}},"Invalid",{"$error":"#N/A"},{"$error":"#N/A"},"Invalid",{"$error":"#N/A"},"Calibration Error","Technical fault rendered data unreliable",{"$error":"#N/A"},{"$error":"#N/A"},{"$error":"#N/A"},{"$error":"#N/A"}]
[2019,6,12,22,43628.916666665973,{"$f":"NA()","v":{"$error":"#N/A"}},"Invalid",{"$error":"#N/A"},{"$error":"#N/A"},"Invalid",{"$error":"#N/A"},"Calibration Error","Technical fault rendered data unreliable",{"$error":"#N/A"},{"$error":"#N/A"},{"$error":"#N/A"},{"$error":"#N/A"}]
[2019,6,12,23,43628.958333332637,{"$f":"NA()","v":{"$error":"#N/A"}},"Invalid",{"$error":"#N/A"},{"$error":"#N/A"},"Invalid",{"$error":"#N/A"},"Calibration Error","Technical fault rendered data unreliable",{"$error":"#N/A"},{"$error":"#N/A"},{"$error":"#N/A"},{"$error":"#N/A"}]
[2019,6,13,0,43628.999999999302,{"$f":"NA()","v":{"$error":"#N/A"}},"Invalid",{"$error":"#N/A"},{"$error":"#N/A"},"Invalid",{"$error":"#N/A"},"Calibration Error","Technical fault rendered data unreliable",{"$error":"#N/A"},{"$error":"#N/A"},{"$error":"#N/A"},{"$error":"#N/A"}]
[2019,6,13,1,43629.041666665966,{"$f":"NA()","v":{"$error":"#N/A"}},"Invalid",{"$error":"#N/A"},{"$error":"#N/A"},"Invalid",{"$error":"#N/A"},"Calibration Error","Technical fault rendered data unreliable",{"$error":"#N/A"},{"$error":"#N/A"},{"$error":"#N/A"},{"$error":"#N/A"}]
[2019,6,13,2,43629.08333333263,{"$f":"NA()","v":{"$error":"#N/A"}},"Invalid",{"$error":"#N/A"},{"$error":"#N/A"},"Invalid",{"$error":"#N/A"},"Calibration Error","Technical fault rendered data unreliable",{"$error":"#N/A"},{"$error":"#N/A"},{"$error":"#N/A"},{"$error":"#N/A"}]
[2019,6,13,3,43629.124999999294,-2.2000000000000002,"Valid",{"$error":"#N/A"},2.2999999999999998,"Valid",{"$error":"#N/A"},"Calibration Error","24Hr average lost due to data interruption",-2.2000000000000002,{"$error":"#N/A"},2.2999999999999998,{"$error":"#N/A"},2.2999999999999998,null,-2.2000000000000002]
[2019,6,13,4,43629.166666665958,{"$f":"NA()","v":{"$error":"#N/A"}},"Invalid",{"$error":"#N/A"},{"$error":"#N/A"},"Invalid",{"$error":"#N/A"},"Calibration Error","Technical fault rendered data unreliable",{"$error":"#N/A"},{"$error":"#N/A"},{"$error":"#N/A"},{"$error":"#N/A"}]
[2019,6,13,5,43629.208333332623,{"$f":"NA()","v":{"$error":"#N/A"}},"Invalid",{"$error":"#N/A"},{"$error":"#N/A"},"Invalid",{"$error":"#N/A"},"Calibration Error","Technical fault rendered data unreliable",{"$error":"#N/A"},{"$error":"#N/A"},{"$error":"#N/A"},{"$error":"#N/A"}]
[2019,6,13,6,43629.249999999287,0.9,"Valid",{"$error":"#N/A"},5.7,"Valid",{"$error":"#N/A"},"Calibration Error","24Hr average lost due to data interruption",0.9,{"$error":"#N/A"},5.7,{"$error":"#N/A"},5.7,null,0.9]
[2019,6,13,7,43629.291666665951,0.6,"Valid",{"$error":"#N/A"},6.1,"Valid",{"$error":"#N/A"},"Calibration Error","24Hr average lost due to data interruption",0.6,{"$error":"#N/A"},6.1,{"$error":"#N/A"},6.1,null,0.6]
[2019,6,13,8,43629.333333332615,{"$f":"NA()","v":{"$error":"#N/A"}},"Invalid",{"$error":"#N/A"},{"$error":"#N/A"},"Invalid",{"$error":"#N/A"},"Calibration Error","Technical fault rendered data unreliable",{"$error":"#N/A"},{"$error":"#N/A"},{"$error":"#N/A"},{"$error":"#N/A"}]
[2019,6,13,9,43629.37499999928,{"$f":"NA()","v":{"$error":"#N/A"}},"Invalid",{"$error":"#N/A"},{"$error":"#N/A"},"Invalid",{"$error":"#N/A"},"Calibration Error","Technical fault rendered data unreliable",{"$error":"#N/A"},{"$error":"#N/A"},{"$error":"#N/A"},{"$error":"#N/A"}]
[2019,6,13,10,43629.416666665944,1.8,"Valid",{"$error":"#N/A"},8.6,"Valid",{"$error":"#N/A"},"Calibration Error","24Hr average lost due to data interruption",1.8,{"$error":"#N/A"},8.6,{"$error":"#N/A"},8.6,null,1.8]
[2019,6,13,11,43629.458333332608,{"$f":"NA()","v":{"$error":"#N/A"}},"Invalid",{"$error":"#N/A"},{"$error":"#N/A"},"Invalid",{"$error":"#N/A"},"Calibration Error","Technical fault rendered data unreliable",{"$error":"#N/A"},{"$error":"#N/A"},{"$error":"#N/A"},{"$error":"#N/A"}]
[2019,6,13,12,43629.499999999272,0.3,"Valid",{"$error":"#N/A"},6.9,"Valid",{"$error":"#N/A"},"Calibration Error","24Hr average lost due to data interruption",0.3,{"$error":"#N/A"},6.9,{"$error":"#N/A"},6.9,null,0.3]
[2019,6,13,13,43629.541666665937,-1.1000000000000001,"Valid",{"$error":"#N/A"},6.5,"Valid",{"$error":"#N/A"},"Calibration Error","24Hr average lost due to data interruption",-1.1000000000000001,{"$error":"#N/A"},6.5,{"$error":"#N/A"},6.5,null,-1.1000000000000001]
[2019,6,13,14,43629.583333332601,-0.3,"Valid",{"$error":"#N/A"},2.6,"Valid",{"$error":"#N/A"},"Calibration Error","24Hr average lost due to data interruption",-0.3,{"$error":"#N/A"},2.6,{"$error":"#N/A"},2.6,null,-0.3]
[2019,6,13,15,43629.624999999265,{"$error":"#N/A"},"Invalid",{"$error":"#N/A"},{"$error":"#N/A"},"Invalid",{"$error":"#N/A"},"Power Failure","no data",{"$error":"#N/A"},{"$error":"#N/A"},{"$error":"#N/A"},{"$error":"#N/A"}]
[2019,6,13,16,43629.666666665929,{"$error":"#N/A"},"Invalid",{"$error":"#N/A"},{"$error":"#N/A"},"Invalid",{"$error":"#N/A"},"Power Failure","no data",{"$error":"#N/A"},{"$error":"#N/A"},{"$error":"#N/A"},{"$error":"#N/A"}]
[2019,6,13,17,43629.708333332594,0.4,"Valid",{"$error":"#N/A"},2.6,"Valid",{"$error":"#N/A"},"Calibration Error","24Hr average lost due to data interruption",0.4,{"$error":"#N/A"},2.6,{"$error":"#N/A"},2.6,null,0.4]
[2019,6,13,18,43629.749999999258,3.9,"Valid",{"$error":"#N/A"},10.6,"Valid",{"$error":"#N/A"},"Calibration Error","24Hr average lost due to data interruption",3.9,{"$error":"#N/A"},10.6,{"$error":"#N/A"},10.6,null,3.9]
[2019,6,13,19,43629.791666665922,5.8,"Valid",{"$error":"#N/A"},12.9,"Valid",{"$error":"#N/A"},"Calibration Error","24Hr average lost due to data interruption",5.8,{"$error":"#N/A"},12.9,{"$error":"#N/A"},12.9,null,5.8]
[2019,6,13,20,43629.833333332586,2.7,"Valid",{"$error":"#N/A"},7.8,"Valid",{"$error":"#N/A"},"Calibration Error","24Hr average lost due to data interruption",2.7,{"$error":"#N/A"},7.8,{"$error":"#N/A"},7.8,null,2.7]
[2019,6,13,21,43629.874999999251,7.9,"Valid",{"$error":"#N/A"},13.1,"Valid",{"$error":"#N/A"},"Calibration Error","24Hr average lost due to data interruption",7.9,{"$error":"#N/A"},13.1,{"$error":"#N/A"},13.1,null,7.9]
[2019,6,13,22,43629.916666665915,9,"Valid",{"$error":"#N/A"},13,"Valid",{"$error":"#N/A"},"Calibration Error","24Hr average lost due to data interruption",9,{"$error":"#N/A"},13,{"$error":"#N/A"},13,null,9]
[2019,6,13,23,43629.958333332579,3.5,"Valid",{"$error":"#N/A"},6.6,"Valid",{"$error":"#N/A"},"Calibration Error","24Hr average lost due to data interruption",3.5,{"$error":"#N/A"},6.6,{"$error":"#N/A"},6.6,null,3.5]
[2019,6,14,0,43629.999999999243,6.3,"Valid",2.1,8.5,"Valid",6.6,null,null,6.3,2.1,8.5,6.6,8.5,6.6,6.3,2.1]
[2019,6,14,1,43630.041666665908,9.9,"Valid",2.2999999999999998,12.2,"Valid",6.7,null,null,9.9,2.2999999999999998,12.2,6.7,12.2,6.7,9.9,2.2999999999999998]
[2019,6,14,2,43630.083333332572,11.5,"Valid",2.7,13.1,"Valid",7,null,null,11.5,2.7,13.1,7,13.1,7,11.5,2.7]
[2019,6,14,3,43630.124999999236,6,"Valid",3.2,6.9,"Valid",7.3,null,null,6,3.2,6.9,7.3,6.9,7.3,6,3.2]
[2019,6,14,4,43630.1666666659,4.0999999999999996,"Valid",3.6,5.2,"Valid",7.6,null,null,4.0999999999999996,3.6,5.2,7.6,5.2,7.6,4.0999999999999996,3.6]
[2019,6,14,5,43630.208333332565,4.5,"Valid",3.7,5.7,"Valid",7.4,null,null,4.5,3.7,5.7,7.4,5.7,7.4,4.5,3.7]
[2019,6,14,6,43630.249999999229,0.7,"Valid",3.7,2.4,"Valid",7.4,null,null,0.7,3.7,2.4,7.4,2.4,7.4,0.7,3.7]
[2019,6,14,7,43630.291666665893,0.3,"Valid",3.7,1.7,"Valid",7.2,null,null,0.3,3.7,1.7,7.2,1.7,7.2,0.3,3.7]
[2019,6,14,8,43630.333333332557,5.3,"Valid",3.7,6.8,"Valid",7,null,null,{"$f":"IF(G322=\"Valid\", F322, NA())","v":5.3},{"$f":"IF(G322=\"Valid\", H322, NA())","v":3.7},{"$f":"IF(J322=\"Valid\", I322, NA())","v":6.8},{"$f":"IF(J322=\"Valid\", K322, NA())","v":7},6.8,7,5.3,3.7]
[2019,6,14,9,43630.374999999221,16.5,"Valid",3.7,17.5,"Valid",7,null,null,16.5,3.7,17.5,7,17.5,7,16.5,3.7]
[{"$f":"A323","v":2019},6,14,{"$f":"IF(D323=23,0,D323+1)","v":10},{"$f":"E323+0.0416666666666666","v":43630.416666665886},5.0999999999999996,"Valid",4.3,9.6,"Valid",7.4,null,null,5.0999999999999996,4.3,9.6,7.4,9.6,7.4,5.0999999999999996,4.3]
[2019,6,14,11,43630.45833333255,5,"Valid",4.4000000000000004,12.6,"Valid",7.5,null,null,5,4.4000000000000004,12.6,7.5,12.6,7.5,5,4.4000000000000004]
[2019,6,14,12,43630.499999999214,2.9,"Valid",4.5,7.6,"Valid",7.7,null,null,2.9,4.5,7.6,7.7,7.6,7.7,2.9,4.5]
[2019,6,14,13,43630.541666665878,3.6,"Valid",4.5999999999999996,7.3,"Valid",7.7,null,null,3.6,4.5999999999999996,7.3,7.7,7.3,7.7,3.6,4.5999999999999996]
[2019,6,14,14,43630.583333332543,5.0999999999999996,"Valid",4.8,10.3,"Valid",7.8,null,null,5.0999999999999996,4.8,10.3,7.8,10.3,7.8,5.0999999999999996,4.8]
[2019,6,14,15,43630.624999999207,6.5,"Valid",5,16.7,"Valid",8.1,null,null,6.5,5,16.7,8.1,16.7,8.1,6.5,5]
[2019,6,14,16,43630.666666665871,6,"Valid",5.3,15.1,"Valid",8.8000000000000007,null,null,6,5.3,15.1,8.8000000000000007,15.1,8.8000000000000007,6,5.3]
[2019,6,14,17,43630.708333332535,11.1,"Valid",5.5,17.5,"Valid",9.4,null,null,11.1,5.5,17.5,9.4,17.5,9.4,11.1,5.5]
[2019,6,14,18,43630.7499999992,1.4,"Valid",6,9.5,"Valid",10,null,null,1.4,6,9.5,10,9.5,10,1.4,6]
[2019,6,14,19,43630.791666665864,{"$error":"#N/A"},"Invalid",{"$f":"NA()","v":{"$error":"#N/A"}},{"$error":"#N/A"},"Invalid",{"$f":"NA()","v":{"$error":"#N/A"}},"Calibration Error","value outside range",{"$error":"#N/A"},{"$error":"#N/A"},{"$error":"#N/A"},{"$error":"#N/A"}]
[2019,6,14,20,43630.833333332528,3.3,"Valid",5.9,7.2,"Valid",9.9,null,null,3.3,5.9,7.2,9.9,7.2,9.9,3.3,5.9]
[2019,6,14,21,43630.874999999192,2.4,"Valid",5.9,5.9,"Valid",9.8000000000000007,null,null,2.4,5.9,5.9,9.8000000000000007,5.9,9.8000000000000007,2.4,5.9]
[2019,6,14,22,43630.916666665857,4.2,"Valid",5.7,9.4,"Valid",9.5,null,null,4.2,5.7,9.4,9.5,9.4,9.5,4.2,5.7]
[2019,6,14,23,43630.958333332521,4.0999999999999996,"Valid",5.4,10.1,"Valid",9.4,null,null,4.0999999999999996,5.4,10.1,9.4,10.1,9.4,4.0999999999999996,5.4]
[2019,6,15,0,43630.999999999185,7.9,"Valid",5.5,19.2,"Valid",9.5,null,null,7.9,5.5,19.2,9.5,19.2,9.5,7.9,5.5]
[2019,6,15,1,43631.041666665849,9.9,"Valid",5.5,17.7,"Valid",10,null,null,9.9,5.5,17.7,10,17.7,10,9.9,5.5]
[2019,6,15,2,43631.083333332514,6,"Valid",5.5,13.4,"Valid",10.199999999999999,null,null,6,5.5,13.4,10.199999999999999,13.4,10.199999999999999,6,5.5]
[2019,6,15,3,43631.124999999178,3.7,"Valid",5.3,7.2,"Valid",10.199999999999999,null,null,3.7,5.3,7.2,10.199999999999999,7.2,10.199999999999999,3.7,5.3]
[2019,6,15,4,43631.166666665842,9.9,"Valid",5.2,17.600000000000001,"Valid",10.199999999999999,null,null,9.9,5.2,17.600000000000001,10.199999999999999,17.600000000000001,10.199999999999999,9.9,5.2]
[2019,6,15,5,43631.208333332506,8.5,"Valid",5.5,15.8,"Valid",10.8,null,null,8.5,5.5,15.8,10.8,15.8,10.8,8.5,5.5]
[2019,6,15,6,43631.249999999171,4.4000000000000004,"Valid",5.6,9.1999999999999993,"Valid",11.2,null,null,4.4000000000000004,5.6,9.1999999999999993,11.2,9.1999999999999993,11.2,4.4000000000000004,5.6]
[2019,6,15,7,43631.291666665835,4.3,"Valid",5.8,8.6999999999999993,"Valid",11.5,null,null,4.3,5.8,8.6999999999999993,11.5,8.6999999999999993,11.5,4.3,5.8]
[2019,6,15,8,43631.333333332499,6.7,"Valid",6,10.3,"Valid",11.8,null,null,6.7,6,10.3,11.8,10.3,11.8,6.7,6]
[2019,{"$f":"B346","v":6},{"$f":"C323+1","v":15},9,43631.374999999163,18.3,"Valid",6,24.2,"Valid",12,null,null,18.3,6,24.2,12,24.2,12,18.3,6]
[2019,6,15,10,43631.416666665828,12.9,"Valid",6.1,19.899999999999999,"Valid",12.3,null,null,12.9,6.1,19.899999999999999,12.3,19.899999999999999,12.3,12.9,6.1]
[2019,6,15,11,43631.458333332492,0.9,"Valid",6.4,4.9000000000000004,"Valid",12.7,null,null,0.9,6.4,4.9000000000000004,12.7,4.9000000000000004,12.7,0.9,6.4]
[2019,6,15,12,43631.499999999156,-0.2,"Valid",6.3,4.3,"Valid",12.4,null,null,-0.2,6.3,4.3,12.4,4.3,12.4,-0.2,6.3]
[2019,6,15,13,43631.54166666582,{"$error":"#N/A"},"Invalid",{"$f":"NA()","v":{"$error":"#N/A"}},{"$error":"#N/A"},"Invalid",{"$f":"NA()","v":{"$error":"#N/A"}},"Calibration Error","value outside range",{"$error":"#N/A"},{"$error":"#N/A"},{"$error":"#N/A"},{"$error":"#N/A"}]
[2019,6,15,14,43631.583333332484,-0.4,"Valid",6.2,1.8,"Valid",12.5,null,null,-0.4,6.2,1.8,12.5,1.8,12.5,-0.4,6.2]
[2019,6,15,15,43631.624999999149,-1.1000000000000001,"Valid",6,0.2,"Valid",12.1,null,null,-1.1000000000000001,6,0.2,12.1,0.2,12.1,-1.1000000000000001,6]
[2019,6,15,16,43631.666666665813,2.1,"Valid",5.6,7.1,"Valid",11.3,null,null,2.1,5.6,7.1,11.3,7.1,11.3,2.1,5.6]
[2019,6,15,17,43631.708333332477,3.8,"Valid",5.5,8.9,"Valid",11,null,null,3.8,5.5,8.9,11,8.9,11,3.8,5.5]
[2019,6,15,18,43631.749999999141,{"$error":"#N/A"},"Invalid",{"$f":"NA()","v":{"$error":"#N/A"}},{"$error":"#N/A"},"Invalid",{"$f":"NA()","v":{"$error":"#N/A"}},"Calibration Error","value outside range",{"$error":"#N/A"},{"$error":"#N/A"},{"$error":"#N/A"},{"$error":"#N/A"}]
[2019,6,15,19,43631.791666665806,1.2,"Valid",5.3,4.9000000000000004,"Valid",10.6,null,null,1.2,5.3,4.9000000000000004,10.6,4.9000000000000004,10.6,1.2,5.3]
[2019,6,15,20,43631.83333333247,5,"Valid",5.0999999999999996,7.7,"Valid",10.4,null,null,5,5.0999999999999996,7.7,10.4,7.7,10.4,5,5.0999999999999996]
[2019,6,15,21,43631.874999999134,4.3,"Valid",5.2,6.8,"Valid",10.4,null,null,4.3,5.2,6.8,10.4,6.8,10.4,4.3,5.2]
[2019,6,15,22,43631.916666665798,2.2000000000000002,"Valid",5.3,4.9000000000000004,"Valid",10.4,null,null,2.2000000000000002,5.3,4.9000000000000004,10.4,4.9000000000000004,10.4,2.2000000000000002,5.3]
[2019,6,15,23,43631.958333332463,2.7,"Valid",5.2,7.2,"Valid",10.199999999999999,null,null,2.7,5.2,7.2,10.199999999999999,7.2,10.199999999999999,2.7,5.2]
[2019,6,16,0,43631.999999999127,6.3,"Valid",5.0999999999999996,10.9,"Valid",10.1,null,null,6.3,5.0999999999999996,10.9,10.1,10.9,10.1,6.3,5.0999999999999996]
[2019,6,16,1,43632.041666665791,10.4,"Valid",5.0999999999999996,15.4,"Valid",9.6999999999999993,null,null,10.4,5.0999999999999996,15.4,9.6999999999999993,15.4,9.6999999999999993,10.4,5.0999999999999996]
[2019,6,16,2,43632.083333332455,8.3000000000000007,"Valid",5.0999999999999996,12.2,"Valid",9.6,null,null,8.3000000000000007,5.0999999999999996,12.2,9.6,12.2,9.6,8.3000000000000007,5.0999999999999996]
[2019,6,16,3,43632.12499999912,4.9000000000000004,"Valid",5.2,8.5,"Valid",9.5,null,null,4.9000000000000004,5.2,8.5,9.5,8.5,9.5,4.9000000000000004,5.2]
[2019,6,16,4,43632.166666665784,8.4,"Valid",5.2,13.1,"Valid",9.6,null,null,8.4,5.2,13.1,9.6,13.1,9.6,8.4,5.2]
[2019,6,16,5,43632.208333332448,16.600000000000001,"Valid",5.2,21.7,"Valid",9.4,null,null,16.600000000000001,5.2,21.7,9.4,21.7,9.4,16.600000000000001,5.2]
[2019,6,16,6,43632.249999999112,19.8,"Valid",5.5,25.1,"Valid",9.6999999999999993,null,null,19.8,5.5,25.1,9.6999999999999993,25.1,9.6999999999999993,19.8,5.5]
[2019,6,16,7,43632.291666665777,17.7,"Valid",6.2,22.8,"Valid",10.4,null,null,17.7,6.2,22.8,10.4,22.8,10.4,17.7,6.2]
[2019,6,16,8,43632.333333332441,16.600000000000001,"Valid",6.9,22.7,"Valid",11,null,null,16.600000000000001,6.9,22.7,11,22.7,11,16.600000000000001,6.9]
[2019,6,16,9,43632.374999999105,20.7,"Valid",7.3,31.3,"Valid",11.6,null,null,20.7,7.3,31.3,11.6,31.3,11.6,20.7,7.3]
[2019,6,16,10,43632.416666665769,19.100000000000001,"Valid",7.4,31.1,"Valid",11.9,null,null,19.100000000000001,7.4,31.1,11.9,31.1,11.9,19.100000000000001,7.4]
[2019,6,16,11,43632.458333332434,7.3,"Valid",7.7,12.4,"Valid",12.4,null,null,7.3,7.7,12.4,12.4,12.4,12.4,7.3,7.7]
[2019,6,16,12,43632.499999999098,3.6,"Valid",8,7.2,"Valid",12.8,null,null,3.6,8,7.2,12.8,7.2,12.8,3.6,8]
[2019,6,16,13,43632.541666665762,3.9,"Valid",8.1999999999999993,7.2,"Valid",12.9,null,null,3.9,8.1999999999999993,7.2,12.9,7.2,12.9,3.9,8.1999999999999993]
[2019,6,16,14,43632.583333332426,2.1,"Valid",8,4.0999999999999996,"Valid",12.7,null,null,2.1,8,4.0999999999999996,12.7,4.0999999999999996,12.7,2.1,8]
[2019,6,16,15,43632.624999999091,6.1,"Valid",8.1,9.5,"Valid",12.8,null,null,6.1,8.1,9.5,12.8,9.5,12.8,6.1,8.1]
[2019,6,16,16,43632.666666665755,12.4,"Valid",8.4,16.899999999999999,"Valid",13.2,null,null,12.4,8.4,16.899999999999999,13.2,16.899999999999999,13.2,12.4,8.4]
[2019,6,16,17,43632.708333332419,9.6999999999999993,"Valid",8.8000000000000007,14.2,"Valid",13.6,null,null,9.6999999999999993,8.8000000000000007,14.2,13.6,14.2,13.6,9.6999999999999993,8.8000000000000007]
[2019,6,16,18,43632.749999999083,7,"Valid",9.1,13.8,"Valid",13.8,null,null,7,9.1,13.8,13.8,13.8,13.8,7,9.1]
[2019,6,16,19,43632.791666665747,6.3,"Valid",9,10.1,"Valid",13.8,null,null,6.3,9,10.1,13.8,10.1,13.8,6.3,9]
[2019,6,16,20,43632.833333332412,5.4,"Valid",9.1999999999999993,9.1999999999999993,"Valid",14,null,null,5.4,9.1999999999999993,9.1999999999999993,14,9.1999999999999993,14,5.4,9.1999999999999993]
[2019,6,16,21,43632.874999999076,3.8,"Valid",9.1999999999999993,8.3000000000000007,"Valid",14.1,null,null,3.8,9.1999999999999993,8.3000000000000007,14.1,8.3000000000000007,14.1,3.8,9.1999999999999993]
[2019,6,16,22,43632.91666666574,11.7,"Valid",9.1999999999999993,16.2,"Valid",14.2,null,null,11.7,9.1999999999999993,16.2,14.2,16.2,14.2,11.7,9.1999999999999993]
[2019,6,16,23,43632.958333332404,13.4,"Valid",9.6,17.7,"Valid",14.6,null,null,13.4,9.6,17.7,14.6,17.7,14.6,13.4,9.6]
[2019,6,17,0,43632.999999999069,9.3000000000000007,"Valid",10.1,13.2,"Valid",15.1,null,null,{"$f":"IF(G386=\"Valid\", F386, NA())","v":9.3000000000000007},{"$f":"IF(G386=\"Valid\", H386, NA())","v":10.1},{"$f":"IF(J386=\"Valid\", I386, NA())","v":13.2},{"$f":"IF(J386=\"Valid\", K386, NA())","v":15.1},13.2,15.1,9.3000000000000007,10.1]
[2019,6,17,1,43633.041666665733,9,"Valid",10.199999999999999,12.4,"Valid",15.2,null,null,9,10.199999999999999,12.4,15.2,12.4,15.2,9,10.199999999999999]
[{"$f":"A387","v":2019},6,17,{"$f":"IF(D387=23,0,D387+1)","v":2},{"$f":"E387+0.0416666666666666","v":43633.083333332397},5.5,"Valid",10.1,8.9,"Valid",15,null,null,5.5,10.1,8.9,15,8.9,15,5.5,10.1]
[2019,6,17,3,43633.124999999061,8.4,"Valid",10,12.3,"Valid",14.9,null,null,8.4,10,12.3,14.9,12.3,14.9,8.4,10]
[2019,6,17,4,43633.166666665726,8.5,"Valid",10.199999999999999,12.6,"Valid",15.1,null,null,8.5,10.199999999999999,12.6,15.1,12.6,15.1,8.5,10.199999999999999]
[2019,6,17,5,43633.20833333239,8.4,"Valid",10.199999999999999,12.1,"Valid",15,null,null,8.4,10.199999999999999,12.1,15,12.1,15,8.4,10.199999999999999]
[2019,6,17,6,43633.249999999054,10.5,"Valid",9.8000000000000007,14.5,"Valid",14.6,null,null,10.5,9.8000000000000007,14.5,14.6,14.5,14.6,10.5,9.8000000000000007]
[2019,6,17,7,43633.291666665718,9.5,"Valid",9.4,12.9,"Valid",14.2,null,null,9.5,9.4,12.9,14.2,12.9,14.2,9.5,9.4]
[2019,6,17,8,43633.333333332383,11.6,"Valid",9.1,17.2,"Valid",13.8,null,null,11.6,9.1,17.2,13.8,17.2,13.8,11.6,9.1]
[2019,6,17,9,43633.374999999047,19.3,"Valid",8.9,28.4,"Valid",13.6,null,null,19.3,8.9,28.4,13.6,28.4,13.6,19.3,8.9]
[2019,6,17,10,43633.416666665711,18.8,"Valid",8.8000000000000007,32.799999999999997,"Valid",13.4,null,null,18.8,8.8000000000000007,32.799999999999997,13.4,32.799999999999997,13.4,18.8,8.8000000000000007]
[2019,6,17,11,43633.458333332375,14,"Valid",8.8000000000000007,20.3,"Valid",13.5,null,null,14,8.8000000000000007,20.3,13.5,20.3,13.5,14,8.8000000000000007]
[2019,6,17,12,43633.49999999904,11.9,"Valid",9.1,14.7,"Valid",13.8,null,null,11.9,9.1,14.7,13.8,14.7,13.8,11.9,9.1]
[2019,6,17,13,43633.541666665704,10.8,"Valid",9.4,14.2,"Valid",14.1,null,null,10.8,9.4,14.2,14.1,14.2,14.1,10.8,9.4]
[2019,6,17,14,43633.583333332368,7,"Valid",9.6999999999999993,9.5,"Valid",14.4,null,null,7,9.6999999999999993,9.5,14.4,9.5,14.4,7,9.6999999999999993]
[2019,6,17,15,43633.624999999032,14.4,"Valid",9.9,16.2,"Valid",14.7,null,null,14.4,9.9,16.2,14.7,16.2,14.7,14.4,9.9]
[2019,6,17,16,43633.666666665697,22.8,"Valid",10.3,24.6,"Valid",14.9,null,null,22.8,10.3,24.6,14.9,24.6,14.9,22.8,10.3]
[2019,6,17,17,43633.708333332361,21.2,"Valid",10.7,33.1,"Valid",15.3,null,null,21.2,10.7,33.1,15.3,33.1,15.3,21.2,10.7]
[2019,6,17,18,43633.749999999025,6.8,"Valid",11.2,16.2,"Valid",16,null,null,6.8,11.2,16.2,16,16.2,16,6.8,11.2]
[2019,6,17,19,43633.791666665689,5.8,"Valid",11.2,10.6,"Valid",16.2,null,null,5.8,11.2,10.6,16.2,10.6,16.2,5.8,11.2]
[2019,6,17,20,43633.833333332354,1.4,"Valid",11.2,4.8,"Valid",16.2,null,null,1.4,11.2,4.8,16.2,4.8,16.2,1.4,11.2]
[2019,6,17,21,43633.874999999018,0.2,"Valid",11,2.2999999999999998,"Valid",16,null,null,0.2,11,2.2999999999999998,16,2.2999999999999998,16,0.2,11]
[2019,6,17,22,43633.916666665682,6.9,"Valid",10.8,10,"Valid",15.7,null,null,6.9,10.8,10,15.7,10,15.7,6.9,10.8]
[2019,6,17,23,43633.958333332346,8.6,"Valid",10.6,13.9,"Valid",15.5,null,null,8.6,10.6,13.9,15.5,13.9,15.5,8.6,10.6]
[2019,6,18,0,43633.99999999901,7.8,"Valid",10.4,18.5,"Valid",15.3,null,null,7.8,10.4,18.5,15.3,18.5,15.3,7.8,10.4]
[2019,{"$f":"B410","v":6},{"$f":"C387+1","v":18},1,43634.041666665675,6.7,"Valid",10.4,16.100000000000001,"Valid",15.5,null,null,6.7,10.4,16.100000000000001,15.5,16.100000000000001,15.5,6.7,10.4]
[2019,6,18,2,43634.083333332339,13.4,"Valid",10.3,23,"Valid",15.7,null,null,13.4,10.3,23,15.7,23,15.7,13.4,10.3]
[2019,6,18,3,43634.124999999003,9.6999999999999993,"Valid",10.6,15.5,"Valid",16.3,null,null,9.6999999999999993,10.6,15.5,16.3,15.5,16.3,9.6999999999999993,10.6]
[2019,6,18,4,43634.166666665667,5.8,"Valid",10.7,10.9,"Valid",16.399999999999999,null,null,5.8,10.7,10.9,16.399999999999999,10.9,16.399999999999999,5.8,10.7]
[2019,6,18,5,43634.208333332332,8.3000000000000007,"Valid",10.6,12.9,"Valid",16.3,null,null,8.3000000000000007,10.6,12.9,16.3,12.9,16.3,8.3000000000000007,10.6]
[2019,6,18,6,43634.249999998996,6.7,"Valid",10.6,10.3,"Valid",16.399999999999999,null,null,6.7,10.6,10.3,16.399999999999999,10.3,16.399999999999999,6.7,10.6]
[2019,6,18,7,43634.29166666566,6,"Valid",10.4,9,"Valid",16.2,null,null,6,10.4,9,16.2,9,16.2,6,10.4]
[2019,6,18,8,43634.333333332324,6,"Valid",10.199999999999999,9.5,"Valid",16,null,null,6,10.199999999999999,9.5,16,9.5,16,6,10.199999999999999]
[2019,6,18,9,43634.374999998989,6.7,"Valid",10,9.3000000000000007,"Valid",15.7,null,null,6.7,10,9.3000000000000007,15.7,9.3000000000000007,15.7,6.7,10]
[2019,6,18,10,43634.416666665653,4.2,"Valid",9.5,6.6,"Valid",14.9,null,null,4.2,9.5,6.6,14.9,6.6,14.9,4.2,9.5]
[2019,6,18,11,43634.458333332317,6.2,"Valid",8.9,9.5,"Valid",13.8,null,null,6.2,8.9,9.5,13.8,9.5,13.8,6.2,8.9]
[2019,6,18,12,43634.499999998981,6.7,"Valid",8.6,11.4,"Valid",13.4,null,null,6.7,8.6,11.4,13.4,11.4,13.4,6.7,8.6]
[2019,6,18,13,43634.541666665646,3.9,"Valid",8.3000000000000007,7.2,"Valid",13.2,null,null,3.9,8.3000000000000007,7.2,13.2,7.2,13.2,3.9,8.3000000000000007]
[2019,6,18,14,43634.58333333231,6.7,"Valid",8,9.9,"Valid",13,null,null,6.7,8,9.9,13,9.9,13,6.7,8]
[2019,6,18,15,43634.624999998974,5.9,"Valid",8,8.6999999999999993,"Valid",13,null,null,5.9,8,8.6999999999999993,13,8.6999999999999993,13,5.9,8]
[2019,6,18,16,43634.666666665638,6.5,"Valid",7.7,9.3000000000000007,"Valid",12.7,null,null,6.5,7.7,9.3000000000000007,12.7,9.3000000000000007,12.7,6.5,7.7]
[2019,6,18,17,43634.708333332303,6.9,"Valid",7,11.2,"Valid",12,null,null,6.9,7,11.2,12,11.2,12,6.9,7]
[2019,6,18,18,43634.749999998967,6,"Valid",6.4,10.3,"Valid",11.1,null,null,6,6.4,10.3,11.1,10.3,11.1,6,6.4]
[2019,6,18,19,43634.791666665631,5.0999999999999996,"Valid",6.4,10.5,"Valid",10.9,null,null,5.0999999999999996,6.4,10.5,10.9,10.5,10.9,5.0999999999999996,6.4]
[2019,6,18,20,43634.833333332295,3.3,"Valid",6.3,7.2,"Valid",10.9,null,null,3.3,6.3,7.2,10.9,7.2,10.9,3.3,6.3]
[2019,6,18,21,43634.87499999896,5.5,"Valid",6.4,8.4,"Valid",11,null,null,5.5,6.4,8.4,11,8.4,11,5.5,6.4]
[2019,6,18,22,43634.916666665624,-0.1,"Valid",6.6,3.4,"Valid",11.2,null,null,-0.1,6.6,3.4,11.2,3.4,11.2,-0.1,6.6]
[2019,6,18,23,43634.958333332288,1.1000000000000001,"Valid",6.4,4.5999999999999996,"Valid",10.9,null,null,1.1000000000000001,6.4,4.5999999999999996,10.9,4.5999999999999996,10.9,1.1000000000000001,6.4]
[2019,6,19,0,43634.999999998952,8.1,"Valid",6,11.3,"Valid",10.6,null,null,8.1,6,11.3,10.6,11.3,10.6,8.1,6]
[2019,6,19,1,43635.041666665617,3,"Valid",6.1,6.2,"Valid",10.199999999999999,null,null,3,6.1,6.2,10.199999999999999,6.2,10.199999999999999,3,6.1]
[2019,6,19,2,43635.083333332281,5.2,"Valid",5.9,8.1,"Valid",9.8000000000000007,null,null,5.2,5.9,8.1,9.8000000000000007,8.1,9.8000000000000007,5.2,5.9]
[2019,6,19,3,43635.124999998945,7.3,"Valid",5.6,9.8000000000000007,"Valid",9.1999999999999993,null,null,7.3,5.6,9.8000000000000007,9.1999999999999993,9.8000000000000007,9.1999999999999993,7.3,5.6]
[2019,6,19,4,43635.166666665609,4.0999999999999996,"Valid",5.5,6.2,"Valid",9,null,null,4.0999999999999996,5.5,6.2,9,6.2,9,4.0999999999999996,5.5]
[2019,6,19,5,43635.208333332273,3.6,"Valid",5.4,5.8,"Valid",8.8000000000000007,null,null,3.6,5.4,5.8,8.8000000000000007,5.8,8.8000000000000007,3.6,5.4]
[2019,6,19,6,43635.249999998938,0.6,"Valid",5.2,1.9,"Valid",8.5,null,null,0.6,5.2,1.9,8.5,1.9,8.5,0.6,5.2]
[2019,6,19,7,43635.291666665602,4.2,"Valid",4.9000000000000004,6.8,"Valid",8.1,null,null,4.2,4.9000000000000004,6.8,8.1,6.8,8.1,4.2,4.9000000000000004]
[2019,6,19,8,43635.333333332266,8.8000000000000007,"Valid",4.9000000000000004,14,"Valid",8,null,null,8.8000000000000007,4.9000000000000004,14,8,14,8,8.8000000000000007,4.9000000000000004]
[2019,6,19,9,43635.37499999893,6.1,"Valid",5,10.5,"Valid",8.1999999999999993,null,null,6.1,5,10.5,8.1999999999999993,10.5,8.1999999999999993,6.1,5]
[2019,6,19,10,43635.416666665595,-0.8,"Valid",5,6.8,"Valid",8.3000000000000007,null,null,-0.8,5,6.8,8.3000000000000007,6.8,8.3000000000000007,-0.8,5]
[2019,6,19,11,43635.458333332259,0.7,"Valid",4.7,6.1,"Valid",8.3000000000000007,null,null,0.7,4.7,6.1,8.3000000000000007,6.1,8.3000000000000007,0.7,4.7]
[2019,6,19,12,43635.499999998923,1,"Valid",4.5,7.7,"Valid",8.1999999999999993,null,null,1,4.5,7.7,8.1999999999999993,7.7,8.1999999999999993,1,4.5]
[2019,6,19,13,43635.541666665587,-0.8,"Valid",4.3,3.6,"Valid",8,null,null,-0.8,4.3,3.6,8,3.6,8,-0.8,4.3]
[2019,6,19,14,43635.583333332252,{"$f":"NA()","v":{"$error":"#N/A"}},"Invalid",4.0999999999999996,{"$f":"NA()","v":{"$error":"#N/A"}},"Invalid",{"$f":"NA()","v":{"$error":"#N/A"}},"Calibration Error","value outside range",{"$error":"#N/A"},{"$error":"#N/A"},{"$f":"IF(J448=\"Valid\",#REF!, NA())","v":{"$error":"#N/A"}},{"$f":"IF(J448=\"Valid\", K448, NA())","v":{"$error":"#N/A"}}]
[2019,6,19,15,43635.624999998916,{"$f":"NA()","v":{"$error":"#N/A"}},"Invalid",4,{"$f":"NA()","v":{"$error":"#N/A"}},"Invalid",{"$f":"NA()","v":{"$error":"#N/A"}},"Calibration Error","value outside range",{"$error":"#N/A"},{"$error":"#N/A"},{"$error":"#N/A"},{"$error":"#N/A"}]
[2019,6,19,16,43635.66666666558,18.899999999999999,"Valid",3.9,25,"Valid",7.7,null,null,{"$f":"IF(G450=\"Valid\", F450, NA())","v":18.899999999999999},{"$f":"IF(G450=\"Valid\", H450, NA())","v":3.9},{"$f":"IF(J450=\"Valid\", I450, NA())","v":25},{"$f":"IF(J450=\"Valid\", K450, NA())","v":7.7},25,7.7,18.899999999999999,3.9]
[2019,6,19,17,43635.708333332244,39.4,"Valid",4.4000000000000004,47.3,"Valid",8.4,null,null,39.4,4.4000000000000004,47.3,8.4,47.3,8.4,39.4,4.4000000000000004]
[{"$f":"A451","v":2019},6,19,{"$f":"IF(D451=23,0,D451+1)","v":18},{"$f":"E451+0.0416666666666666","v":43635.749999998909},17.3,"Valid",5.9,25.2,"Valid",10.1,null,null,17.3,5.9,25.2,10.1,25.2,10.1,17.3,5.9]
[2019,6,19,19,43635.791666665573,0.1,"Valid",6.4,5,"Valid",10.7,null,null,0.1,6.4,5,10.7,5,10.7,0.1,6.4]
[2019,6,19,20,43635.833333332237,6.6,"Valid",6.2,10,"Valid",10.5,null,null,6.6,6.2,10,10.5,10,10.5,6.6,6.2]
[2019,6,19,21,43635.874999998901,4.5,"Valid",6.4,9.1999999999999993,"Valid",10.6,null,null,4.5,6.4,9.1999999999999993,10.6,9.1999999999999993,10.6,4.5,6.4]
[2019,6,19,22,43635.916666665566,14.2,"Valid",6.3,27.4,"Valid",10.7,null,null,14.2,6.3,27.4,10.7,27.4,10.7,14.2,6.3]
[2019,6,19,23,43635.95833333223,11.1,"Valid",7,24.8,"Valid",11.7,null,null,11.1,7,24.8,11.7,24.8,11.7,11.1,7]
[2019,6,20,0,43635.999999998894,2.1,"Valid",7.4,7.2,"Valid",12.7,null,null,2.1,7.4,7.2,12.7,7.2,12.7,2.1,7.4]
[2019,6,20,1,43636.041666665558,8.4,"Valid",7.1,10.1,"Valid",12.5,null,null,8.4,7.1,10.1,12.5,10.1,12.5,8.4,7.1]
[2019,6,20,2,43636.083333332223,16.5,"Valid",7.4,21.3,"Valid",12.7,null,null,16.5,7.4,21.3,12.7,21.3,12.7,16.5,7.4]
[2019,6,20,3,43636.124999998887,12.6,"Valid",7.9,15.7,"Valid",13.3,null,null,12.6,7.9,15.7,13.3,15.7,13.3,12.6,7.9]
[2019,6,20,4,43636.166666665551,10.5,"Valid",8.1,14.5,"Valid",13.5,null,null,10.5,8.1,14.5,13.5,14.5,13.5,10.5,8.1]
[2019,6,20,5,43636.208333332215,20.3,"Valid",8.4,36.1,"Valid",13.9,null,null,20.3,8.4,36.1,13.9,36.1,13.9,20.3,8.4]
[2019,6,20,6,43636.24999999888,17.600000000000001,"Valid",9.1999999999999993,27,"Valid",15.3,null,null,17.600000000000001,9.1999999999999993,27,15.3,27,15.3,17.600000000000001,9.1999999999999993]
[2019,6,20,7,43636.291666665544,16.2,"Valid",10,24.7,"Valid",16.399999999999999,null,null,16.2,10,24.7,16.399999999999999,24.7,16.399999999999999,16.2,10]
[2019,6,20,8,43636.333333332208,21.3,"Valid",10.5,33.200000000000003,"Valid",17.2,null,null,21.3,10.5,33.200000000000003,17.2,33.200000000000003,17.2,21.3,10.5]
[2019,6,20,9,43636.374999998872,17.8,"Valid",11.1,25.8,"Valid",18.100000000000001,null,null,17.8,11.1,25.8,18.100000000000001,25.8,18.100000000000001,17.8,11.1]
[2019,6,20,10,43636.416666665536,11.8,"Valid",11.6,18.899999999999999,"Valid",18.8,null,null,11.8,11.6,18.899999999999999,18.8,18.899999999999999,18.8,11.8,11.6]
[2019,6,20,11,43636.458333332201,3.5,"Valid",12.2,10.8,"Valid",19.399999999999999,null,null,3.5,12.2,10.8,19.399999999999999,10.8,19.399999999999999,3.5,12.2]
[2019,6,20,12,43636.499999998865,-0.3,"Valid",12.3,5.3,"Valid",19.600000000000001,null,null,-0.3,12.3,5.3,19.600000000000001,5.3,19.600000000000001,-0.3,12.3]
[2019,6,20,13,43636.541666665529,1.4,"Valid",12.3,7.5,"Valid",19.5,null,null,1.4,12.3,7.5,19.5,7.5,19.5,1.4,12.3]
[2019,6,20,14,43636.583333332193,1.4,"Valid",12.4,9,"Valid",19.600000000000001,null,null,1.4,12.4,9,19.600000000000001,9,19.600000000000001,1.4,12.4]
[2019,6,20,15,43636.624999998858,4.2,"Valid",11.9,12.9,"Valid",19.2,null,null,4.2,11.9,12.9,19.2,12.9,19.2,4.2,11.9]
[2019,6,20,16,43636.666666665522,7.8,"Valid",11.6,17.2,"Valid",18.899999999999999,null,null,7.8,11.6,17.2,18.899999999999999,17.2,18.899999999999999,7.8,11.6]
[2019,{"$f":"B474","v":6},{"$f":"C451+1","v":20},17,43636.708333332186,3.9,"Valid",11.1,14.4,"Valid",18.600000000000001,null,null,3.9,11.1,14.4,18.600000000000001,14.4,18.600000000000001,3.9,11.1]
[2019,6,20,18,43636.74999999885,7.6,"Valid",9.6,16.3,"Valid",17.2,null,null,7.6,9.6,16.3,17.2,16.3,17.2,7.6,9.6]
[2019,6,20,19,43636.791666665515,6.1,"Valid",9.1999999999999993,15.8,"Valid",16.8,null,null,6.1,9.1999999999999993,15.8,16.8,15.8,16.8,6.1,9.1999999999999993]
[2019,6,20,20,43636.833333332179,3,"Valid",9.5,11.2,"Valid",17.3,null,null,3,9.5,11.2,17.3,11.2,17.3,3,9.5]
[2019,6,20,21,43636.874999998843,6.8,"Valid",9.3000000000000007,12,"Valid",17.3,null,null,6.8,9.3000000000000007,12,17.3,12,17.3,6.8,9.3000000000000007]
[2019,6,20,22,43636.916666665507,3.2,"Valid",9.4,8.4,"Valid",17.5,null,null,3.2,9.4,8.4,17.5,8.4,17.5,3.2,9.4]
[2019,6,20,23,43636.958333332172,0.7,"Valid",9,6.1,"Valid",16.7,null,null,0.7,9,6.1,16.7,6.1,16.7,0.7,9]
[2019,6,21,0,43636.999999998836,4.5999999999999996,"Valid",8.5,9.4,"Valid",15.9,null,null,4.5999999999999996,8.5,9.4,15.9,9.4,15.9,4.5999999999999996,8.5]
[2019,6,21,1,43637.0416666655,9.6,"Valid",8.6,14.8,"Valid",16,null,null,9.6,8.6,14.8,16,14.8,16,9.6,8.6]
[2019,6,21,2,43637.083333332164,10.6,"Valid",8.6999999999999993,15.7,"Valid",16.2,null,null,10.6,8.6999999999999993,15.7,16.2,15.7,16.2,10.6,8.6999999999999993]
[2019,6,21,3,43637.124999998829,11.8,"Valid",8.4,16.2,"Valid",15.9,null,null,11.8,8.4,16.2,15.9,16.2,15.9,11.8,8.4]
[2019,6,21,4,43637.166666665493,11.5,"Valid",8.4,14.9,"Valid",16,null,null,11.5,8.4,14.9,16,14.9,16,11.5,8.4]
[2019,6,21,5,43637.208333332157,10.199999999999999,"Valid",8.4,13.4,"Valid",16,null,null,10.199999999999999,8.4,13.4,16,13.4,16,10.199999999999999,8.4]
[2019,6,21,6,43637.249999998821,4.9000000000000004,"Valid",8,8.6,"Valid",15,null,null,4.9000000000000004,8,8.6,15,8.6,15,4.9000000000000004,8]
[2019,6,21,7,43637.291666665486,3.4,"Valid",7.5,7,"Valid",14.3,null,null,3.4,7.5,7,14.3,7,14.3,3.4,7.5]
[2019,6,21,8,43637.33333333215,6.6,"Valid",7,14.4,"Valid",13.5,null,null,6.6,7,14.4,13.5,14.4,13.5,6.6,7]
[2019,6,21,9,43637.374999998814,12.4,"Valid",6.3,19.100000000000001,"Valid",12.8,null,null,12.4,6.3,19.100000000000001,12.8,19.100000000000001,12.8,12.4,6.3]
[2019,6,21,10,43637.416666665478,9.6,"Valid",6.1,14.9,"Valid",12.5,null,null,9.6,6.1,14.9,12.5,14.9,12.5,9.6,6.1]
[2019,6,21,11,43637.458333332143,2.8,"Valid",6,13.3,"Valid",12.3,null,null,2.8,6,13.3,12.3,13.3,12.3,2.8,6]
[2019,6,21,12,43637.499999998807,5.8,"Valid",6,15.3,"Valid",12.4,null,null,5.8,6,15.3,12.4,15.3,12.4,5.8,6]
[2019,6,21,13,43637.541666665471,3.3,"Valid",6.2,11.7,"Valid",12.8,null,null,3.3,6.2,11.7,12.8,11.7,12.8,3.3,6.2]
[2019,6,21,14,43637.583333332135,2.2999999999999998,"Valid",6.3,12.1,"Valid",13,null,null,2.2999999999999998,6.3,12.1,13,12.1,13,2.2999999999999998,6.3]
[2019,6,21,15,43637.624999998799,3.6,"Valid",6.4,13.4,"Valid",13.1,null,null,3.6,6.4,13.4,13.1,13.4,13.1,3.6,6.4]
[2019,6,21,16,43637.666666665464,1.7,"Valid",6.3,9.8000000000000007,"Valid",13.2,null,null,1.7,6.3,9.8000000000000007,13.2,9.8000000000000007,13.2,1.7,6.3]
[2019,6,21,17,43637.708333332128,1.1000000000000001,"Valid",6.1,12.3,"Valid",12.8,null,null,1.1000000000000001,6.1,12.3,12.8,12.3,12.8,1.1000000000000001,6.1]
[2019,6,21,18,43637.749999998792,-0.8,"Valid",6,7.5,"Valid",12.8,null,null,-0.8,6,7.5,12.8,7.5,12.8,-0.8,6]
[2019,6,21,19,43637.791666665456,-0.1,"Valid",5.6,4.7,"Valid",12.4,null,null,-0.1,5.6,4.7,12.4,4.7,12.4,-0.1,5.6]
[2019,6,21,20,43637.833333332121,1.7,"Valid",5.4,6.9,"Valid",11.9,null,null,1.7,5.4,6.9,11.9,6.9,11.9,1.7,5.4]
[2019,6,21,21,43637.874999998785,2.2999999999999998,"Valid",5.3,8,"Valid",11.7,null,null,2.2999999999999998,5.3,8,11.7,8,11.7,2.2999999999999998,5.3]
[2019,6,21,22,43637.916666665449,-0.7,"Valid",5.0999999999999996,5.9,"Valid",11.6,null,null,-0.7,5.0999999999999996,5.9,11.6,5.9,11.6,-0.7,5.0999999999999996]
[2019,6,21,23,43637.958333332113,0.5,"Valid",5,5.5,"Valid",11.5,null,null,0.5,5,5.5,11.5,5.5,11.5,0.5,5]
[2019,6,22,0,43637.999999998778,6.6,"Valid",4.9000000000000004,10,"Valid",11.5,null,null,6.6,4.9000000000000004,10,11.5,10,11.5,6.6,4.9000000000000004]
[2019,6,22,1,43638.041666665442,11.3,"Valid",5,14.7,"Valid",11.5,null,null,11.3,5,14.7,11.5,14.7,11.5,11.3,5]
[2019,6,22,2,43638.083333332106,14.5,"Valid",5.0999999999999996,18,"Valid",11.5,null,null,14.5,5.0999999999999996,18,11.5,18,11.5,14.5,5.0999999999999996]
[2019,6,22,3,43638.12499999877,12.8,"Valid",5.3,16,"Valid",11.6,null,null,12.8,5.3,16,11.6,16,11.6,12.8,5.3]
[2019,6,22,4,43638.166666665435,3.8,"Valid",5.3,5.3,"Valid",11.6,null,null,3.8,5.3,5.3,11.6,5.3,11.6,3.8,5.3]
[2019,6,22,5,43638.208333332099,3.7,"Valid",5,5.9,"Valid",11.2,null,null,3.7,5,5.9,11.2,5.9,11.2,3.7,5]
[2019,6,22,6,43638.249999998763,5.2,"Valid",4.7,7.4,"Valid",10.8,null,null,5.2,4.7,7.4,10.8,7.4,10.8,5.2,4.7]
[2019,6,22,7,43638.291666665427,6.3,"Valid",4.7,8.1,"Valid",10.8,null,null,6.3,4.7,8.1,10.8,8.1,10.8,6.3,4.7]
[2019,6,22,8,43638.333333332092,13.4,"Valid",4.8,16.899999999999999,"Valid",10.8,null,null,{"$f":"IF(G514=\"Valid\", F514, NA())","v":13.4},{"$f":"IF(G514=\"Valid\", H514, NA())","v":4.8},{"$f":"IF(J514=\"Valid\", I514, NA())","v":16.899999999999999},{"$f":"IF(J514=\"Valid\", K514, NA())","v":10.8},16.899999999999999,10.8,13.4,4.8]
[2019,6,22,9,43638.374999998756,17.899999999999999,"Valid",5.0999999999999996,22.3,"Valid",10.9,null,null,17.899999999999999,5.0999999999999996,22.3,10.9,22.3,10.9,17.899999999999999,5.0999999999999996]
[{"$f":"A515","v":2019},6,22,{"$f":"IF(D515=23,0,D515+1)","v":10},{"$f":"E515+0.0416666666666666","v":43638.41666666542},16.8,"Valid",5.4,21,"Valid",11.1,null,null,16.8,5.4,21,11.1,21,11.1,16.8,5.4]
[2019,6,22,11,43638.458333332084,3.7,"Valid",5.7,8.1999999999999993,"Valid",11.3,null,null,3.7,5.7,8.1999999999999993,11.3,8.1999999999999993,11.3,3.7,5.7]
[2019,6,22,12,43638.499999998749,1.3,"Valid",5.7,6,"Valid",11.1,null,null,1.3,5.7,6,11.1,6,11.1,1.3,5.7]
[2019,6,22,13,43638.541666665413,-0.9,"Valid",5.5,3.3,"Valid",10.7,null,null,-0.9,5.5,3.3,10.7,3.3,10.7,-0.9,5.5]
[2019,6,22,14,43638.583333332077,{"$f":"NA()","v":{"$error":"#N/A"}},"Invalid",{"$f":"NA()","v":{"$error":"#N/A"}},{"$f":"NA()","v":{"$error":"#N/A"}},"Invalid",{"$f":"NA()","v":{"$error":"#N/A"}},"Calibration Error","value outside range",{"$error":"#N/A"},{"$error":"#N/A"},{"$error":"#N/A"},{"$error":"#N/A"}]
[2019,6,22,15,43638.624999998741,{"$f":"NA()","v":{"$error":"#N/A"}},"Invalid",{"$f":"NA()","v":{"$error":"#N/A"}},{"$f":"NA()","v":{"$error":"#N/A"}},"Invalid",{"$f":"NA()","v":{"$error":"#N/A"}},"Calibration Error","value outside range",{"$error":"#N/A"},{"$error":"#N/A"},{"$error":"#N/A"},{"$error":"#N/A"}]
[2019,6,22,16,43638.666666665406,1.2,"Valid",5.5,4.3,"Valid",10.199999999999999,null,null,1.2,5.5,4.3,10.199999999999999,4.3,10.199999999999999,1.2,5.5]
[2019,6,22,17,43638.70833333207,0.6,"Valid",5.5,4.0999999999999996,"Valid",9.9,null,null,0.6,5.5,4.0999999999999996,9.9,4.0999999999999996,9.9,0.6,5.5]
[2019,6,22,18,43638.749999998734,-0.9,"Valid",5.5,2.4,"Valid",9.5,null,null,-0.9,5.5,2.4,9.5,2.4,9.5,-0.9,5.5]
[2019,6,22,19,43638.791666665398,1.7,"Valid",5.5,5.8,"Valid",9.3000000000000007,null,null,1.7,5.5,5.8,9.3000000000000007,5.8,9.3000000000000007,1.7,5.5]
[2019,6,22,20,43638.833333332062,-0.4,"Valid",5.6,6.5,"Valid",9.4,null,null,-0.4,5.6,6.5,9.4,6.5,9.4,-0.4,5.6]
[2019,6,22,21,43638.874999998727,0,"Valid",5.5,6.4,"Valid",9.3000000000000007,null,null,0,5.5,6.4,9.3000000000000007,6.4,9.3000000000000007,0,5.5]
[2019,6,22,22,43638.916666665391,-0.4,"Valid",5.4,5,"Valid",9.3000000000000007,null,null,-0.4,5.4,5,9.3000000000000007,5,9.3000000000000007,-0.4,5.4]
[2019,6,22,23,43638.958333332055,3.9,"Valid",5.4,8.4,"Valid",9.1999999999999993,null,null,3.9,5.4,8.4,9.1999999999999993,8.4,9.1999999999999993,3.9,5.4]
[2019,6,23,0,43638.999999998719,3.7,"Valid",5.6,7.9,"Valid",9.4,null,null,3.7,5.6,7.9,9.4,7.9,9.4,3.7,5.6]
[2019,6,23,1,43639.041666665384,2.7,"Valid",5.4,7.2,"Valid",9.3000000000000007,null,null,2.7,5.4,7.2,9.3000000000000007,7.2,9.3000000000000007,2.7,5.4]
[2019,6,23,2,43639.083333332048,1.7,"Valid",5,6.7,"Valid",8.9,null,null,1.7,5,6.7,8.9,6.7,8.9,1.7,5]
[2019,6,23,3,43639.124999998712,0.3,"Valid",4.4000000000000004,5.0999999999999996,"Valid",8.4,null,null,0.3,4.4000000000000004,5.0999999999999996,8.4,5.0999999999999996,8.4,0.3,4.4000000000000004]
[2019,6,23,4,43639.166666665376,2,"Valid",3.9,6,"Valid",7.9,null,null,2,3.9,6,7.9,6,7.9,2,3.9]
[2019,6,23,5,43639.208333332041,0.1,"Valid",3.8,3.2,"Valid",8,null,null,0.1,3.8,3.2,8,3.2,8,0.1,3.8]
[2019,6,23,6,43639.249999998705,5.6,"Valid",3.6,8,"Valid",7.8,null,null,5.6,3.6,8,7.8,8,7.8,5.6,3.6]
[2019,6,23,7,43639.291666665369,11.9,"Valid",3.6,16.399999999999999,"Valid",7.9,null,null,11.9,3.6,16.399999999999999,7.9,16.399999999999999,7.9,11.9,3.6]
[2019,6,23,8,43639.333333332033,10.9,"Valid",3.9,14.8,"Valid",8.1999999999999993,null,null,10.9,3.9,14.8,8.1999999999999993,14.8,8.1999999999999993,10.9,3.9]
[2019,{"$f":"B538","v":6},{"$f":"C515+1","v":23},9,43639.374999998698,8,"Valid",3.8,10.8,"Valid",8.1,null,null,8,3.8,10.8,8.1,10.8,8.1,8,3.8]
[2019,6,23,10,43639.416666665362,7.1,"Valid",3.3,9.9,"Valid",7.6,null,null,7.1,3.3,9.9,7.6,9.9,7.6,7.1,3.3]
[2019,6,23,11,43639.458333332026,{"$f":"NA()","v":{"$error":"#N/A"}},"Invalid",{"$f":"NA()","v":{"$error":"#N/A"}},{"$f":"NA()","v":{"$error":"#N/A"}},"Invalid",{"$f":"NA()","v":{"$error":"#N/A"}},"Calibration Error","value outside range",{"$error":"#N/A"},{"$error":"#N/A"},{"$error":"#N/A"},{"$error":"#N/A"}]
[2019,6,23,12,43639.49999999869,{"$f":"NA()","v":{"$error":"#N/A"}},"Invalid",{"$f":"NA()","v":{"$error":"#N/A"}},{"$f":"NA()","v":{"$error":"#N/A"}},"Invalid",{"$f":"NA()","v":{"$error":"#N/A"}},"Calibration Error","value outside range",{"$error":"#N/A"},{"$error":"#N/A"},{"$error":"#N/A"},{"$error":"#N/A"}]
[2019,6,23,13,43639.541666665355,-0.9,"Valid",2.9,2.4,"Valid",7.1,null,null,-0.9,2.9,2.4,7.1,2.4,7.1,-0.9,2.9]
[2019,6,23,14,43639.583333332019,0.2,"Valid",2.9,4,"Valid",7.1,null,null,0.2,2.9,4,7.1,4,7.1,0.2,2.9]
[2019,6,23,15,43639.624999998683,0,"Valid",2.8,5.5,"Valid",6.9,null,null,0,2.8,5.5,6.9,5.5,6.9,0,2.8]
[2019,6,23,16,43639.666666665347,1,"Valid",2.7,7.9,"Valid",6.9,null,null,1,2.7,7.9,6.9,7.9,6.9,1,2.7]
[2019,6,23,17,43639.708333332012,-1.8,"Valid",2.7,1.7,"Valid",7,null,null,-1.8,2.7,1.7,7,1.7,7,-1.8,2.7]
[2019,6,23,18,43639.749999998676,{"$f":"NA()","v":{"$error":"#N/A"}},"Invalid",{"$f":"NA()","v":{"$error":"#N/A"}},{"$f":"NA()","v":{"$error":"#N/A"}},"Invalid",{"$f":"NA()","v":{"$error":"#N/A"}},"Calibration Error","value outside range",{"$error":"#N/A"},{"$error":"#N/A"},{"$error":"#N/A"},{"$error":"#N/A"}]
[2019,6,23,19,43639.79166666534,0.8,"Valid",2.7,3.8,"Valid",7.1,null,null,0.8,2.7,3.8,7.1,3.8,7.1,0.8,2.7]
[2019,6,23,20,43639.833333332004,1.2,"Valid",2.7,6.4,"Valid",7,null,null,1.2,2.7,6.4,7,6.4,7,1.2,2.7]
[2019,6,23,21,43639.874999998668,3,"Valid",2.8,7.9,"Valid",7,null,null,3,2.8,7.9,7,7.9,7,3,2.8]
[2019,6,23,22,43639.916666665333,0.9,"Valid",2.9,4.7,"Valid",7.1,null,null,0.9,2.9,4.7,7.1,4.7,7.1,0.9,2.9]
[2019,6,23,23,43639.958333331997,-0.9,"Valid",3,2.4,"Valid",7.1,null,null,-0.9,3,2.4,7.1,2.4,7.1,-0.9,3]
[2019,6,24,0,43639.999999998661,-1.6,"Valid",2.7,0.6,"Valid",6.8,null,null,-1.6,2.7,0.6,6.8,0.6,6.8,-1.6,2.7]
[2019,6,24,1,43640.041666665325,{"$f":"NA()","v":{"$error":"#N/A"}},"Invalid",{"$f":"NA()","v":{"$error":"#N/A"}},{"$f":"NA()","v":{"$error":"#N/A"}},"Invalid",{"$f":"NA()","v":{"$error":"#N/A"}},"Calibration Error","value outside range",{"$error":"#N/A"},{"$error":"#N/A"},{"$error":"#N/A"},{"$error":"#N/A"}]
[2019,6,24,2,43640.08333333199,3.1,"Valid",2.2999999999999998,5.5,"Valid",6.1,null,null,3.1,2.2999999999999998,5.5,6.1,5.5,6.1,3.1,2.2999999999999998]
[2019,6,24,3,43640.124999998654,1,"Valid",2.4,3.9,"Valid",6.1,null,null,1,2.4,3.9,6.1,3.9,6.1,1,2.4]
[2019,6,24,4,43640.166666665318,-0.4,"Valid",2.4,2.5,"Valid",6,null,null,-0.4,2.4,2.5,6,2.5,6,-0.4,2.4]
[2019,6,24,5,43640.208333331982,-0.2,"Valid",2.2999999999999998,2.4,"Valid",5.9,null,null,-0.2,2.2999999999999998,2.4,5.9,2.4,5.9,-0.2,2.2999999999999998]
[2019,6,24,6,43640.249999998647,-1.5,"Valid",2.2999999999999998,1.6,"Valid",5.8,null,null,-1.5,2.2999999999999998,1.6,5.8,1.6,5.8,-1.5,2.2999999999999998]
[2019,6,24,7,43640.291666665311,-1.5,"Valid",1.9,1.7,"Valid",5.5,null,null,-1.5,1.9,1.7,5.5,1.7,5.5,-1.5,1.9]
[2019,6,24,8,43640.333333331975,-0.9,"Valid",1.3,2.4,"Valid",4.8,null,null,-0.9,1.3,2.4,4.8,2.4,4.8,-0.9,1.3]
[2019,6,24,9,43640.374999998639,-1.4,"Valid",0.7,1.7,"Valid",4.2,null,null,-1.4,0.7,1.7,4.2,1.7,4.2,-1.4,0.7]
[2019,6,24,10,43640.416666665304,-0.2,"Valid",0.3,2,"Valid",3.8,null,null,-0.2,0.3,2,3.8,2,3.8,-0.2,0.3]
[2019,6,24,11,43640.458333331968,-1,"Valid",0,2,"Valid",3.4,null,null,-1,0,2,3.4,2,3.4,-1,0]
[2019,6,24,12,43640.499999998632,1.2,"Valid",-0.1,6.2,"Valid",3.4,null,null,1.2,-0.1,6.2,3.4,6.2,3.4,1.2,-0.1]
[2019,6,24,13,43640.541666665296,4.5999999999999996,"Valid",0,8.5,"Valid",3.5,null,null,4.5999999999999996,0,8.5,3.5,8.5,3.5,4.5999999999999996,0]
[2019,6,24,14,43640.583333331961,1.1000000000000001,"Valid",0.2,4.5,"Valid",3.7,null,null,1.1000000000000001,0.2,4.5,3.7,4.5,3.7,1.1000000000000001,0.2]
[2019,6,24,15,43640.624999998625,3.8,"Valid",0.2,7.1,"Valid",3.8,null,null,3.8,0.2,7.1,3.8,7.1,3.8,3.8,0.2]
[2019,6,24,16,43640.666666665289,8.8000000000000007,"Valid",0.4,11.9,"Valid",3.8,null,null,8.8000000000000007,0.4,11.9,3.8,11.9,3.8,8.8000000000000007,0.4]
[2019,6,24,17,43640.708333331953,-0.5,"Valid",0.7,2.8,"Valid",4,null,null,-0.5,0.7,2.8,4,2.8,4,-0.5,0.7]
[2019,6,24,18,43640.749999998618,0.4,"Valid",0.8,3.7,"Valid",4.0999999999999996,null,null,0.4,0.8,3.7,4.0999999999999996,3.7,4.0999999999999996,0.4,0.8]
[2019,6,24,19,43640.791666665282,1.1000000000000001,"Valid",0.8,4.7,"Valid",4,null,null,1.1000000000000001,0.8,4.7,4,4.7,4,1.1000000000000001,0.8]
[2019,6,24,20,43640.833333331946,0.4,"Valid",0.8,4.0999999999999996,"Valid",4.0999999999999996,null,null,0.4,0.8,4.0999999999999996,4.0999999999999996,4.0999999999999996,4.0999999999999996,0.4,0.8]
[2019,6,24,21,43640.87499999861,1.5,"Valid",0.8,5.8,"Valid",4,null,null,1.5,0.8,5.8,4,5.8,4,1.5,0.8]
[2019,6,24,22,43640.916666665275,1.1000000000000001,"Valid",0.7,8.4,"Valid",3.9,null,null,1.1000000000000001,0.7,8.4,3.9,8.4,3.9,1.1000000000000001,0.7]
[2019,6,24,23,43640.958333331939,-0.1,"Valid",0.7,4.9000000000000004,"Valid",4.0999999999999996,null,null,-0.1,0.7,4.9000000000000004,4.0999999999999996,4.9000000000000004,4.0999999999999996,-0.1,0.7]
[2019,6,25,0,43640.999999998603,0.4,"Valid",0.7,4.5999999999999996,"Valid",4.2,null,null,{"$f":"IF(G578=\"Valid\", F578, NA())","v":0.4},{"$f":"IF(G578=\"Valid\", H578, NA())","v":0.7},{"$f":"IF(J578=\"Valid\", I578, NA())","v":4.5999999999999996},{"$f":"IF(J578=\"Valid\", K578, NA())","v":4.2},4.5999999999999996,4.2,0.4,0.7]
[2019,6,25,1,43641.041666665267,1.3,"Valid",0.8,5.3,"Valid",4.3,null,null,1.3,0.8,5.3,4.3,5.3,4.3,1.3,0.8]
[{"$f":"A579","v":2019},6,25,{"$f":"IF(D579=23,0,D579+1)","v":2},{"$f":"E579+0.0416666666666666","v":43641.083333331931},0.7,"Valid",0.9,4.3,"Valid",4.5,null,null,0.7,0.9,4.3,4.5,4.3,4.5,0.7,0.9]
[2019,6,25,3,43641.124999998596,2.4,"Valid",0.8,6,"Valid",4.5,null,null,2.4,0.8,6,4.5,6,4.5,2.4,0.8]
[2019,6,25,4,43641.16666666526,-0.5,"Valid",0.9,2.7,"Valid",4.5,null,null,-0.5,0.9,2.7,4.5,2.7,4.5,-0.5,0.9]
[2019,6,25,5,43641.208333331924,2.4,"Valid",0.9,5.9,"Valid",4.5999999999999996,null,null,2.4,0.9,5.9,4.5999999999999996,5.9,4.5999999999999996,2.4,0.9]
[2019,6,25,6,43641.249999998588,-0.4,"Valid",1,3.1,"Valid",4.7,null,null,-0.4,1,3.1,4.7,3.1,4.7,-0.4,1]
[2019,6,25,7,43641.291666665253,-1.7,"Valid",1,1.9,"Valid",4.8,null,null,-1.7,1,1.9,4.8,1.9,4.8,-1.7,1]
[2019,6,25,8,43641.333333331917,-0.2,"Valid",1,5.2,"Valid",4.8,null,null,-0.2,1,5.2,4.8,5.2,4.8,-0.2,1]
[2019,6,25,9,43641.374999998581,-0.6,"Valid",1,2.1,"Valid",4.9000000000000004,null,null,-0.6,1,2.1,4.9000000000000004,2.1,4.9000000000000004,-0.6,1]
[2019,6,25,10,43641.416666665245,-0.5,"Valid",1.1000000000000001,3.6,"Valid",4.9000000000000004,null,null,-0.5,1.1000000000000001,3.6,4.9000000000000004,3.6,4.9000000000000004,-0.5,1.1000000000000001]
[2019,6,25,11,43641.45833333191,2.2000000000000002,"Valid",1.1000000000000001,7.7,"Valid",5,null,null,2.2000000000000002,1.1000000000000001,7.7,5,7.7,5,2.2000000000000002,1.1000000000000001]
[2019,6,25,12,43641.499999998574,4.2,"Valid",1.2,14.2,"Valid",5.2,null,null,4.2,1.2,14.2,5.2,14.2,5.2,4.2,1.2]
[2019,6,25,13,43641.541666665238,0.8,"Valid",1.3,5.7,"Valid",5.5,null,null,0.8,1.3,5.7,5.5,5.7,5.5,0.8,1.3]
[2019,6,25,14,43641.583333331902,0.6,"Valid",1.2,6.2,"Valid",5.4,null,null,0.6,1.2,6.2,5.4,6.2,5.4,0.6,1.2]
[2019,6,25,15,43641.624999998567,1.9,"Valid",1.2,7.6,"Valid",5.5,null,null,1.9,1.2,7.6,5.5,7.6,5.5,1.9,1.2]
[2019,6,25,16,43641.666666665231,0.2,"Valid",1.1000000000000001,5.2,"Valid",5.5,null,null,0.2,1.1000000000000001,5.2,5.5,5.2,5.5,0.2,1.1000000000000001]
[2019,6,25,17,43641.708333331895,2.1,"Valid",0.7,8.4,"Valid",5.2,null,null,2.1,0.7,8.4,5.2,8.4,5.2,2.1,0.7]
[2019,6,25,18,43641.749999998559,{"$error":"#N/A"},"Invalid",{"$f":"NA()","v":{"$error":"#N/A"}},{"$error":"#N/A"},"Invalid",{"$f":"NA()","v":{"$error":"#N/A"}},"Calibration Error","value outside range",{"$error":"#N/A"},{"$error":"#N/A"},{"$error":"#N/A"},{"$error":"#N/A"}]
[2019,6,25,19,43641.791666665224,0.2,"Valid",0.8,2,"Valid",5.5,null,null,0.2,0.8,2,5.5,2,5.5,0.2,0.8]
[2019,6,25,20,43641.833333331888,5.6,"Valid",0.8,7.9,"Valid",5.4,null,null,5.6,0.8,7.9,5.4,7.9,5.4,5.6,0.8]
[2019,6,25,21,43641.874999998552,6.8,"Valid",1,8.6,"Valid",5.6,null,null,6.8,1,8.6,5.6,8.6,5.6,6.8,1]
[2019,6,25,22,43641.916666665216,3,"Valid",1.3,4.8,"Valid",5.7,null,null,3,1.3,4.8,5.7,4.8,5.7,3,1.3]
[2019,6,25,23,43641.958333331881,-0.3,"Valid",1.3,3,"Valid",5.6,null,null,-0.3,1.3,3,5.6,3,5.6,-0.3,1.3]
[2019,6,26,0,43641.999999998545,4.9000000000000004,"Valid",1.3,8.6999999999999993,"Valid",5.5,null,null,4.9000000000000004,1.3,8.6999999999999993,5.5,8.6999999999999993,5.5,4.9000000000000004,1.3]
[2019,{"$f":"B602","v":6},{"$f":"C579+1","v":26},1,43642.041666665209,3.1,"Valid",1.5,6.5,"Valid",5.7,null,null,3.1,1.5,6.5,5.7,6.5,5.7,3.1,1.5]
[2019,6,26,2,43642.083333331873,3.1,"Valid",1.6,6.9,"Valid",5.7,null,null,3.1,1.6,6.9,5.7,6.9,5.7,3.1,1.6]
[2019,6,26,3,43642.124999998538,1.1000000000000001,"Valid",1.7,4,"Valid",5.8,null,null,1.1000000000000001,1.7,4,5.8,4,5.8,1.1000000000000001,1.7]
[2019,6,26,4,43642.166666665202,3.7,"Valid",1.7,6.1,"Valid",5.7,null,null,3.7,1.7,6.1,5.7,6.1,5.7,3.7,1.7]
[2019,6,26,5,43642.208333331866,3.7,"Valid",1.8,6.6,"Valid",5.9,null,null,3.7,1.8,6.6,5.9,6.6,5.9,3.7,1.8]
[2019,6,26,6,43642.24999999853,2.1,"Valid",1.9,6.1,"Valid",5.9,null,null,2.1,1.9,6.1,5.9,6.1,5.9,2.1,1.9]
[2019,6,26,7,43642.291666665194,3.8,"Valid",2,8.9,"Valid",6,null,null,3.8,2,8.9,6,8.9,6,3.8,2]
[2019,6,26,8,43642.333333331859,3.5,"Valid",2.2000000000000002,9.6,"Valid",6.3,null,null,3.5,2.2000000000000002,9.6,6.3,9.6,6.3,3.5,2.2000000000000002]
[2019,6,26,9,43642.374999998523,3.3,"Valid",2.4,9.5,"Valid",6.5,null,null,3.3,2.4,9.5,6.5,9.5,6.5,3.3,2.4]
[2019,6,26,10,43642.416666665187,3.4,"Valid",2.6,8.1,"Valid",6.9,null,null,3.4,2.6,8.1,6.9,8.1,6.9,3.4,2.6]
[2019,6,26,11,43642.458333331851,1.4,"Valid",2.7,5.4,"Valid",7.1,null,null,1.4,2.7,5.4,7.1,5.4,7.1,1.4,2.7]
[2019,6,26,12,43642.499999998516,1.2,"Valid",2.7,7.5,"Valid",7,null,null,1.2,2.7,7.5,7,7.5,7,1.2,2.7]
[2019,6,26,13,43642.54166666518,-0.2,"Valid",2.6,5.7,"Valid",6.7,null,null,-0.2,2.6,5.7,6.7,5.7,6.7,-0.2,2.6]
[2019,6,26,14,43642.583333331844,-0.5,"Valid",2.5,4.3,"Valid",6.7,null,null,-0.5,2.5,4.3,6.7,4.3,6.7,-0.5,2.5]
[2019,6,26,15,43642.624999998508,-1.1000000000000001,"Valid",2.5,5.5,"Valid",6.6,null,null,-1.1000000000000001,2.5,5.5,6.6,5.5,6.6,-1.1000000000000001,2.5]
[2019,6,26,16,43642.666666665173,1,"Valid",2.4,21.4,"Valid",6.5,null,null,1,2.4,21.4,6.5,21.4,6.5,1,2.4]
[2019,6,26,17,43642.708333331837,-0.4,"Valid",2.4,14.2,"Valid",7.2,null,null,-0.4,2.4,14.2,7.2,14.2,7.2,-0.4,2.4]
[2019,6,26,18,43642.749999998501,-0.8,"Valid",2.2999999999999998,10.6,"Valid",7.4,null,null,-0.8,2.2999999999999998,10.6,7.4,10.6,7.4,-0.8,2.2999999999999998]
[2019,6,26,19,43642.791666665165,2.4,"Valid",2.2000000000000002,13.6,"Valid",7.6,null,null,2.4,2.2000000000000002,13.6,7.6,13.6,7.6,2.4,2.2000000000000002]
[2019,6,26,20,43642.83333333183,3.2,"Valid",2.2000000000000002,7.1,"Valid",8.1,null,null,3.2,2.2000000000000002,7.1,8.1,7.1,8.1,3.2,2.2000000000000002]
[2019,6,26,21,43642.874999998494,2.7,"Valid",2.1,5.5,"Valid",8,null,null,2.7,2.1,5.5,8,5.5,8,2.7,2.1]
[2019,6,26,22,43642.916666665158,3,"Valid",2,5.9,"Valid",7.9,null,null,3,2,5.9,7.9,5.9,7.9,3,2]
[2019,6,26,23,43642.958333331822,1.2,"Valid",2,4.3,"Valid",7.9,null,null,1.2,2,4.3,7.9,4.3,7.9,1.2,2]
[2019,6,27,0,43642.999999998487,2.4,"Valid",2,5.8,"Valid",8,null,null,2.4,2,5.8,8,5.8,8,2.4,2]
[2019,6,27,1,43643.041666665151,2.8,"Valid",1.9,6.3,"Valid",7.9,null,null,2.8,1.9,6.3,7.9,6.3,7.9,2.8,1.9]
[2019,6,27,2,43643.083333331815,-0.6,"Valid",1.9,2.6,"Valid",7.9,null,null,-0.6,1.9,2.6,7.9,2.6,7.9,-0.6,1.9]
[2019,6,27,3,43643.124999998479,3.5,"Valid",1.8,6.6,"Valid",7.7,null,null,3.5,1.8,6.6,7.7,6.6,7.7,3.5,1.8]
[2019,6,27,4,43643.166666665144,0.2,"Valid",1.9,4,"Valid",7.8,null,null,0.2,1.9,4,7.8,4,7.8,0.2,1.9]
[2019,6,27,5,43643.208333331808,3,"Valid",1.7,5.9,"Valid",7.7,null,null,3,1.7,5.9,7.7,5.9,7.7,3,1.7]
[2019,6,27,6,43643.249999998472,3.1,"Valid",1.7,5,"Valid",7.7,null,null,3.1,1.7,5,7.7,5,7.7,3.1,1.7]
[2019,6,27,7,43643.291666665136,-0.6,"Valid",1.7,1.8,"Valid",7.6,null,null,-0.6,1.7,1.8,7.6,1.8,7.6,-0.6,1.7]
[2019,6,27,8,43643.333333331801,3.4,"Valid",1.5,12.1,"Valid",7.3,null,null,3.4,1.5,12.1,7.3,12.1,7.3,3.4,1.5]
[2019,6,27,9,43643.374999998465,13.5,"Valid",1.5,28.2,"Valid",7.4,null,null,13.5,1.5,28.2,7.4,28.2,7.4,13.5,1.5]
[2019,6,27,10,43643.416666665129,2.5,"Valid",2,13.4,"Valid",8.1999999999999993,null,null,2.5,2,13.4,8.1999999999999993,13.4,8.1999999999999993,2.5,2]
[2019,6,27,11,43643.458333331793,0.8,"Valid",1.9,4.3,"Valid",8.4,null,null,0.8,1.9,4.3,8.4,4.3,8.4,0.8,1.9]
[2019,6,27,12,43643.499999998457,-0.9,"Valid",1.9,1.8,"Valid",8.4,null,null,-0.9,1.9,1.8,8.4,1.8,8.4,-0.9,1.9]
[2019,6,27,13,43643.541666665122,{"$error":"#N/A"},"Invalid",{"$f":"NA()","v":{"$error":"#N/A"}},{"$error":"#N/A"},"Invalid",{"$f":"NA()","v":{"$error":"#N/A"}},"Calibration Error","value outside range",{"$error":"#N/A"},{"$error":"#N/A"},{"$error":"#N/A"},{"$error":"#N/A"}]
[2019,6,27,14,43643.583333331786,{"$error":"#N/A"},"Invalid",{"$f":"NA()","v":{"$error":"#N/A"}},{"$error":"#N/A"},"Invalid",{"$f":"NA()","v":{"$error":"#N/A"}},"Calibration Error","value outside range",{"$error":"#N/A"},{"$error":"#N/A"},{"$error":"#N/A"},{"$error":"#N/A"}]
[2019,6,27,15,43643.62499999845,-1.1000000000000001,"Valid",2,11.8,"Valid",8.5,null,null,-1.1000000000000001,2,11.8,8.5,11.8,8.5,-1.1000000000000001,2]
[2019,6,27,16,43643.666666665114,1.8,"Valid",2,7.8,"Valid",8.6999999999999993,null,null,{"$f":"IF(G642=\"Valid\", F642, NA())","v":1.8},{"$f":"IF(G642=\"Valid\", H642, NA())","v":2},{"$f":"IF(J642=\"Valid\", I642, NA())","v":7.8},{"$f":"IF(J642=\"Valid\", K642, NA())","v":8.6999999999999993},7.8,8.6999999999999993,1.8,2]
[2019,6,27,17,43643.708333331779,0.7,"Valid",2,6.8,"Valid",8.1,null,null,0.7,2,6.8,8.1,6.8,8.1,0.7,2]
[{"$f":"A643","v":2019},6,27,{"$f":"IF(D643=23,0,D643+1)","v":18},{"$f":"E643+0.0416666666666666","v":43643.749999998443},{"$error":"#N/A"},"Invalid",{"$f":"NA()","v":{"$error":"#N/A"}},{"$error":"#N/A"},"Invalid",{"$f":"NA()","v":{"$error":"#N/A"}},"Calibration Error","value outside range",{"$error":"#N/A"},{"$error":"#N/A"},{"$error":"#N/A"},{"$error":"#N/A"}]
[2019,6,27,19,43643.791666665107,0.6,"Valid",2.2000000000000002,12.5,"Valid",7.6,null,null,0.6,2.2000000000000002,12.5,7.6,12.5,7.6,0.6,2.2000000000000002]
[2019,6,27,20,43643.833333331771,0.2,"Valid",2.2000000000000002,4,"Valid",7.6,null,null,0.2,2.2000000000000002,4,7.6,4,7.6,0.2,2.2000000000000002]
[2019,6,27,21,43643.874999998436,{"$error":"#N/A"},"Invalid",{"$f":"NA()","v":{"$error":"#N/A"}},{"$error":"#N/A"},"Invalid",{"$f":"NA()","v":{"$error":"#N/A"}},"Calibration Error","value outside range",{"$error":"#N/A"},{"$error":"#N/A"},{"$error":"#N/A"},{"$error":"#N/A"}]
[2019,6,27,22,43643.9166666651,-0.9,"Valid",2,1.2,"Valid",7.5,null,null,-0.9,2,1.2,7.5,1.2,7.5,-0.9,2]
[2019,6,27,23,43643.958333331764,-1.5,"Valid",1.8,0.3,"Valid",7.3,null,null,-1.5,1.8,0.3,7.3,0.3,7.3,-1.5,1.8]
[2019,6,28,0,43643.999999998428,-0.1,"Valid",1.6,2.1,"Valid",7.1,null,null,-0.1,1.6,2.1,7.1,2.1,7.1,-0.1,1.6]
[2019,6,28,1,43644.041666665093,0.9,"Valid",1.5,3.6,"Valid",6.9,null,null,0.9,1.5,3.6,6.9,3.6,6.9,0.9,1.5]
[2019,6,28,2,43644.083333331757,0.2,"Valid",1.4,3.3,"Valid",6.8,null,null,0.2,1.4,3.3,6.8,3.3,6.8,0.2,1.4]
[2019,6,28,3,43644.124999998421,-0.6,"Valid",1.5,2.4,"Valid",6.8,null,null,-0.6,1.5,2.4,6.8,2.4,6.8,-0.6,1.5]
[2019,6,28,4,43644.166666665085,1.2,"Valid",1.3,4.5999999999999996,"Valid",6.6,null,null,1.2,1.3,4.5999999999999996,6.6,4.5999999999999996,6.6,1.2,1.3]
[2019,6,28,5,43644.20833333175,-1,"Valid",1.3,2.7,"Valid",6.6,null,null,-1,1.3,2.7,6.6,2.7,6.6,-1,1.3]
[2019,6,28,6,43644.249999998414,0.4,"Valid",1.1000000000000001,4.2,"Valid",6.5,null,null,0.4,1.1000000000000001,4.2,6.5,4.2,6.5,0.4,1.1000000000000001]
[2019,6,28,7,43644.291666665078,6,"Valid",1,20.2,"Valid",6.4,null,null,6,1,20.2,6.4,20.2,6.4,6,1]
[2019,6,28,8,43644.333333331742,8.8000000000000007,"Valid",1.3,33,"Valid",7.4,null,null,8.8000000000000007,1.3,33,7.4,33,7.4,8.8000000000000007,1.3]
[2019,6,28,9,43644.374999998407,2.2000000000000002,"Valid",1.6,4.5999999999999996,"Valid",8.4,null,null,2.2000000000000002,1.6,4.5999999999999996,8.4,4.5999999999999996,8.4,2.2000000000000002,1.6]
[2019,6,28,10,43644.416666665071,{"$error":"#N/A"},"Invalid",{"$error":"#N/A"},{"$error":"#N/A"},"Invalid",{"$error":"#N/A"},"Power Failure",null,{"$error":"#N/A"},{"$error":"#N/A"},{"$error":"#N/A"},{"$error":"#N/A"}]
[2019,6,28,11,43644.458333331735,{"$error":"#N/A"},"Invalid",{"$error":"#N/A"},{"$error":"#N/A"},"Invalid",{"$error":"#N/A"},"Power Failure",null,{"$error":"#N/A"},{"$error":"#N/A"},{"$error":"#N/A"},{"$error":"#N/A"}]
[2019,6,28,12,43644.499999998399,{"$error":"#N/A"},"Invalid",{"$error":"#N/A"},{"$error":"#N/A"},"Invalid",{"$error":"#N/A"},"Power Failure",null,{"$error":"#N/A"},{"$error":"#N/A"},{"$error":"#N/A"},{"$error":"#N/A"}]
[2019,6,28,13,43644.541666665064,{"$error":"#N/A"},"Invalid",{"$error":"#N/A"},{"$error":"#N/A"},"Invalid",{"$error":"#N/A"},"Power Failure",null,{"$error":"#N/A"},{"$error":"#N/A"},{"$error":"#N/A"},{"$error":"#N/A"}]
[2019,6,28,14,43644.583333331728,{"$error":"#N/A"},"Invalid",{"$error":"#N/A"},{"$error":"#N/A"},"Invalid",{"$error":"#N/A"},"Power Failure",null,{"$error":"#N/A"},{"$error":"#N/A"},{"$error":"#N/A"},{"$error":"#N/A"}]
[2019,6,28,15,43644.624999998392,{"$error":"#N/A"},"Invalid",{"$error":"#N/A"},{"$error":"#N/A"},"Invalid",{"$error":"#N/A"},"Power Failure",null,{"$error":"#N/A"},{"$error":"#N/A"},{"$error":"#N/A"},{"$error":"#N/A"}]
[2019,6,28,16,43644.666666665056,2.4,"Valid",0.9,7.5,"Valid",5.0999999999999996,null,null,2.4,0.9,7.5,5.0999999999999996,7.5,5.0999999999999996,2.4,0.9]
[2019,{"$f":"B666","v":6},{"$f":"C643+1","v":28},17,43644.70833333172,5.2,"Valid",0.9,14.7,"Valid",5.0999999999999996,null,null,5.2,0.9,14.7,5.0999999999999996,14.7,5.0999999999999996,5.2,0.9]
[2019,6,28,18,43644.749999998385,8.1999999999999993,"Valid",1.1000000000000001,26.8,"Valid",5.5,null,null,8.1999999999999993,1.1000000000000001,26.8,5.5,26.8,5.5,8.1999999999999993,1.1000000000000001]
[2019,6,28,19,43644.791666665049,5.2,"Valid",1.4,13.2,"Valid",6.4,null,null,5.2,1.4,13.2,6.4,13.2,6.4,5.2,1.4]
[2019,6,28,20,43644.833333331713,0.9,"Valid",1.6,5.8,"Valid",6.5,null,null,0.9,1.6,5.8,6.5,5.8,6.5,0.9,1.6]
[2019,6,28,21,43644.874999998377,0.8,"Valid",1.6,3.3,"Valid",6.5,null,null,0.8,1.6,3.3,6.5,3.3,6.5,0.8,1.6]
[2019,6,28,22,43644.916666665042,1.2,"Valid",1.6,3.9,"Valid",6.4,null,null,1.2,1.6,3.9,6.4,3.9,6.4,1.2,1.6]
[2019,6,28,23,43644.958333331706,0.4,"Valid",1.7,2.9,"Valid",6.5,null,null,0.4,1.7,2.9,6.5,2.9,6.5,0.4,1.7]
[2019,6,29,0,43644.99999999837,-0.7,"Valid",1.8,2.8,"Valid",6.6,null,null,-0.7,1.8,2.8,6.6,2.8,6.6,-0.7,1.8]
[2019,6,29,1,43645.041666665034,-1.1000000000000001,"Valid",1.7,2.4,"Valid",6.6,null,null,-1.1000000000000001,1.7,2.4,6.6,2.4,6.6,-1.1000000000000001,1.7]
[2019,6,29,2,43645.083333331699,-1.2,"Valid",1.7,1.6,"Valid",6.6,null,null,-1.2,1.7,1.6,6.6,1.6,6.6,-1.2,1.7]
[2019,6,29,3,43645.124999998363,0.9,"Valid",1.6,3.4,"Valid",6.5,null,null,0.9,1.6,3.4,6.5,3.4,6.5,0.9,1.6]
[2019,6,29,4,43645.166666665027,-0.5,"Valid",1.7,2.7,"Valid",6.6,null,null,-0.5,1.7,2.7,6.6,2.7,6.6,-0.5,1.7]
[2019,6,29,5,43645.208333331691,-1.1000000000000001,"Valid",1.6,1.9,"Valid",6.5,null,null,-1.1000000000000001,1.6,1.9,6.5,1.9,6.5,-1.1000000000000001,1.6]
[2019,6,29,6,43645.249999998356,1.4,"Valid",1.6,4.3,"Valid",6.5,null,null,1.4,1.6,4.3,6.5,4.3,6.5,1.4,1.6]
[2019,6,29,7,43645.29166666502,-1,"Valid",1.6,2.1,"Valid",6.5,null,null,-1,1.6,2.1,6.5,2.1,6.5,-1,1.6]
[2019,6,29,8,43645.333333331684,-2,"Valid",1.3,1.5,"Valid",5.7,null,null,-2,1.3,1.5,5.7,1.5,5.7,-2,1.3]
[2019,6,29,9,43645.374999998348,-1.4,"Valid",0.9,3.5,"Valid",4.4000000000000004,null,null,-1.4,0.9,3.5,4.4000000000000004,3.5,4.4000000000000004,-1.4,0.9]
[2019,6,29,10,43645.416666665013,-1.6,"Valid",0.7,5,"Valid",4.3,null,null,-1.6,0.7,5,4.3,5,4.3,-1.6,0.7]
[2019,6,29,11,43645.458333331677,-1.7,"Valid",0.7,4.5,"Valid",4.5999999999999996,null,null,-1.7,0.7,4.5,4.5999999999999996,4.5,4.5999999999999996,-1.7,0.7]
[2019,6,29,12,43645.499999998341,-1.5,"Valid",0.6,2.1,"Valid",4.7,null,null,-1.5,0.6,2.1,4.7,2.1,4.7,-1.5,0.6]
[2019,6,29,13,43645.541666665005,{"$error":"#N/A"},"Invalid",{"$f":"NA()","v":{"$error":"#N/A"}},{"$error":"#N/A"},"Invalid",{"$f":"NA()","v":{"$error":"#N/A"}},"Calibration Error","value outside range",{"$error":"#N/A"},{"$error":"#N/A"},{"$error":"#N/A"},{"$error":"#N/A"}]
[2019,6,29,14,43645.58333333167,0.4,"Valid",0.6,5.7,"Valid",5,null,null,0.4,0.6,5.7,5,5.7,5,0.4,0.6]
[2019,6,29,15,43645.624999998334,-0.1,"Valid",0.6,4.9000000000000004,"Valid",5.3,null,null,-0.1,0.6,4.9000000000000004,5.3,4.9000000000000004,5.3,-0.1,0.6]
[2019,6,29,16,43645.666666664998,0.9,"Valid",0.6,6.6,"Valid",5.5,null,null,0.9,0.6,6.6,5.5,6.6,5.5,0.9,0.6]
[2019,6,29,17,43645.708333331662,{"$error":"#N/A"},"Invalid",{"$f":"NA()","v":{"$error":"#N/A"}},{"$error":"#N/A"},"Invalid",{"$f":"NA()","v":{"$error":"#N/A"}},"Calibration Error","value outside range",{"$error":"#N/A"},{"$error":"#N/A"},{"$error":"#N/A"},{"$error":"#N/A"}]
[2019,6,29,18,43645.749999998327,0.4,"Valid",0.3,6.7,"Valid",5,null,null,0.4,0.3,6.7,5,6.7,5,0.4,0.3]
[2019,6,29,19,43645.791666664991,1.9,"Valid",-0.1,8.5,"Valid",4.0999999999999996,null,null,1.9,-0.1,8.5,4.0999999999999996,8.5,4.0999999999999996,1.9,-0.1]
[2019,6,29,20,43645.833333331655,4.2,"Valid",-0.2,11,"Valid",3.9,null,null,4.2,-0.2,11,3.9,11,3.9,4.2,-0.2]
[2019,6,29,21,43645.874999998319,3.3,"Valid",-0.1,9.5,"Valid",4.2,null,null,3.3,-0.1,9.5,4.2,9.5,4.2,3.3,-0.1]
[2019,6,29,22,43645.916666664983,3,"Valid",0.1,9.4,"Valid",4.4000000000000004,null,null,3,0.1,9.4,4.4000000000000004,9.4,4.4000000000000004,3,0.1]
[2019,6,29,23,43645.958333331648,6.4,"Valid",0.1,11.8,"Valid",4.7,null,null,6.4,0.1,11.8,4.7,11.8,4.7,6.4,0.1]
[2019,6,30,0,43645.999999998312,5.5,"Valid",0.4,8.6,"Valid",5.0999999999999996,null,null,5.5,0.4,8.6,5.0999999999999996,8.6,5.0999999999999996,5.5,0.4]
[2019,6,30,1,43646.041666664976,{"$error":"#N/A"},"Invalid",{"$f":"NA()","v":{"$error":"#N/A"}},{"$error":"#N/A"},"Invalid",{"$f":"NA()","v":{"$error":"#N/A"}},"Calibration Error","value outside range",{"$error":"#N/A"},{"$error":"#N/A"},{"$error":"#N/A"},{"$error":"#N/A"}]
[2019,6,30,2,43646.08333333164,3.8,"Valid",0.8,5.6,"Valid",5.5,null,null,3.8,0.8,5.6,5.5,5.6,5.5,3.8,0.8]
[2019,6,30,3,43646.124999998305,4.4000000000000004,"Valid",1,8.8000000000000007,"Valid",5.7,null,null,4.4000000000000004,1,8.8000000000000007,5.7,8.8000000000000007,5.7,4.4000000000000004,1]
[2019,6,30,4,43646.166666664969,{"$error":"#N/A"},"Invalid",{"$f":"NA()","v":{"$error":"#N/A"}},{"$error":"#N/A"},"Invalid",{"$f":"NA()","v":{"$error":"#N/A"}},"Calibration Error","value outside range",{"$error":"#N/A"},{"$error":"#N/A"},{"$error":"#N/A"},{"$error":"#N/A"}]
[2019,6,30,5,43646.208333331633,1.9,"Valid",1.3,5,"Valid",6.1,null,null,1.9,1.3,5,6.1,5,6.1,1.9,1.3]
[2019,6,30,6,43646.249999998297,{"$error":"#N/A"},"Invalid",{"$f":"NA()","v":{"$error":"#N/A"}},{"$error":"#N/A"},"Invalid",{"$f":"NA()","v":{"$error":"#N/A"}},"Calibration Error","value outside range",{"$error":"#N/A"},{"$error":"#N/A"},{"$error":"#N/A"},{"$error":"#N/A"}]
[2019,6,30,7,43646.291666664962,{"$error":"#N/A"},"Invalid",{"$f":"NA()","v":{"$error":"#N/A"}},{"$error":"#N/A"},"Invalid",{"$f":"NA()","v":{"$error":"#N/A"}},"Calibration Error","value outside range",{"$error":"#N/A"},{"$error":"#N/A"},{"$error":"#N/A"},{"$error":"#N/A"}]
[2019,6,30,8,43646.333333331626,{"$error":"#N/A"},"Invalid",{"$f":"NA()","v":{"$error":"#N/A"}},{"$error":"#N/A"},"Invalid",{"$f":"NA()","v":{"$error":"#N/A"}},"Calibration Error","value outside range",{"$f":"IF(G706=\"Valid\", F706, NA())","v":{"$error":"#N/A"}},{"$f":"IF(G706=\"Valid\", H706, NA())","v":{"$error":"#N/A"}},{"$f":"IF(J706=\"Valid\", I706, NA())","v":{"$error":"#N/A"}},{"$f":"IF(J706=\"Valid\", K706, NA())","v":{"$error":"#N/A"}}]
[2019,6,30,9,43646.37499999829,{"$error":"#N/A"},"Invalid",{"$f":"NA()","v":{"$error":"#N/A"}},{"$error":"#N/A"},"Invalid",{"$f":"NA()","v":{"$error":"#N/A"}},"Calibration Error","value outside range",{"$error":"#N/A"},{"$error":"#N/A"},{"$error":"#N/A"},{"$error":"#N/A"}]
[{"$f":"A707","v":2019},6,30,{"$f":"IF(D707=23,0,D707+1)","v":10},{"$f":"E707+0.0416666666666666","v":43646.416666664954},1.9,"Valid",2,7.3,"Valid",7.1,null,null,1.9,2,7.3,7.1,7.3,7.1,1.9,2]
[2019,6,30,11,43646.458333331619,0.4,"Valid",2.2000000000000002,7.8,"Valid",7.2,null,null,0.4,2.2000000000000002,7.8,7.2,7.8,7.2,0.4,2.2000000000000002]
[2019,6,30,12,43646.499999998283,1.7,"Valid",2.2999999999999998,10.199999999999999,"Valid",7.5,null,null,1.7,2.2999999999999998,10.199999999999999,7.5,10.199999999999999,7.5,1.7,2.2999999999999998]
[2019,6,30,13,43646.541666664947,1.8,"Valid",2.5,14.6,"Valid",8,null,null,1.8,2.5,14.6,8,14.6,8,1.8,2.5]
[2019,6,30,14,43646.583333331611,1,"Valid",2.5,20.2,"Valid",8.4,null,null,1,2.5,20.2,8.4,20.2,8.4,1,2.5]
[2019,6,30,15,43646.624999998276,-0.7,"Valid",2.5,23.9,"Valid",9.1999999999999993,null,null,-0.7,2.5,23.9,9.1999999999999993,23.9,9.1999999999999993,-0.7,2.5]
[2019,6,30,16,43646.66666666494,0.4,"Valid",2.5,27.1,"Valid",10.3,null,null,0.4,2.5,27.1,10.3,27.1,10.3,0.4,2.5]
[2019,6,30,17,43646.708333331604,3.2,"Valid",2.4,29.5,"Valid",11.5,null,null,3.2,2.4,29.5,11.5,29.5,11.5,3.2,2.4]
[2019,6,30,18,43646.749999998268,2.5,"Valid",2.5,18.3,"Valid",12.5,null,null,2.5,2.5,18.3,12.5,18.3,12.5,2.5,2.5]
[2019,6,30,19,43646.791666664933,1.2,"Valid",2.6,11.2,"Valid",13.2,null,null,1.2,2.6,11.2,13.2,11.2,13.2,1.2,2.6]
[2019,6,30,20,43646.833333331597,0.4,"Valid",2.6,8.5,"Valid",13.3,null,null,0.4,2.6,8.5,13.3,8.5,13.3,0.4,2.6]
[2019,6,30,21,43646.874999998261,0.9,"Valid",2.2999999999999998,9.6,"Valid",13.2,null,null,0.9,2.2999999999999998,9.6,13.2,9.6,13.2,0.9,2.2999999999999998]
[2019,6,30,22,43646.916666664925,4.0999999999999996,"Valid",2.2000000000000002,13.1,"Valid",13.2,null,null,4.0999999999999996,2.2000000000000002,13.1,13.2,13.1,13.2,4.0999999999999996,2.2000000000000002]
[2019,6,30,23,43646.95833333159,7.2,"Valid",2.2999999999999998,15.8,"Valid",13.4,null,null,7.2,2.2999999999999998,15.8,13.4,15.8,13.4,7.2,2.2999999999999998]
[2019,6,31,0,43646.999999998254,null,null,null,null,null,null,null,null,{"$error":"#N/A"},{"$error":"#N/A"},{"$error":"#N/A"},{"$error":"#N/A"}]
[2019,6,31,1,43647.041666664918,null,null,null,null,null,null,null,null,{"$error":"#N/A"},{"$error":"#N/A"},{"$error":"#N/A"},{"$error":"#N/A"}]
[2019,6,31,2,43647.083333331582,null,null,null,null,null,null,null,null,{"$error":"#N/A"},{"$error":"#N/A"},{"$error":"#N/A"},{"$error":"#N/A"}]
[2019,6,31,3,43647.124999998246,null,null,null,null,null,null,null,null,{"$error":"#N/A"},{"$error":"#N/A"},{"$error":"#N/A"},{"$error":"#N/A"}]
[2019,6,31,4,43647.166666664911,null,null,null,null,null,null,null,null,{"$error":"#N/A"},{"$error":"#N/A"},{"$error":"#N/A"},{"$error":"#N/A"}]
[2019,6,31,5,43647.208333331575,null,null,null,null,null,null,null,null,{"$error":"#N/A"},{"$error":"#N/A"},{"$error":"#N/A"},{"$error":"#N/A"}]
[2019,6,31,6,43647.249999998239,null,null,null,null,null,null,null,null,{"$error":"#N/A"},{"$error":"#N/A"},{"$error":"#N/A"},{"$error":"#N/A"}]
[2019,6,31,7,43647.291666664903,null,null,null,null,null,null,null,null,{"$error":"#N/A"},{"$error":"#N/A"},{"$error":"#N/A"},{"$error":"#N/A"}]
[2019,6,31,8,43647.333333331568,null,null,null,null,null,null,null,null,{"$error":"#N/A"},{"$error":"#N/A"},{"$error":"#N/A"},{"$error":"#N/A"}]
[2019,{"$f":"B730","v":6},{"$f":"C707+1","v":31},9,43647.374999998232,null,null,null,null,null,null,null,null,{"$error":"#N/A"},{"$error":"#N/A"},{"$error":"#N/A"},{"$error":"#N/A"}]
[2019,6,31,10,43647.416666664896,null,null,null,null,null,null,null,null,{"$error":"#N/A"},{"$error":"#N/A"},{"$error":"#N/A"},{"$error":"#N/A"}]
[2019,6,31,11,43647.45833333156,null,null,null,null,null,null,null,null,{"$error":"#N/A"},{"$error":"#N/A"},{"$error":"#N/A"},{"$error":"#N/A"}]
[2019,6,31,12,43647.499999998225,null,null,null,null,null,null,null,null,{"$error":"#N/A"},{"$error":"#N/A"},{"$error":"#N/A"},{"$error":"#N/A"}]
[2019,6,31,13,43647.541666664889,null,null,null,null,null,null,null,null,{"$error":"#N/A"},{"$error":"#N/A"},{"$error":"#N/A"},{"$error":"#N/A"}]
[2019,6,31,14,43647.583333331553,null,null,null,null,null,null,null,null,{"$error":"#N/A"},{"$error":"#N/A"},{"$error":"#N/A"},{"$error":"#N/A"}]
[2019,6,31,15,43647.624999998217,null,null,null,null,null,null,null,null,{"$error":"#N/A"},{"$error":"#N/A"},{"$error":"#N/A"},{"$error":"#N/A"}]
[2019,6,31,16,43647.666666664882,null,null,null,null,null,null,null,null,{"$error":"#N/A"},{"$error":"#N/A"},{"$error":"#N/A"},{"$error":"#N/A"}]
[2019,6,31,17,43647.708333331546,null,null,null,null,null,null,null,null,{"$error":"#N/A"},{"$error":"#N/A"},{"$error":"#N/A"},{"$error":"#N/A"}]
[2019,6,31,18,43647.74999999821,null,null,null,null,null,null,null,null,{"$error":"#N/A"},{"$error":"#N/A"},{"$error":"#N/A"},{"$error":"#N/A"}]
[2019,6,31,19,43647.791666664874,null,null,null,null,null,null,null,null,{"$error":"#N/A"},{"$error":"#N/A"},{"$error":"#N/A"},{"$error":"#N/A"}]
[2019,6,31,20,43647.833333331539,null,null,null,null,null,null,null,null,{"$error":"#N/A"},{"$error":"#N/A"},{"$error":"#N/A"},{"$error":"#N/A"}]
[2019,6,31,21,43647.874999998203,null,null,null,null,null,null,null,null,{"$error":"#N/A"},{"$error":"#N/A"},{"$error":"#N/A"},{"$error":"#N/A"}]
[2019,6,31,22,43647.916666664867,null,null,null,null,null,null,null,null,{"$error":"#N/A"},{"$error":"#N/A"},{"$error":"#N/A"},{"$error":"#N/A"}]
[2019,6,31,23,43647.958333331531,null,null,null,null,null,null,null,null,{"$error":"#N/A"},{"$error":"#N/A"},{"$error":"#N/A"},{"$error":"#N/A"}]

{"sheet":"Raw data_format","index":4,"n_rows":8,"n_cols":6,"rows_kept":8,"cut":false,"hidden":false,"merged":[]}
["Parameter","Format","Comment","Units of measure","Minimum","Maximum"]
["Year","yyyy","4 integer format","Not applicable",2015,"Until reporting ceases"]
["Month","mm","2 integer format","Not applicable",1,12]
["Day","dd","2 integer format","Not applicable",1,31]
["Hour","hh","2 integer format","Not applicable",0,23]
["PM10",0,"1 decimal place resolution","µg/m3","Negative","Instrument specific"]
["PM2.5",0,"2 decimal place resolution","µg/m3","Negative","Instrument specific"]
["Status","Text","7 character format","Not applicable","Valid","Invalid"]