{"text_format":"1","workbook":"xlsx","n_sheets":7,"sheets":["Instructions","Meta data_sheet","Meta data_lookup","Raw data_sheet","Raw data_format","24hr_PM10_chart","24hr_PM2.5_chart"],"not_rendered":{"charts":4,"images":0,"macros":1,"external_links":0,"defined_names":10,"comments":0,"pivot_tables":0},"unopened":[{"sheet":"24hr_PM10_chart","index":5,"reason":"not_a_worksheet"},{"sheet":"24hr_PM2.5_chart","index":6,"reason":"not_a_worksheet"}],"bounds":{"document_bytes":16777216,"sheet_cells":100000,"rows_first":2000,"rows_last":500,"rows_between":2000,"halvings":0,"cell_chars":16384,"cell_head_chars":4096},"cells_cut":0,"cells_raw":0,"read":"whole","date_system":"1900"}

{"sheet":"Instructions","index":0,"n_rows":0,"n_cols":0,"rows_kept":0,"cut":false,"hidden":false,"merged":[]}

{"sheet":"Meta data_sheet","index":1,"n_rows":17,"n_cols":5,"rows_kept":17,"cut":false,"hidden":false,"merged":[[18,0,18,1],[16,0,16,1]]}
["Ambient Monitoring Station","Details",null,"Ambient Monitoring Results","Details"]
["Location","Werris Creek",null,"PM2.5 monitoring start (dd/mm/yyyy hh:mm)","2021-10-01"]
["Easting",{"$f":"VLOOKUP($B$2,'Meta data_lookup'!$A$2:$D$5,2,FALSE)","v":276783},null,"PM2.5 monitoring end","2021-10-18"]
["Northing",{"$f":"VLOOKUP($B$2,'Meta data_lookup'!$A$2:$D$5,3,FALSE)","v":6528734},null,"PM2.5 monitoring period (h)",{"$f":"(E3-E2)*24","v":408}]
["Site elevation (m)",{"$f":"VLOOKUP($B$2,'Meta data_lookup'!$A$2:$D$5,4,FALSE)","v":"ND"},null,"Number of valid PM2.5 results",{"$f":"COUNTIF('Raw data_sheet'!G2:G745,\"Valid\")","v":347}]
["Description of surrounding land use","Agriculture/Mining",null,"Proportion of valid PM2.5 results (%)",{"$f":"E5/E4","v":0.85049019607843135}]
["Typical sources impacting on the site","Agriculture",null,"PM10 monitoring start (dd/mm/yyyy hh:mm)","2021-10-01"]
["Site compliance with AS/NZS 3580.1.1:2007","Yes",null,"PM10 monitoring end","2021-10-18"]
["PM2.5 method compliance with AS/NZS 3580.9.13:2013\n","Yes",null,"PM10 monitoring period (h)",{"$f":"(E8-E7)*24","v":408}]
["PM2.5 instrument make","Thermo Scientific",null,"Number of valid PM10 results",{"$f":"COUNTIF('Raw data_sheet'!J2:J745,\"Valid\")","v":347}]
["PM2.5 instrument model","1405DF",null,"Proportion of valid PM10 results (%)",{"$f":"E10/E9","v":0.85049019607843135}]
["PM2.5 instrument intake height (m)",3.5]
["PM10 method compliance with AS 3580.9.8-2008\n","No*"]
["PM10 instrument make","Thermo Scientific"]
["PM10 instrument model","1405DF"]
["PM10 instrument intake height (m)",3.5]
["*The 1405DF TEOM used at this site measures PM10 indirectly rather than directly. The unit does however meet the intent of AS 3580.9.8-2008, and this method has been accredited by the USEPA. It is considered scientifically robust and is used extensively throughout NSW with EPA's knowledge and informal acceptance."]

{"sheet":"Meta data_lookup","index":2,"n_rows":5,"n_cols":4,"rows_kept":5,"cut":false,"hidden":false,"merged":[]}
["Location","Easting","Northing","Site elevation (m)"]
["Maules Creek",225302,6623037,"ND"]
["Breeza",237993,6542606,"ND"]
["Will-gai",231804,6596392,"ND"]
["Werris Creek",276783,6528734,"ND"]

{"sheet":"Raw data_sheet","index":3,"n_rows":745,"n_cols":21,"rows_kept":745,"cut":false,"hidden":false,"merged":[]}
["Year","Month","Day","Hour","Date and time","PM2.5_hourly","PM2.5_Data_Status","PM2.5_24hr_rolling_average","PM10_hourly","PM10_Data_Status","PM10_24hr_rolling_average","Cause of data invalidity, if applicable","Detailed comments","PM2.5_hourly_valid_plot","PM2.5_24hr_rolling_ave_valid_plot","PM10_hourly_valid_plot","PM10_24hr_rolling_ave_valid_plot","PM10_hourly_valid_plot_series","PM10_24hr_rolling_average_valid_plot_series","PM2.5_hourly_valid_plot_series","PM2.5_24hr_rolling_average_valid_plot_series"]
[2021,10,1,0,{"$f":"DATE(A2,B2,C2)+TIME(D2,0,0)","v":44470},5.8,"Valid",3,8.6999999999999993,"Valid",4.7,null,null,{"$f":"IF(G2=\"Valid\", F2, NA())","v":5.8},{"$f":"IF(G2=\"Valid\", H2, NA())","v":3},{"$f":"IF(J2=\"Valid\", I2, NA())","v":8.6999999999999993},{"$f":"IF(J2=\"Valid\", K2, NA())","v":4.7},8.6999999999999993,4.7,5.8,3]
[{"$f":"A2","v":2021},{"$f":"B2","v":10},{"$f":"C2","v":1},{"$f":"IF(D2=23,0,D2+1)","v":1},{"$f":"E2+0.0416666666666666","v":44470.041666666664},7.2,"Valid",3.1,8.8000000000000007,"Valid",4.9000000000000004,null,null,7.2,3.1,8.8000000000000007,4.9000000000000004,8.8000000000000007,4.9000000000000004,7.2,3.1]
[{"$f":"A3","v":2021},{"$f":"B3","v":10},1,{"$f":"IF(D3=23,0,D3+1)","v":2},{"$f":"E3+0.0416666666666666","v":44470.083333333328},4.3,"Valid",3.2,5.8,"Valid",5,null,null,4.3,3.2,5.8,5,5.8,5,4.3,3.2]
[2021,10,1,3,44470.124999999993,1.6,"Valid",3.3,2.7,"Valid",5.0999999999999996,null,null,1.6,3.3,2.7,5.0999999999999996,2.7,5.0999999999999996,1.6,3.3]
[2021,10,1,4,44470.166666666657,9.1,"Valid",3.4,9.9,"Valid",5.2,null,null,9.1,3.4,9.9,5.2,9.9,5.2,9.1,3.4]
[2021,10,1,5,44470.208333333321,0.8,"Valid",3.3,2,"Valid",5.0999999999999996,null,null,0.8,3.3,2,5.0999999999999996,2,5.0999999999999996,0.8,3.3]
[2021,10,1,6,44470.249999999985,2.2000000000000002,"Valid",3.2,3.9,"Valid",5.0999999999999996,null,null,2.2000000000000002,3.2,3.9,5.0999999999999996,3.9,5.0999999999999996,2.2000000000000002,3.2]
[2021,10,1,7,44470.29166666665,0.9,"Valid",3.2,2.7,"Valid",5.0999999999999996,null,null,0.9,3.2,2.7,5.0999999999999996,2.7,5.0999999999999996,0.9,3.2]
[2021,10,1,8,44470.333333333314,6.3,"Valid",3.1,8.1999999999999993,"Valid",5.2,null,null,6.3,3.1,8.1999999999999993,5.2,8.1999999999999993,5.2,6.3,3.1]
[2021,10,1,9,44470.374999999978,0.7,"Valid",3.1,2.5,"Valid",5.2,null,null,0.7,3.1,2.5,5.2,2.5,5.2,0.7,3.1]
[2021,10,1,10,44470.416666666642,6.2,"Valid",3.4,8.4,"Valid",5.7,null,null,6.2,3.4,8.4,5.7,8.4,5.7,6.2,3.4]
[2021,10,1,11,44470.458333333307,-1.4,"Valid",2.8,1.5,"Valid",5.0999999999999996,null,null,-1.4,2.8,1.5,5.0999999999999996,1.5,5.0999999999999996,-1.4,2.8]
[2021,10,1,12,44470.499999999971,1.3,"Valid",2.5,5.9,"Valid",4.9000000000000004,null,null,1.3,2.5,5.9,4.9000000000000004,5.9,4.9000000000000004,1.3,2.5]
[2021,10,1,13,44470.541666666635,7.6,"Valid",2.5,12,"Valid",5,null,null,7.6,2.5,12,5,12,5,7.6,2.5]
[2021,10,1,14,44470.583333333299,6.8,"Valid",2.7,12.4,"Valid",5.4,null,null,6.8,2.7,12.4,5.4,12.4,5.4,6.8,2.7]
[2021,10,1,15,44470.624999999964,-5.0999999999999996,"Valid",3.1,-0.5,"Valid",5.9,null,null,-5.0999999999999996,3.1,-0.5,5.9,-0.5,5.9,-5.0999999999999996,3.1]
[2021,10,1,16,44470.666666666628,-2.6,"Valid",3.5,-1.3,"Valid",6.2,null,null,-2.6,3.5,-1.3,6.2,-1.3,6.2,-2.6,3.5]
[2021,10,1,17,44470.708333333292,-2.4,"Valid",3.2,0.8,"Valid",5.8,null,null,-2.4,3.2,0.8,5.8,0.8,5.8,-2.4,3.2]
[2021,10,1,18,44470.749999999956,0.3,"Valid",3.2,6.2,"Valid",5.8,null,null,0.3,3.2,6.2,5.8,6.2,5.8,0.3,3.2]
[2021,10,1,19,44470.791666666621,-2.4,"Valid",3,2.6,"Valid",5.8,null,null,-2.4,3,2.6,5.8,2.6,5.8,-2.4,3]
[2021,10,1,20,44470.833333333285,8.9,"Valid",3.2,15.5,"Valid",6.1,null,null,8.9,3.2,15.5,6.1,15.5,6.1,8.9,3.2]
[2021,10,1,21,44470.874999999949,7.9,"Valid",3.2,12.2,"Valid",6.2,null,null,7.9,3.2,12.2,6.2,12.2,6.2,7.9,3.2]
[2021,10,1,22,44470.916666666613,5,"Valid",3,8.4,"Valid",6,null,null,5,3,8.4,6,8.4,6,5,3]
[2021,{"$f":"B24","v":10},{"$f":"C24","v":1},23,44470.958333333278,5.9,"Valid",3.1,8.6,"Valid",6.1,null,null,5.9,3.1,8.6,6.1,8.6,6.1,5.9,3.1]
[2021,{"$f":"B25","v":10},{"$f":"C2+1","v":2},0,44470.999999999942,12.2,"Valid",3.3,14.6,"Valid",6.3,null,null,12.2,3.3,14.6,6.3,14.6,6.3,12.2,3.3]
[2021,{"$f":"B26","v":10},{"$f":"C3+1","v":2},1,44471.041666666606,6.3,"Valid",3.3,9.1999999999999993,"Valid",6.4,null,null,6.3,3.3,9.1999999999999993,6.4,9.1999999999999993,6.4,6.3,3.3]
[2021,10,2,2,44471.08333333327,5.6,"Valid",3.4,8.5,"Valid",6.5,null,null,5.6,3.4,8.5,6.5,8.5,6.5,5.6,3.4]
[2021,10,2,3,44471.124999999935,13.2,"Valid",3.9,15,"Valid",7,null,null,13.2,3.9,15,7,15,7,13.2,3.9]
[2021,10,2,4,44471.166666666599,3.5,"Valid",3.6,4.7,"Valid",6.7,null,null,3.5,3.6,4.7,6.7,4.7,6.7,3.5,3.6]
[2021,10,2,5,44471.208333333263,7.3,"Valid",3.9,9.4,"Valid",7.1,null,null,7.3,3.9,9.4,7.1,9.4,7.1,7.3,3.9]
[2021,10,2,6,44471.249999999927,6.9,"Valid",4.0999999999999996,7.3,"Valid",7.2,null,null,6.9,4.0999999999999996,7.3,7.2,7.3,7.2,6.9,4.0999999999999996]
[2021,10,2,7,44471.291666666591,5.8,"Valid",4.3,7.1,"Valid",7.4,null,null,5.8,4.3,7.1,7.4,7.1,7.4,5.8,4.3]
[2021,10,2,8,44471.333333333256,3.8,"Valid",4.2,3.8,"Valid",7.2,null,null,3.8,4.2,3.8,7.2,3.8,7.2,3.8,4.2]
[2021,10,2,9,44471.37499999992,4.0999999999999996,"Valid",4.4000000000000004,4.5,"Valid",7.3,null,null,4.0999999999999996,4.4000000000000004,4.5,7.3,4.5,7.3,4.0999999999999996,4.4000000000000004]
[2021,10,2,10,44471.416666666584,19.3,"Valid",4.9000000000000004,20.8,"Valid",7.9,null,null,19.3,4.9000000000000004,20.8,7.9,20.8,7.9,19.3,4.9000000000000004]
[2021,10,2,11,44471.458333333248,4.4000000000000004,"Valid",5.2,5.7,"Valid",8.1,null,null,4.4000000000000004,5.2,5.7,8.1,5.7,8.1,4.4000000000000004,5.2]
[2021,10,2,12,44471.499999999913,-2.5,"Valid",5,-2.2999999999999998,"Valid",7.7,null,null,-2.5,5,-2.2999999999999998,7.7,-2.2999999999999998,7.7,-2.5,5]
[2021,10,2,13,44471.541666666577,-8.4,"Valid",4.4000000000000004,-7.6,"Valid",6.9,null,null,-8.4,4.4000000000000004,-7.6,6.9,-7.6,6.9,-8.4,4.4000000000000004]
[2021,10,2,14,44471.583333333241,{"$f":"NA()","v":{"$error":"#N/A"}},"Invalid",{"$f":"NA()","v":{"$error":"#N/A"}},{"$f":"NA()","v":{"$error":"#N/A"}},"Invalid",{"$f":"NA()","v":{"$error":"#N/A"}},"Calibration Error","PM2.5 greater than PM10",{"$error":"#N/A"},{"$error":"#N/A"},{"$error":"#N/A"},{"$error":"#N/A"}]
[2021,10,2,15,44471.624999999905,-2.9,"Valid",4,-2.8,"Valid",6.2,null,null,-2.9,4,-2.8,6.2,-2.8,6.2,-2.9,4]
[2021,10,2,16,44471.66666666657,5.6,"Valid",4.4000000000000004,6.7,"Valid",6.5,null,null,5.6,4.4000000000000004,6.7,6.5,6.7,6.5,5.6,4.4000000000000004]
[2021,10,2,17,44471.708333333234,{"$f":"NA()","v":{"$error":"#N/A"}},"Invalid",{"$f":"NA()","v":{"$error":"#N/A"}},{"$f":"NA()","v":{"$error":"#N/A"}},"Invalid",{"$f":"NA()","v":{"$error":"#N/A"}},"Calibration Error","PM2.5 greater than PM10",{"$error":"#N/A"},{"$error":"#N/A"},{"$error":"#N/A"},{"$error":"#N/A"}]
[2021,10,2,18,44471.749999999898,0.6,"Valid",6.2,3.1,"Valid",8,null,null,0.6,6.2,3.1,8,3.1,8,0.6,6.2]
[2021,10,2,19,44471.791666666562,6,"Valid",6.5,7.7,"Valid",8.1,null,null,6,6.5,7.7,8.1,7.7,8.1,6,6.5]
[2021,10,2,20,44471.833333333227,5,"Valid",6.3,6.1,"Valid",7.7,null,null,5,6.3,6.1,7.7,6.1,7.7,5,6.3]
[2021,10,2,21,44471.874999999891,6.4,"Valid",6.2,8.4,"Valid",7.5,null,null,6.4,6.2,8.4,7.5,8.4,7.5,6.4,6.2]
[2021,10,2,22,44471.916666666555,7.6,"Valid",6.3,8.8000000000000007,"Valid",7.6,null,null,7.6,6.3,8.8000000000000007,7.6,8.8000000000000007,7.6,7.6,6.3]
[2021,10,2,23,44471.958333333219,4.8,"Valid",6.3,5.6,"Valid",7.4,null,null,4.8,6.3,5.6,7.4,5.6,7.4,4.8,6.3]
[2021,10,3,0,44471.999999999884,9.5,"Valid",6.2,10.4,"Valid",7.3,null,null,9.5,6.2,10.4,7.3,10.4,7.3,9.5,6.2]
[2021,10,3,1,44472.041666666548,{"$f":"NA()","v":{"$error":"#N/A"}},"Invalid",{"$f":"NA()","v":{"$error":"#N/A"}},{"$f":"NA()","v":{"$error":"#N/A"}},"Invalid",{"$f":"NA()","v":{"$error":"#N/A"}},"Calibration Error","PM2.5 below low cutoff value",{"$error":"#N/A"},{"$error":"#N/A"},{"$error":"#N/A"},{"$error":"#N/A"}]
[2021,10,3,2,44472.083333333212,{"$f":"NA()","v":{"$error":"#N/A"}},"Invalid",{"$f":"NA()","v":{"$error":"#N/A"}},{"$f":"NA()","v":{"$error":"#N/A"}},"Invalid",{"$f":"NA()","v":{"$error":"#N/A"}},"Power failure","no data",{"$error":"#N/A"},{"$error":"#N/A"},{"$error":"#N/A"},{"$error":"#N/A"}]
[2021,10,3,3,44472.124999999876,3.9,"Valid",3.9,4.7,"Valid",5.0999999999999996,null,null,3.9,3.9,4.7,5.0999999999999996,4.7,5.0999999999999996,3.9,3.9]
[2021,10,3,4,44472.166666666541,2,"Valid",3.5,2.8,"Valid",4.5999999999999996,null,null,2,3.5,2.8,4.5999999999999996,2.8,4.5999999999999996,2,3.5]
[2021,10,3,5,44472.208333333205,0.6,"Valid",3.3,1.5,"Valid",4.4000000000000004,null,null,0.6,3.3,1.5,4.4000000000000004,1.5,4.4000000000000004,0.6,3.3]
[2021,10,3,6,44472.249999999869,6,"Valid",3.3,6.6,"Valid",4.3,null,null,6,3.3,6.6,4.3,6.6,4.3,6,3.3]
[2021,10,3,7,44472.291666666533,6.2,"Valid",3.3,7,"Valid",4.3,null,null,6.2,3.3,7,4.3,7,4.3,6.2,3.3]
[2021,10,3,8,44472.333333333198,9.3000000000000007,"Valid",3.4,10.6,"Valid",4.5,null,null,9.3000000000000007,3.4,10.6,4.5,10.6,4.5,9.3000000000000007,3.4]
[2021,10,3,9,44472.374999999862,{"$f":"NA()","v":{"$error":"#N/A"}},"Invalid",{"$f":"NA()","v":{"$error":"#N/A"}},{"$f":"NA()","v":{"$error":"#N/A"}},"Invalid",{"$f":"NA()","v":{"$error":"#N/A"}},"Power failure","no data",{"$error":"#N/A"},{"$error":"#N/A"},{"$error":"#N/A"},{"$error":"#N/A"}]
[2021,10,3,10,44472.416666666526,{"$f":"NA()","v":{"$error":"#N/A"}},"Invalid",{"$f":"NA()","v":{"$error":"#N/A"}},{"$f":"NA()","v":{"$error":"#N/A"}},"Invalid",{"$f":"NA()","v":{"$error":"#N/A"}},"Power failure","no data",{"$error":"#N/A"},{"$error":"#N/A"},{"$error":"#N/A"},{"$error":"#N/A"}]
[2021,10,3,11,44472.45833333319,{"$f":"NA()","v":{"$error":"#N/A"}},"Invalid",{"$f":"NA()","v":{"$error":"#N/A"}},{"$f":"NA()","v":{"$error":"#N/A"}},"Invalid",{"$f":"NA()","v":{"$error":"#N/A"}},"Power failure","no data",{"$error":"#N/A"},{"$error":"#N/A"},{"$error":"#N/A"},{"$error":"#N/A"}]
[2021,10,3,12,44472.499999999854,{"$f":"NA()","v":{"$error":"#N/A"}},"Invalid",{"$f":"NA()","v":{"$error":"#N/A"}},{"$f":"NA()","v":{"$error":"#N/A"}},"Invalid",{"$f":"NA()","v":{"$error":"#N/A"}},"Calibration Error","PM2.5 below low cutoff value",{"$error":"#N/A"},{"$error":"#N/A"},{"$error":"#N/A"},{"$error":"#N/A"}]
[2021,10,3,13,44472.541666666519,{"$f":"NA()","v":{"$error":"#N/A"}},"Invalid",{"$f":"NA()","v":{"$error":"#N/A"}},{"$f":"NA()","v":{"$error":"#N/A"}},"Invalid",{"$f":"NA()","v":{"$error":"#N/A"}},"Calibration Error","PM2.5 below low cutoff value",{"$error":"#N/A"},{"$error":"#N/A"},{"$error":"#N/A"},{"$error":"#N/A"}]
[2021,10,3,14,44472.583333333183,{"$f":"NA()","v":{"$error":"#N/A"}},"Invalid",{"$f":"NA()","v":{"$error":"#N/A"}},{"$f":"NA()","v":{"$error":"#N/A"}},"Invalid",{"$f":"NA()","v":{"$error":"#N/A"}},"Calibration Error","PM2.5 below low cutoff value",{"$error":"#N/A"},{"$error":"#N/A"},{"$error":"#N/A"},{"$error":"#N/A"}]
[2021,10,3,15,44472.624999999847,3.4,"Valid",{"$f":"NA()","v":{"$error":"#N/A"}},5.8,"Valid",{"$f":"NA()","v":{"$error":"#N/A"}},"Calibration Error","insufficient data for 24Hr rolling average",3.4,{"$error":"#N/A"},5.8,{"$error":"#N/A"},5.8,null,3.4]
[2021,10,3,16,44472.666666666511,-5.2,"Valid",{"$f":"NA()","v":{"$error":"#N/A"}},-4.9000000000000004,"Valid",{"$f":"NA()","v":{"$error":"#N/A"}},"Calibration Error","insufficient data for 24Hr rolling average",{"$f":"IF(G66=\"Valid\", F66, NA())","v":-5.2},{"$f":"IF(G66=\"Valid\", H66, NA())","v":{"$error":"#N/A"}},{"$f":"IF(J66=\"Valid\", I66, NA())","v":-4.9000000000000004},{"$f":"IF(J66=\"Valid\", K66, NA())","v":{"$error":"#N/A"}},-4.9000000000000004,null,-5.2]
[2021,10,3,17,44472.708333333176,-5.3,"Valid",{"$f":"NA()","v":{"$error":"#N/A"}},-3.5,"Valid",{"$f":"NA()","v":{"$error":"#N/A"}},"Calibration Error","insufficient data for 24Hr rolling average",-5.3,{"$error":"#N/A"},-3.5,{"$error":"#N/A"},-3.5,null,-5.3]
[{"$f":"A67","v":2021},10,3,{"$f":"IF(D67=23,0,D67+1)","v":18},{"$f":"E67+0.0416666666666666","v":44472.74999999984},0.9,"Valid",{"$f":"NA()","v":{"$error":"#N/A"}},3.4,"Valid",{"$f":"NA()","v":{"$error":"#N/A"}},"Calibration Error","insufficient data for 24Hr rolling average",0.9,{"$error":"#N/A"},3.4,{"$error":"#N/A"},3.4,null,0.9]
[2021,10,3,19,44472.791666666504,0.9,"Valid",{"$f":"NA()","v":{"$error":"#N/A"}},3,"Valid",{"$f":"NA()","v":{"$error":"#N/A"}},"Calibration Error","insufficient data for 24Hr rolling average",0.9,{"$error":"#N/A"},3,{"$error":"#N/A"},3,null,0.9]
[2021,10,3,20,44472.833333333168,-2.2000000000000002,"Valid",{"$f":"NA()","v":{"$error":"#N/A"}},-1,"Valid",{"$f":"NA()","v":{"$error":"#N/A"}},"Calibration Error","insufficient data for 24Hr rolling average",-2.2000000000000002,{"$error":"#N/A"},-1,{"$error":"#N/A"},-1,null,-2.2000000000000002]
[2021,10,3,21,44472.874999999833,6.4,"Valid",{"$f":"NA()","v":{"$error":"#N/A"}},9,"Valid",{"$f":"NA()","v":{"$error":"#N/A"}},"Calibration Error","insufficient data for 24Hr rolling average",6.4,{"$error":"#N/A"},9,{"$error":"#N/A"},9,null,6.4]
[2021,10,3,22,44472.916666666497,2.8,"Valid",{"$f":"NA()","v":{"$error":"#N/A"}},5.8,"Valid",{"$f":"NA()","v":{"$error":"#N/A"}},"Calibration Error","insufficient data for 24Hr rolling average",2.8,{"$error":"#N/A"},5.8,{"$error":"#N/A"},5.8,null,2.8]
[2021,10,3,23,44472.958333333161,6.5,"Valid",{"$f":"NA()","v":{"$error":"#N/A"}},9.5,"Valid",{"$f":"NA()","v":{"$error":"#N/A"}},"Calibration Error","insufficient data for 24Hr rolling average",6.5,{"$error":"#N/A"},9.5,{"$error":"#N/A"},9.5,null,6.5]
[2021,10,4,0,44472.999999999825,0.2,"Valid",{"$f":"NA()","v":{"$error":"#N/A"}},2.8,"Valid",{"$f":"NA()","v":{"$error":"#N/A"}},"Calibration Error","insufficient data for 24Hr rolling average",{"$f":"IF(G74=\"Valid\", F74, NA())","v":0.2},{"$f":"IF(G74=\"Valid\", H76, NA())","v":3},{"$f":"IF(J74=\"Valid\", I74, NA())","v":2.8},{"$f":"IF(J74=\"Valid\", K74, NA())","v":{"$error":"#N/A"}},2.8,null,0.2,3]
[2021,10,4,1,44473.04166666649,10.199999999999999,"Valid",{"$f":"NA()","v":{"$error":"#N/A"}},12.6,"Valid",{"$f":"NA()","v":{"$error":"#N/A"}},"Calibration Error","insufficient data for 24Hr rolling average",{"$f":"IF(G75=\"Valid\", F75, NA())","v":10.199999999999999},3,{"$f":"IF(J75=\"Valid\", I75, NA())","v":12.6},{"$f":"IF(J75=\"Valid\", K75, NA())","v":{"$error":"#N/A"}},12.6,null,10.199999999999999,3]
[2021,10,4,2,44473.083333333154,6.7,"Valid",3,8.6999999999999993,"Valid",4.7,null,null,6.7,3.3,8.6999999999999993,4.7,8.6999999999999993,4.7,6.7,3.3]
[2021,10,4,3,44473.124999999818,5.3,"Valid",3,7.6,"Valid",4.9000000000000004,null,null,5.3,4.0999999999999996,7.6,4.9000000000000004,7.6,4.9000000000000004,5.3,4.0999999999999996]
[2021,10,4,4,44473.166666666482,7,"Valid",3.3,9.1,"Valid",5.2,null,null,{"$f":"IF(G78=\"Valid\", F78, NA())","v":7},4.0999999999999996,{"$f":"IF(J78=\"Valid\", I78, NA())","v":9.1},{"$f":"IF(J78=\"Valid\", K78, NA())","v":5.2},9.1,5.2,7,4.0999999999999996]
[2021,10,4,5,44473.208333333147,14.7,"Valid",4.0999999999999996,16,"Valid",6,null,null,14.7,3.9,16,6,16,6,14.7,3.9]
[2021,10,4,6,44473.249999999811,6,"Valid",4.0999999999999996,8.1999999999999993,"Valid",6.1,null,null,6,3.5,8.1999999999999993,6.1,8.1999999999999993,6.1,6,3.5]
[2021,10,4,7,44473.291666666475,3.4,"Valid",3.9,5.9,"Valid",6,null,null,3.4,3.8,5.9,6,5.9,6,3.4,3.8]
[2021,10,4,8,44473.333333333139,0.8,"Valid",3.5,2.6,"Valid",5.6,null,null,0.8,3.8,2.6,5.6,2.6,5.6,0.8,3.8]
[2021,10,4,9,44473.374999999804,10.199999999999999,"Valid",3.8,14.7,"Valid",6.1,null,null,10.199999999999999,{"$f":"IF(G83=\"Valid\",#REF!, NA())","v":{"$error":"#REF!"}},14.7,6.1,14.7,6.1,10.199999999999999,{"$error":"#REF!"}]
[2021,10,4,10,44473.416666666468,3.4,"Valid",3.8,9.6999999999999993,"Valid",6.3,null,null,3.4,{"$f":"IF(G84=\"Valid\",#REF!, NA())","v":{"$error":"#REF!"}},9.6999999999999993,6.3,9.6999999999999993,6.3,3.4,{"$error":"#REF!"}]
[2021,10,4,11,44473.458333333132,3.9,"Valid",1.5,10.8,"Valid",3.9,null,null,3.9,{"$f":"IF(G85=\"Valid\", H85, NA())","v":1.5},10.8,3.9,10.8,3.9,3.9,1.5]
[2021,10,4,12,44473.499999999796,-5.3,"Valid",2.2000000000000002,2.6,"Valid",5,null,null,-5.3,2.2000000000000002,2.6,5,2.6,5,-5.3,2.2000000000000002]
[2021,10,4,13,44473.541666666461,-4.2,"Valid",2.5,3.1,"Valid",5.5,null,null,-4.2,2.5,3.1,5.5,3.1,5.5,-4.2,2.5]
[2021,10,4,14,44473.583333333125,-8.4,"Valid",2.6,-3.8,"Valid",5.8,null,null,-8.4,2.6,-3.8,5.8,-3.8,5.8,-8.4,2.6]
[2021,10,4,15,44473.624999999789,11.4,"Valid",3,19.399999999999999,"Valid",6.4,null,null,11.4,3,19.399999999999999,6.4,19.399999999999999,6.4,11.4,3]
[2021,10,4,16,44473.666666666453,{"$f":"NA()","v":{"$error":"#N/A"}},"Invalid",{"$f":"NA()","v":{"$error":"#N/A"}},{"$f":"NA()","v":{"$error":"#N/A"}},"Invalid",{"$f":"NA()","v":{"$error":"#N/A"}},"Calibration Error","PM2.5 below low cutoff value",{"$error":"#N/A"},{"$error":"#N/A"},{"$error":"#N/A"},{"$error":"#N/A"}]
[2021,{"$f":"B90","v":10},{"$f":"C67+1","v":4},17,44473.708333333117,{"$f":"NA()","v":{"$error":"#N/A"}},"Invalid",{"$f":"NA()","v":{"$error":"#N/A"}},{"$f":"NA()","v":{"$error":"#N/A"}},"Invalid",{"$f":"NA()","v":{"$error":"#N/A"}},"Calibration Error","PM2.5 below low cutoff value",{"$error":"#N/A"},{"$error":"#N/A"},{"$error":"#N/A"},{"$error":"#N/A"}]
[2021,10,4,18,44473.749999999782,-5.5,"Valid",1.9,0.8,"Valid",5.8,null,null,-5.5,1.9,0.8,5.8,0.8,5.8,-5.5,1.9]
[2021,10,4,19,44473.791666666446,-3.7,"Valid",1.7,0.7,"Valid",5.7,null,null,-3.7,1.7,0.7,5.7,0.7,5.7,-3.7,1.7]
[2021,10,4,20,44473.83333333311,3.1,"Valid",1.9,7.3,"Valid",6,null,null,3.1,1.9,7.3,6,7.3,6,3.1,1.9]
[2021,10,4,21,44473.874999999774,{"$f":"NA()","v":{"$error":"#N/A"}},"Invalid",{"$f":"NA()","v":{"$error":"#N/A"}},{"$f":"NA()","v":{"$error":"#N/A"}},"Invalid",{"$f":"NA()","v":{"$error":"#N/A"}},"Calibration Error","PM2.5 below low cutoff value",{"$error":"#N/A"},{"$error":"#N/A"},{"$error":"#N/A"},{"$error":"#N/A"}]
[2021,10,4,22,44473.916666666439,{"$f":"NA()","v":{"$error":"#N/A"}},"Invalid",{"$f":"NA()","v":{"$error":"#N/A"}},{"$f":"NA()","v":{"$error":"#N/A"}},"Invalid",{"$f":"NA()","v":{"$error":"#N/A"}},"Calibration Error","PM2.5 below low cutoff value",{"$error":"#N/A"},{"$error":"#N/A"},{"$error":"#N/A"},{"$error":"#N/A"}]
[2021,10,4,23,44473.958333333103,{"$f":"NA()","v":{"$error":"#N/A"}},"Invalid",{"$f":"NA()","v":{"$error":"#N/A"}},{"$f":"NA()","v":{"$error":"#N/A"}},"Invalid",{"$f":"NA()","v":{"$error":"#N/A"}},"Calibration Error","PM2.5 below low cutoff value",{"$error":"#N/A"},{"$error":"#N/A"},{"$error":"#N/A"},{"$error":"#N/A"}]
[2021,10,5,0,44473.999999999767,{"$f":"NA()","v":{"$error":"#N/A"}},"Invalid",{"$f":"NA()","v":{"$error":"#N/A"}},{"$f":"NA()","v":{"$error":"#N/A"}},"Invalid",{"$f":"NA()","v":{"$error":"#N/A"}},"Calibration Error","PM2.5 below low cutoff value",{"$error":"#N/A"},{"$error":"#N/A"},{"$error":"#N/A"},{"$error":"#N/A"}]
[2021,10,5,1,44474.041666666431,{"$f":"NA()","v":{"$error":"#N/A"}},"Invalid",{"$f":"NA()","v":{"$error":"#N/A"}},{"$f":"NA()","v":{"$error":"#N/A"}},"Invalid",{"$f":"NA()","v":{"$error":"#N/A"}},"Calibration Error","PM2.5 below low cutoff value",{"$error":"#N/A"},{"$error":"#N/A"},{"$error":"#N/A"},{"$error":"#N/A"}]
[2021,10,5,2,44474.083333333096,{"$f":"NA()","v":{"$error":"#N/A"}},"Invalid",{"$f":"NA()","v":{"$error":"#N/A"}},{"$f":"NA()","v":{"$error":"#N/A"}},"Invalid",{"$f":"NA()","v":{"$error":"#N/A"}},"Calibration Error","PM2.5 below low cutoff value",{"$error":"#N/A"},{"$error":"#N/A"},{"$error":"#N/A"},{"$error":"#N/A"}]
[2021,10,5,3,44474.12499999976,{"$f":"NA()","v":{"$error":"#N/A"}},"Invalid",{"$f":"NA()","v":{"$error":"#N/A"}},{"$f":"NA()","v":{"$error":"#N/A"}},"Invalid",{"$f":"NA()","v":{"$error":"#N/A"}},"Calibration Error","PM2.5 below low cutoff value",{"$error":"#N/A"},{"$error":"#N/A"},{"$error":"#N/A"},{"$error":"#N/A"}]
[2021,10,5,4,44474.166666666424,{"$f":"NA()","v":{"$error":"#N/A"}},"Invalid",{"$f":"NA()","v":{"$error":"#N/A"}},{"$f":"NA()","v":{"$error":"#N/A"}},"Invalid",{"$f":"NA()","v":{"$error":"#N/A"}},"Calibration Error","PM2.5 below low cutoff value",{"$error":"#N/A"},{"$error":"#N/A"},{"$error":"#N/A"},{"$error":"#N/A"}]
[2021,10,5,5,44474.208333333088,{"$f":"NA()","v":{"$error":"#N/A"}},"Invalid",{"$f":"NA()","v":{"$error":"#N/A"}},{"$f":"NA()","v":{"$error":"#N/A"}},"Invalid",{"$f":"NA()","v":{"$error":"#N/A"}},"Calibration Error","PM2.5 below low cutoff value",{"$error":"#N/A"},{"$error":"#N/A"},{"$error":"#N/A"},{"$error":"#N/A"}]
[2021,10,5,6,44474.249999999753,{"$f":"NA()","v":{"$error":"#N/A"}},"Invalid",{"$f":"NA()","v":{"$error":"#N/A"}},{"$f":"NA()","v":{"$error":"#N/A"}},"Invalid",{"$f":"NA()","v":{"$error":"#N/A"}},"Calibration Error","PM2.5 below low cutoff value",{"$error":"#N/A"},{"$error":"#N/A"},{"$error":"#N/A"},{"$error":"#N/A"}]
[2021,10,5,7,44474.291666666417,{"$f":"NA()","v":{"$error":"#N/A"}},"Invalid",{"$f":"NA()","v":{"$error":"#N/A"}},{"$f":"NA()","v":{"$error":"#N/A"}},"Invalid",{"$f":"NA()","v":{"$error":"#N/A"}},"Calibration Error","PM2.5 below low cutoff value",{"$error":"#N/A"},{"$error":"#N/A"},{"$error":"#N/A"},{"$error":"#N/A"}]
[2021,10,5,8,44474.333333333081,{"$f":"NA()","v":{"$error":"#N/A"}},"Invalid",{"$f":"NA()","v":{"$error":"#N/A"}},{"$f":"NA()","v":{"$error":"#N/A"}},"Invalid",{"$f":"NA()","v":{"$error":"#N/A"}},"Power failure","no data",{"$error":"#N/A"},{"$error":"#N/A"},{"$error":"#N/A"},{"$error":"#N/A"}]
[2021,10,5,9,44474.374999999745,{"$f":"NA()","v":{"$error":"#N/A"}},"Invalid",{"$f":"NA()","v":{"$error":"#N/A"}},{"$f":"NA()","v":{"$error":"#N/A"}},"Invalid",{"$f":"NA()","v":{"$error":"#N/A"}},"Power failure","no data",{"$error":"#N/A"},{"$error":"#N/A"},{"$error":"#N/A"},{"$error":"#N/A"}]
[2021,10,5,10,44474.41666666641,{"$f":"NA()","v":{"$error":"#N/A"}},"Invalid",{"$f":"NA()","v":{"$error":"#N/A"}},{"$f":"NA()","v":{"$error":"#N/A"}},"Invalid",{"$f":"NA()","v":{"$error":"#N/A"}},"Power failure","no data",{"$error":"#N/A"},{"$error":"#N/A"},{"$error":"#N/A"},{"$error":"#N/A"}]
[2021,10,5,11,44474.458333333074,{"$f":"NA()","v":{"$error":"#N/A"}},"Invalid",{"$f":"NA()","v":{"$error":"#N/A"}},{"$f":"NA()","v":{"$error":"#N/A"}},"Invalid",{"$f":"NA()","v":{"$error":"#N/A"}},"Calibration Error","PM2.5 below low cutoff value",{"$error":"#N/A"},{"$error":"#N/A"},{"$error":"#N/A"},{"$error":"#N/A"}]
[2021,10,5,12,44474.499999999738,{"$f":"NA()","v":{"$error":"#N/A"}},"Invalid",{"$f":"NA()","v":{"$error":"#N/A"}},{"$f":"NA()","v":{"$error":"#N/A"}},"Invalid",{"$f":"NA()","v":{"$error":"#N/A"}},"Calibration Error","PM2.5 below low cutoff value",{"$error":"#N/A"},{"$error":"#N/A"},{"$error":"#N/A"},{"$error":"#N/A"}]
[2021,10,5,13,44474.541666666402,{"$f":"NA()","v":{"$error":"#N/A"}},"Invalid",{"$f":"NA()","v":{"$error":"#N/A"}},{"$f":"NA()","v":{"$error":"#N/A"}},"Invalid",{"$f":"NA()","v":{"$error":"#N/A"}},"Calibration Error","PM2.5 below low cutoff value",{"$error":"#N/A"},{"$error":"#N/A"},{"$error":"#N/A"},{"$error":"#N/A"}]
[2021,10,5,14,44474.583333333067,{"$f":"NA()","v":{"$error":"#N/A"}},"Invalid",{"$f":"NA()","v":{"$error":"#N/A"}},{"$f":"NA()","v":{"$error":"#N/A"}},"Invalid",{"$f":"NA()","v":{"$error":"#N/A"}},"Calibration Error","PM2.5 below low cutoff value",{"$error":"#N/A"},{"$error":"#N/A"},{"$error":"#N/A"},{"$error":"#N/A"}]
[2021,10,5,15,44474.624999999731,{"$f":"NA()","v":{"$error":"#N/A"}},"Invalid",{"$f":"NA()","v":{"$error":"#N/A"}},{"$f":"NA()","v":{"$error":"#N/A"}},"Invalid",{"$f":"NA()","v":{"$error":"#N/A"}},"Calibration Error","PM2.5 below low cutoff value",{"$error":"#N/A"},{"$error":"#N/A"},{"$error":"#N/A"},{"$error":"#N/A"}]
[2021,10,5,16,44474.666666666395,{"$f":"NA()","v":{"$error":"#N/A"}},"Invalid",{"$f":"NA()","v":{"$error":"#N/A"}},{"$f":"NA()","v":{"$error":"#N/A"}},"Invalid",{"$f":"NA()","v":{"$error":"#N/A"}},"Calibration Error","PM2.5 below low cutoff value",{"$error":"#N/A"},{"$error":"#N/A"},{"$error":"#N/A"},{"$error":"#N/A"}]
[2021,10,5,17,44474.708333333059,{"$f":"NA()","v":{"$error":"#N/A"}},"Invalid",{"$f":"NA()","v":{"$error":"#N/A"}},{"$f":"NA()","v":{"$error":"#N/A"}},"Invalid",{"$f":"NA()","v":{"$error":"#N/A"}},"Calibration Error","PM2.5 below low cutoff value",{"$error":"#N/A"},{"$error":"#N/A"},{"$error":"#N/A"},{"$error":"#N/A"}]
[2021,10,5,18,44474.749999999724,{"$f":"NA()","v":{"$error":"#N/A"}},"Invalid",{"$f":"NA()","v":{"$error":"#N/A"}},{"$f":"NA()","v":{"$error":"#N/A"}},"Invalid",{"$f":"NA()","v":{"$error":"#N/A"}},"Calibration Error","PM2.5 below low cutoff value",{"$error":"#N/A"},{"$error":"#N/A"},{"$error":"#N/A"},{"$error":"#N/A"}]
[2021,10,5,19,44474.791666666388,{"$f":"NA()","v":{"$error":"#N/A"}},"Invalid",{"$f":"NA()","v":{"$error":"#N/A"}},{"$f":"NA()","v":{"$error":"#N/A"}},"Invalid",{"$f":"NA()","v":{"$error":"#N/A"}},"Calibration Error","PM2.5 below low cutoff value",{"$error":"#N/A"},{"$error":"#N/A"},{"$error":"#N/A"},{"$error":"#N/A"}]
[2021,10,5,20,44474.833333333052,{"$f":"NA()","v":{"$error":"#N/A"}},"Invalid",{"$f":"NA()","v":{"$error":"#N/A"}},{"$f":"NA()","v":{"$error":"#N/A"}},"Invalid",{"$f":"NA()","v":{"$error":"#N/A"}},"Calibration Error","PM2.5 below low cutoff value",{"$error":"#N/A"},{"$error":"#N/A"},{"$error":"#N/A"},{"$error":"#N/A"}]
[2021,10,5,21,44474.874999999716,4.5,"Valid",{"$f":"NA()","v":{"$error":"#N/A"}},6.2,"Valid",{"$f":"NA()","v":{"$error":"#N/A"}},"Calibration Error","insufficient data for 24Hr rolling average",4.5,{"$error":"#N/A"},6.2,{"$error":"#N/A"},6.2,null,4.5]
[2021,10,5,22,44474.91666666638,7.9,"Valid",{"$f":"NA()","v":{"$error":"#N/A"}},11.5,"Valid",{"$f":"NA()","v":{"$error":"#N/A"}},"Calibration Error","insufficient data for 24Hr rolling average",7.9,{"$error":"#N/A"},11.5,{"$error":"#N/A"},11.5,null,7.9]
[2021,10,5,23,44474.958333333045,6.7,"Valid",{"$f":"NA()","v":{"$error":"#N/A"}},10.8,"Valid",{"$f":"NA()","v":{"$error":"#N/A"}},"Calibration Error","insufficient data for 24Hr rolling average",6.7,{"$error":"#N/A"},10.8,{"$error":"#N/A"},10.8,null,6.7]
[2021,10,6,0,44474.999999999709,6.4,"Valid",{"$f":"NA()","v":{"$error":"#N/A"}},10,"Valid",{"$f":"NA()","v":{"$error":"#N/A"}},"Calibration Error","insufficient data for 24Hr rolling average",6.4,{"$error":"#N/A"},10,{"$error":"#N/A"},10,null,6.4]
[2021,10,6,1,44475.041666666373,7,"Valid",{"$f":"NA()","v":{"$error":"#N/A"}},10.6,"Valid",{"$f":"NA()","v":{"$error":"#N/A"}},"Calibration Error","insufficient data for 24Hr rolling average",7,{"$error":"#N/A"},10.6,{"$error":"#N/A"},10.6,null,7]
[2021,10,6,2,44475.083333333037,5.6,"Valid",{"$f":"NA()","v":{"$error":"#N/A"}},10.9,"Valid",{"$f":"NA()","v":{"$error":"#N/A"}},"Calibration Error","insufficient data for 24Hr rolling average",5.6,{"$error":"#N/A"},10.9,{"$error":"#N/A"},10.9,null,5.6]
[2021,10,6,3,44475.124999999702,2.2000000000000002,"Valid",{"$f":"NA()","v":{"$error":"#N/A"}},7,"Valid",{"$f":"NA()","v":{"$error":"#N/A"}},"Calibration Error","insufficient data for 24Hr rolling average",2.2000000000000002,{"$error":"#N/A"},7,{"$error":"#N/A"},7,null,2.2000000000000002]
[2021,10,6,4,44475.166666666366,0.6,"Valid",{"$f":"NA()","v":{"$error":"#N/A"}},3.7,"Valid",{"$f":"NA()","v":{"$error":"#N/A"}},"Calibration Error","insufficient data for 24Hr rolling average",0.6,{"$error":"#N/A"},3.7,{"$error":"#N/A"},3.7,null,0.6]
[2021,10,6,5,44475.20833333303,{"$f":"NA()","v":{"$error":"#N/A"}},"Invalid",{"$f":"NA()","v":{"$error":"#N/A"}},{"$f":"NA()","v":{"$error":"#N/A"}},"Invalid",{"$f":"NA()","v":{"$error":"#N/A"}},"Calibration Error","PM2.5 below low cutoff value",{"$error":"#N/A"},{"$error":"#N/A"},{"$error":"#N/A"},{"$error":"#N/A"}]
[2021,10,6,6,44475.249999999694,{"$f":"NA()","v":{"$error":"#N/A"}},"Invalid",{"$f":"NA()","v":{"$error":"#N/A"}},{"$f":"NA()","v":{"$error":"#N/A"}},"Invalid",{"$f":"NA()","v":{"$error":"#N/A"}},"Calibration Error","PM2.5 below low cutoff value",{"$error":"#N/A"},{"$error":"#N/A"},{"$error":"#N/A"},{"$error":"#N/A"}]
[2021,10,6,7,44475.291666666359,{"$f":"NA()","v":{"$error":"#N/A"}},"Invalid",{"$f":"NA()","v":{"$error":"#N/A"}},{"$f":"NA()","v":{"$error":"#N/A"}},"Invalid",{"$f":"NA()","v":{"$error":"#N/A"}},"Calibration Error","PM2.5 below low cutoff value",{"$error":"#N/A"},{"$error":"#N/A"},{"$error":"#N/A"},{"$error":"#N/A"}]
[2021,10,6,8,44475.333333333023,0.2,"Valid",{"$f":"NA()","v":{"$error":"#N/A"}},14.8,"Valid",{"$f":"NA()","v":{"$error":"#N/A"}},"Calibration Error","insufficient data for 24Hr rolling average",0.2,{"$error":"#N/A"},14.8,{"$error":"#N/A"},14.8,null,0.2]
[2021,10,6,9,44475.374999999687,{"$f":"NA()","v":{"$error":"#N/A"}},"Invalid",{"$f":"NA()","v":{"$error":"#N/A"}},{"$f":"NA()","v":{"$error":"#N/A"}},"Invalid",{"$f":"NA()","v":{"$error":"#N/A"}},"Calibration Error","PM2.5 below low cutoff value",{"$error":"#N/A"},{"$error":"#N/A"},{"$error":"#N/A"},{"$error":"#N/A"}]
[{"$f":"A131","v":2021},10,6,{"$f":"IF(D131=23,0,D131+1)","v":10},{"$f":"E131+0.0416666666666666","v":44475.416666666351},16.8,"Valid",{"$f":"NA()","v":{"$error":"#N/A"}},31.2,"Valid",{"$f":"NA()","v":{"$error":"#N/A"}},"Calibration Error","insufficient data for 24Hr rolling average",16.8,{"$error":"#N/A"},31.2,{"$error":"#N/A"},31.2,null,16.8]
[2021,10,6,11,44475.458333333016,10,"Valid",{"$f":"NA()","v":{"$error":"#N/A"}},17.7,"Valid",{"$f":"NA()","v":{"$error":"#N/A"}},"Calibration Error","insufficient data for 24Hr rolling average",10,{"$error":"#N/A"},17.7,{"$error":"#N/A"},17.7,null,10]
[2021,10,6,12,44475.49999999968,{"$f":"NA()","v":{"$error":"#N/A"}},"Invalid",{"$f":"NA()","v":{"$error":"#N/A"}},{"$f":"NA()","v":{"$error":"#N/A"}},"Invalid",{"$f":"NA()","v":{"$error":"#N/A"}},"Power failure","no data",{"$error":"#N/A"},{"$error":"#N/A"},{"$error":"#N/A"},{"$error":"#N/A"}]
[2021,10,6,13,44475.541666666344,{"$f":"NA()","v":{"$error":"#N/A"}},"Invalid",{"$f":"NA()","v":{"$error":"#N/A"}},{"$f":"NA()","v":{"$error":"#N/A"}},"Invalid",{"$f":"NA()","v":{"$error":"#N/A"}},"Power failure","no data",{"$error":"#N/A"},{"$error":"#N/A"},{"$error":"#N/A"},{"$error":"#N/A"}]
[2021,10,6,14,44475.583333333008,{"$f":"NA()","v":{"$error":"#N/A"}},"Invalid",{"$f":"NA()","v":{"$error":"#N/A"}},{"$f":"NA()","v":{"$error":"#N/A"}},"Invalid",{"$f":"NA()","v":{"$error":"#N/A"}},"Power failure","no data",{"$error":"#N/A"},{"$error":"#N/A"},{"$error":"#N/A"},{"$error":"#N/A"}]
[2021,10,6,15,44475.624999999673,{"$f":"NA()","v":{"$error":"#N/A"}},"Invalid",{"$f":"NA()","v":{"$error":"#N/A"}},{"$f":"NA()","v":{"$error":"#N/A"}},"Invalid",{"$f":"NA()","v":{"$error":"#N/A"}},"Power failure","no data",{"$error":"#N/A"},{"$error":"#N/A"},{"$error":"#N/A"},{"$error":"#N/A"}]
[2021,10,6,16,44475.666666666337,{"$f":"NA()","v":{"$error":"#N/A"}},"Invalid",{"$f":"NA()","v":{"$error":"#N/A"}},{"$f":"NA()","v":{"$error":"#N/A"}},"Invalid",{"$f":"NA()","v":{"$error":"#N/A"}},"Power failure","no data",{"$error":"#N/A"},{"$error":"#N/A"},{"$error":"#N/A"},{"$error":"#N/A"}]
[2021,10,6,17,44475.708333333001,{"$f":"NA()","v":{"$error":"#N/A"}},"Invalid",{"$f":"NA()","v":{"$error":"#N/A"}},{"$f":"NA()","v":{"$error":"#N/A"}},"Invalid",{"$f":"NA()","v":{"$error":"#N/A"}},"Power failure","no data",{"$error":"#N/A"},{"$error":"#N/A"},{"$error":"#N/A"},{"$error":"#N/A"}]
[2021,10,6,18,44475.749999999665,-6.2,"Valid",{"$f":"NA()","v":{"$error":"#N/A"}},-4.5,"Valid",{"$f":"NA()","v":{"$error":"#N/A"}},"Calibration Error","insufficient data for 24Hr rolling average",-6.2,{"$error":"#N/A"},-4.5,{"$error":"#N/A"},-4.5,null,-6.2]
[2021,10,6,19,44475.79166666633,{"$f":"NA()","v":{"$error":"#N/A"}},"Invalid",{"$f":"NA()","v":{"$error":"#N/A"}},{"$f":"NA()","v":{"$error":"#N/A"}},"Invalid",{"$f":"NA()","v":{"$error":"#N/A"}},"Calibration Error","PM2.5 greater than PM10",{"$error":"#N/A"},{"$error":"#N/A"},{"$error":"#N/A"},{"$error":"#N/A"}]
[2021,10,6,20,44475.833333332994,{"$f":"NA()","v":{"$error":"#N/A"}},"Invalid",{"$f":"NA()","v":{"$error":"#N/A"}},{"$f":"NA()","v":{"$error":"#N/A"}},"Invalid",{"$f":"NA()","v":{"$error":"#N/A"}},"Calibration Error","PM2.5 greater than PM10",{"$f":"IF(G142=\"Valid\", F142, NA())","v":{"$error":"#N/A"}},{"$f":"IF(G142=\"Valid\", H142, NA())","v":{"$error":"#N/A"}},{"$f":"IF(J142=\"Valid\", I142, NA())","v":{"$error":"#N/A"}},{"$f":"IF(J142=\"Valid\", K142, NA())","v":{"$error":"#N/A"}}]
[2021,10,6,21,44475.874999999658,{"$f":"NA()","v":{"$error":"#N/A"}},"Invalid",{"$f":"NA()","v":{"$error":"#N/A"}},{"$f":"NA()","v":{"$error":"#N/A"}},"Invalid",{"$f":"NA()","v":{"$error":"#N/A"}},"Calibration Error","PM2.5 greater than PM10",{"$error":"#N/A"},{"$error":"#N/A"},{"$error":"#N/A"},{"$error":"#N/A"}]
[2021,10,6,22,44475.916666666322,4.8,"Valid",{"$f":"NA()","v":{"$error":"#N/A"}},5.4,"Valid",{"$f":"NA()","v":{"$error":"#N/A"}},"Calibration Error","insufficient data for 24Hr rolling average",4.8,{"$error":"#N/A"},5.4,{"$error":"#N/A"},5.4,null,4.8]
[2021,10,6,23,44475.958333332987,{"$f":"NA()","v":{"$error":"#N/A"}},"Invalid",{"$f":"NA()","v":{"$error":"#N/A"}},{"$f":"NA()","v":{"$error":"#N/A"}},"Invalid",{"$f":"NA()","v":{"$error":"#N/A"}},"Calibration Error","PM2.5 greater than PM10",{"$error":"#N/A"},{"$error":"#N/A"},{"$error":"#N/A"},{"$error":"#N/A"}]
[2021,10,7,0,44475.999999999651,{"$f":"NA()","v":{"$error":"#N/A"}},"Invalid",{"$f":"NA()","v":{"$error":"#N/A"}},{"$f":"NA()","v":{"$error":"#N/A"}},"Invalid",{"$f":"NA()","v":{"$error":"#N/A"}},"Calibration Error","PM2.5 greater than PM10",{"$error":"#N/A"},{"$error":"#N/A"},{"$error":"#N/A"},{"$error":"#N/A"}]
[2021,10,7,1,44476.041666666315,-5.7,"Valid",{"$f":"NA()","v":{"$error":"#N/A"}},-5.0999999999999996,"Valid",{"$f":"NA()","v":{"$error":"#N/A"}},"Calibration Error","insufficient data for 24Hr rolling average",-5.7,{"$error":"#N/A"},-5.0999999999999996,{"$error":"#N/A"},-5.0999999999999996,null,-5.7]
[2021,10,7,2,44476.083333332979,2.7,"Valid",{"$f":"NA()","v":{"$error":"#N/A"}},2.8,"Valid",{"$f":"NA()","v":{"$error":"#N/A"}},"Calibration Error","insufficient data for 24Hr rolling average",2.7,{"$error":"#N/A"},2.8,{"$error":"#N/A"},2.8,null,2.7]
[2021,10,7,3,44476.124999999643,{"$f":"NA()","v":{"$error":"#N/A"}},"Invalid",{"$f":"NA()","v":{"$error":"#N/A"}},{"$f":"NA()","v":{"$error":"#N/A"}},"Invalid",{"$f":"NA()","v":{"$error":"#N/A"}},"Calibration Error","PM2.5 greater than PM10",{"$error":"#N/A"},{"$error":"#N/A"},{"$error":"#N/A"},{"$error":"#N/A"}]
[2021,10,7,4,44476.166666666308,{"$f":"NA()","v":{"$error":"#N/A"}},"Invalid",{"$f":"NA()","v":{"$error":"#N/A"}},{"$f":"NA()","v":{"$error":"#N/A"}},"Invalid",{"$f":"NA()","v":{"$error":"#N/A"}},"Calibration Error","PM2.5 greater than PM10",{"$error":"#N/A"},{"$error":"#N/A"},{"$error":"#N/A"},{"$error":"#N/A"}]
[2021,10,7,5,44476.208333332972,{"$f":"NA()","v":{"$error":"#N/A"}},"Invalid",{"$f":"NA()","v":{"$error":"#N/A"}},{"$f":"NA()","v":{"$error":"#N/A"}},"Invalid",{"$f":"NA()","v":{"$error":"#N/A"}},"Calibration Error","PM2.5 greater than PM10",{"$error":"#N/A"},{"$error":"#N/A"},{"$error":"#N/A"},{"$error":"#N/A"}]
[2021,10,7,6,44476.249999999636,{"$f":"NA()","v":{"$error":"#N/A"}},"Invalid",{"$f":"NA()","v":{"$error":"#N/A"}},{"$f":"NA()","v":{"$error":"#N/A"}},"Invalid",{"$f":"NA()","v":{"$error":"#N/A"}},"Calibration Error","PM2.5 greater than PM10",{"$error":"#N/A"},{"$error":"#N/A"},{"$error":"#N/A"},{"$error":"#N/A"}]
[2021,10,7,7,44476.2916666663,{"$f":"NA()","v":{"$error":"#N/A"}},"Invalid",{"$f":"NA()","v":{"$error":"#N/A"}},{"$f":"NA()","v":{"$error":"#N/A"}},"Invalid",{"$f":"NA()","v":{"$error":"#N/A"}},"Calibration Error","PM2.5 greater than PM10",{"$error":"#N/A"},{"$error":"#N/A"},{"$error":"#N/A"},{"$error":"#N/A"}]
[2021,10,7,8,44476.333333332965,{"$f":"NA()","v":{"$error":"#N/A"}},"Invalid",{"$f":"NA()","v":{"$error":"#N/A"}},{"$f":"NA()","v":{"$error":"#N/A"}},"Invalid",{"$f":"NA()","v":{"$error":"#N/A"}},"Power failure","no data",{"$error":"#N/A"},{"$error":"#N/A"},{"$error":"#N/A"},{"$error":"#N/A"}]
[2021,{"$f":"B154","v":10},{"$f":"C131+1","v":7},9,44476.374999999629,{"$f":"NA()","v":{"$error":"#N/A"}},"Invalid",{"$f":"NA()","v":{"$error":"#N/A"}},{"$f":"NA()","v":{"$error":"#N/A"}},"Invalid",{"$f":"NA()","v":{"$error":"#N/A"}},"Power failure","no data",{"$error":"#N/A"},{"$error":"#N/A"},{"$error":"#N/A"},{"$error":"#N/A"}]
[2021,10,7,10,44476.416666666293,{"$f":"NA()","v":{"$error":"#N/A"}},"Invalid",{"$f":"NA()","v":{"$error":"#N/A"}},{"$f":"NA()","v":{"$error":"#N/A"}},"Invalid",{"$f":"NA()","v":{"$error":"#N/A"}},"Power failure","no data",{"$error":"#N/A"},{"$error":"#N/A"},{"$error":"#N/A"},{"$error":"#N/A"}]
[2021,10,7,11,44476.458333332957,0.8,"Valid",{"$f":"NA()","v":{"$error":"#N/A"}},13.8,"Valid",{"$f":"NA()","v":{"$error":"#N/A"}},"Calibration Error","insufficient data for 24Hr rolling average",0.8,{"$error":"#N/A"},13.8,{"$error":"#N/A"},13.8,null,0.8]
[2021,10,7,12,44476.499999999622,-1.3,"Valid",{"$f":"NA()","v":{"$error":"#N/A"}},4,"Valid",{"$f":"NA()","v":{"$error":"#N/A"}},"Calibration Error","insufficient data for 24Hr rolling average",-1.3,{"$error":"#N/A"},4,{"$error":"#N/A"},4,null,-1.3]
[2021,10,7,13,44476.541666666286,0.7,"Valid",{"$f":"NA()","v":{"$error":"#N/A"}},6.3,"Valid",{"$f":"NA()","v":{"$error":"#N/A"}},"Calibration Error","insufficient data for 24Hr rolling average",0.7,{"$error":"#N/A"},6.3,{"$error":"#N/A"},6.3,null,0.7]
[2021,10,7,14,44476.58333333295,8.3000000000000007,"Valid",{"$f":"NA()","v":{"$error":"#N/A"}},13.7,"Valid",{"$f":"NA()","v":{"$error":"#N/A"}},"Calibration Error","insufficient data for 24Hr rolling average",8.3000000000000007,{"$error":"#N/A"},13.7,{"$error":"#N/A"},13.7,null,8.3000000000000007]
[2021,10,7,15,44476.624999999614,4.5999999999999996,"Valid",{"$f":"NA()","v":{"$error":"#N/A"}},12.2,"Valid",{"$f":"NA()","v":{"$error":"#N/A"}},"Calibration Error","insufficient data for 24Hr rolling average",4.5999999999999996,{"$error":"#N/A"},12.2,{"$error":"#N/A"},12.2,null,4.5999999999999996]
[2021,10,7,16,44476.666666666279,-2.7,"Valid",{"$f":"NA()","v":{"$error":"#N/A"}},10.199999999999999,"Valid",{"$f":"NA()","v":{"$error":"#N/A"}},"Calibration Error","insufficient data for 24Hr rolling average",-2.7,{"$error":"#N/A"},10.199999999999999,{"$error":"#N/A"},10.199999999999999,null,-2.7]
[2021,10,7,17,44476.708333332943,2.2000000000000002,"Valid",{"$f":"NA()","v":{"$error":"#N/A"}},13.4,"Valid",{"$f":"NA()","v":{"$error":"#N/A"}},"Calibration Error","insufficient data for 24Hr rolling average",2.2000000000000002,{"$error":"#N/A"},13.4,{"$error":"#N/A"},13.4,null,2.2000000000000002]
[2021,10,7,18,44476.749999999607,2.8,"Valid",{"$f":"NA()","v":{"$error":"#N/A"}},9.6999999999999993,"Valid",{"$f":"NA()","v":{"$error":"#N/A"}},"Calibration Error","insufficient data for 24Hr rolling average",2.8,{"$error":"#N/A"},9.6999999999999993,{"$error":"#N/A"},9.6999999999999993,null,2.8]
[2021,10,7,19,44476.791666666271,1.9,"Valid",{"$f":"NA()","v":{"$error":"#N/A"}},10.4,"Valid",{"$f":"NA()","v":{"$error":"#N/A"}},"Calibration Error","insufficient data for 24Hr rolling average",1.9,{"$error":"#N/A"},10.4,{"$error":"#N/A"},10.4,null,1.9]
[2021,10,7,20,44476.833333332936,4.5999999999999996,"Valid",{"$f":"NA()","v":{"$error":"#N/A"}},15.4,"Valid",{"$f":"NA()","v":{"$error":"#N/A"}},"Calibration Error","insufficient data for 24Hr rolling average",4.5999999999999996,{"$error":"#N/A"},15.4,{"$error":"#N/A"},15.4,null,4.5999999999999996]
[2021,10,7,21,44476.8749999996,-4.0999999999999996,"Valid",{"$f":"NA()","v":{"$error":"#N/A"}},18.5,"Valid",{"$f":"NA()","v":{"$error":"#N/A"}},"Calibration Error","insufficient data for 24Hr rolling average",-4.0999999999999996,{"$error":"#N/A"},18.5,{"$error":"#N/A"},18.5,null,-4.0999999999999996]
[2021,10,7,22,44476.916666666264,3.8,"Valid",{"$f":"NA()","v":{"$error":"#N/A"}},16.100000000000001,"Valid",{"$f":"NA()","v":{"$error":"#N/A"}},"Calibration Error","insufficient data for 24Hr rolling average",3.8,{"$error":"#N/A"},16.100000000000001,{"$error":"#N/A"},16.100000000000001,null,3.8]
[2021,10,7,23,44476.958333332928,-1.2,"Valid",{"$f":"NA()","v":{"$error":"#N/A"}},6.4,"Valid",{"$f":"NA()","v":{"$error":"#N/A"}},"Calibration Error","insufficient data for 24Hr rolling average",-1.2,{"$error":"#N/A"},6.4,{"$error":"#N/A"},6.4,null,-1.2]
[2021,10,8,0,44476.999999999593,-5.5,"Valid",{"$f":"NA()","v":{"$error":"#N/A"}},2.6,"Valid",{"$f":"NA()","v":{"$error":"#N/A"}},"Calibration Error","insufficient data for 24Hr rolling average",-5.5,{"$error":"#N/A"},2.6,{"$error":"#N/A"},2.6,null,-5.5]
[2021,10,8,1,44477.041666666257,-3.6,"Valid",{"$f":"NA()","v":{"$error":"#N/A"}},3.5,"Valid",{"$f":"NA()","v":{"$error":"#N/A"}},"Calibration Error","insufficient data for 24Hr rolling average",-3.6,{"$error":"#N/A"},3.5,{"$error":"#N/A"},3.5,null,-3.6]
[2021,10,8,2,44477.083333332921,-2.2999999999999998,"Valid",{"$f":"NA()","v":{"$error":"#N/A"}},2.5,"Valid",{"$f":"NA()","v":{"$error":"#N/A"}},"Calibration Error","insufficient data for 24Hr rolling average",-2.2999999999999998,{"$error":"#N/A"},2.5,{"$error":"#N/A"},2.5,null,-2.2999999999999998]
[2021,10,8,3,44477.124999999585,-0.9,"Valid",{"$f":"NA()","v":{"$error":"#N/A"}},3.6,"Valid",{"$f":"NA()","v":{"$error":"#N/A"}},"Calibration Error","insufficient data for 24Hr rolling average",-0.9,{"$error":"#N/A"},3.6,{"$error":"#N/A"},3.6,null,-0.9]
[2021,10,8,4,44477.16666666625,-1.5,"Valid",0.4,2,"Valid",9.1,null,null,-1.5,0.4,2,9.1,2,9.1,-1.5,0.4]
[2021,10,8,5,44477.208333332914,{"$f":"NA()","v":{"$error":"#N/A"}},"Invalid",{"$f":"NA()","v":{"$error":"#N/A"}},{"$f":"NA()","v":{"$error":"#N/A"}},"Invalid",{"$f":"NA()","v":{"$error":"#N/A"}},"Calibration Error","PM2.5 below low cutoff value",{"$error":"#N/A"},{"$error":"#N/A"},{"$error":"#N/A"},{"$error":"#N/A"}]
[2021,10,8,6,44477.249999999578,7.9,"Valid",0.8,11.3,"Valid",9.1999999999999993,null,null,7.9,0.8,11.3,9.1999999999999993,11.3,9.1999999999999993,7.9,0.8]
[2021,10,8,7,44477.291666666242,6,"Valid",1,16.2,"Valid",9.6,null,null,6,1,16.2,9.6,16.2,9.6,6,1]
[2021,10,8,8,44477.333333332906,-0.5,"Valid",1,10.8,"Valid",9.6,null,null,-0.5,1,10.8,9.6,10.8,9.6,-0.5,1]
[2021,10,8,9,44477.374999999571,0.1,"Valid",0.9,19,"Valid",10.1,null,null,0.1,0.9,19,10.1,19,10.1,0.1,0.9]
[2021,10,8,10,44477.416666666235,2.5,"Valid",-0.6,8.3000000000000007,"Valid",8.3000000000000007,null,null,2.5,-0.6,8.3000000000000007,8.3000000000000007,8.3000000000000007,8.3000000000000007,2.5,-0.6]
[2021,10,8,11,44477.458333332899,-4.4000000000000004,"Valid",-0.9,3.2,"Valid",7.9,null,null,-4.4000000000000004,-0.9,3.2,7.9,3.2,7.9,-4.4000000000000004,-0.9]
[2021,10,8,12,44477.499999999563,0.1,"Valid",-0.8,9,"Valid",8.1,null,null,0.1,-0.8,9,8.1,9,8.1,0.1,-0.8]
[2021,10,8,13,44477.541666666228,-1.1000000000000001,"Valid",-0.9,7.5,"Valid",8.1999999999999993,null,null,-1.1000000000000001,-0.9,7.5,8.1999999999999993,7.5,8.1999999999999993,-1.1000000000000001,-0.9]
[2021,10,8,14,44477.583333332892,6.2,"Valid",-1,18.5,"Valid",8.5,null,null,6.2,-1,18.5,8.5,18.5,8.5,6.2,-1]
[2021,10,8,15,44477.624999999556,-3,"Valid",-1.3,10.8,"Valid",8.4,null,null,-3,-1.3,10.8,8.4,10.8,8.4,-3,-1.3]
[2021,10,8,16,44477.66666666622,0,"Valid",-1.2,11.2,"Valid",8.5,null,null,0,-1.2,11.2,8.5,11.2,8.5,0,-1.2]
[2021,10,8,17,44477.708333332885,{"$f":"NA()","v":{"$error":"#N/A"}},"Invalid",{"$f":"NA()","v":{"$error":"#N/A"}},{"$f":"NA()","v":{"$error":"#N/A"}},"Invalid",{"$f":"NA()","v":{"$error":"#N/A"}},"Calibration Error","PM2.5 below low cutoff value",{"$error":"#N/A"},{"$error":"#N/A"},{"$error":"#N/A"},{"$error":"#N/A"}]
[2021,10,8,18,44477.749999999549,4.2,"Valid",-1.7,13.7,"Valid",8,null,null,4.2,-1.7,13.7,8,13.7,8,4.2,-1.7]
[2021,10,8,19,44477.791666666213,-1.3,"Valid",-1.8,12.9,"Valid",8.1,null,null,-1.3,-1.8,12.9,8.1,12.9,8.1,-1.3,-1.8]
[2021,10,8,20,44477.833333332877,3,"Valid",-1.9,23.9,"Valid",8.3000000000000007,null,null,3,-1.9,23.9,8.3000000000000007,23.9,8.3000000000000007,3,-1.9]
[2021,10,8,21,44477.874999999542,12.3,"Valid",-1.2,38.5,"Valid",9.1,null,null,12.3,-1.2,38.5,9.1,38.5,9.1,12.3,-1.2]
[2021,10,8,22,44477.916666666206,3.2,"Valid",-1.2,15.8,"Valid",9,null,null,3.2,-1.2,15.8,9,15.8,9,3.2,-1.2]
[2021,10,8,23,44477.95833333287,-1.1000000000000001,"Valid",-1.2,13.9,"Valid",9.4,null,null,-1.1000000000000001,-1.2,13.9,9.4,13.9,9.4,-1.1000000000000001,-1.2]
[2021,10,9,0,44477.999999999534,2.8,"Valid",-0.8,11,"Valid",9.6999999999999993,null,null,2.8,-0.8,11,9.6999999999999993,11,9.6999999999999993,2.8,-0.8]
[2021,10,9,1,44478.041666666199,5.6,"Valid",-0.5,13.3,"Valid",10.1,null,null,5.6,-0.5,13.3,10.1,13.3,10.1,5.6,-0.5]
[{"$f":"A195","v":2021},10,9,{"$f":"IF(D195=23,0,D195+1)","v":2},{"$f":"E195+0.0416666666666666","v":44478.083333332863},7.2,"Valid",-0.1,17,"Valid",10.7,null,null,7.2,-0.1,17,10.7,17,10.7,7.2,-0.1]
[2021,10,9,3,44478.124999999527,-1.5,"Valid",-0.1,7.2,"Valid",10.8,null,null,-1.5,-0.1,7.2,10.8,7.2,10.8,-1.5,-0.1]
[2021,10,9,4,44478.166666666191,6,"Valid",0.2,13.6,"Valid",11.3,null,null,6,0.2,13.6,11.3,13.6,11.3,6,0.2]
[2021,10,9,5,44478.208333332856,6.2,"Valid",2,14.7,"Valid",13.2,null,null,6.2,2,14.7,13.2,14.7,13.2,6.2,2]
[2021,10,9,6,44478.24999999952,-2.6,"Valid",1.6,6.8,"Valid",12.9,null,null,-2.6,1.6,6.8,12.9,6.8,12.9,-2.6,1.6]
[2021,10,9,7,44478.291666666184,-4.4000000000000004,"Valid",1.1000000000000001,6.4,"Valid",12.6,null,null,-4.4000000000000004,1.1000000000000001,6.4,12.6,6.4,12.6,-4.4000000000000004,1.1000000000000001]
[2021,10,9,8,44478.333333332848,3.3,"Valid",1.3,13,"Valid",12.8,null,null,3.3,1.3,13,12.8,13,12.8,3.3,1.3]
[2021,10,9,9,44478.374999999513,0.4,"Valid",1.3,10.4,"Valid",12.5,null,null,0.4,1.3,10.4,12.5,10.4,12.5,0.4,1.3]
[2021,10,9,10,44478.416666666177,5,"Valid",1.5,22.4,"Valid",13.3,null,null,5,1.5,22.4,13.3,22.4,13.3,5,1.5]
[2021,10,9,11,44478.458333332841,6.9,"Valid",1.9,17.5,"Valid",13.9,null,null,6.9,1.9,17.5,13.9,17.5,13.9,6.9,1.9]
[2021,10,9,12,44478.499999999505,-0.6,"Valid",1.9,10.1,"Valid",14,null,null,{"$f":"IF(G206=\"Valid\", F206, NA())","v":-0.6},{"$f":"IF(G206=\"Valid\", H206, NA())","v":1.9},{"$f":"IF(J206=\"Valid\", I206, NA())","v":10.1},{"$f":"IF(J206=\"Valid\", K206, NA())","v":14},10.1,14,-0.6,1.9]
[2021,10,9,13,44478.541666666169,3.9,"Valid",2.1,13.5,"Valid",14.4,null,null,3.9,2.1,13.5,14.4,13.5,14.4,3.9,2.1]
[2021,10,9,14,44478.583333332834,4.8,"Valid",2.1,14.6,"Valid",14.2,null,null,4.8,2.1,14.6,14.2,14.6,14.2,4.8,2.1]
[2021,10,9,15,44478.624999999498,1.2,"Valid",2.2999999999999998,8.6,"Valid",14.2,null,null,1.2,2.2999999999999998,8.6,14.2,8.6,14.2,1.2,2.2999999999999998]
[2021,10,9,16,44478.666666666162,0.8,"Valid",2.2999999999999998,7.7,"Valid",14,null,null,0.8,2.2999999999999998,7.7,14,7.7,14,0.8,2.2999999999999998]
[2021,10,9,17,44478.708333332826,0.8,"Valid",2.8,9,"Valid",14.4,null,null,0.8,2.8,9,14.4,9,14.4,0.8,2.8]
[2021,10,9,18,44478.749999999491,5.7,"Valid",2.9,12.8,"Valid",14.4,null,null,5.7,2.9,12.8,14.4,12.8,14.4,5.7,2.9]
[2021,10,9,19,44478.791666666155,0.3,"Valid",3,12.7,"Valid",14.3,null,null,0.3,3,12.7,14.3,12.7,14.3,0.3,3]
[2021,10,9,20,44478.833333332819,4.8,"Valid",3,23,"Valid",14.1,null,null,4.8,3,23,14.1,23,14.1,4.8,3]
[2021,10,9,21,44478.874999999483,4.4000000000000004,"Valid",2.7,23.6,"Valid",13.4,null,null,4.4000000000000004,2.7,23.6,13.4,23.6,13.4,4.4000000000000004,2.7]
[2021,10,9,22,44478.916666666148,2.2999999999999998,"Valid",2.6,8.5,"Valid",13.1,null,null,2.2999999999999998,2.6,8.5,13.1,8.5,13.1,2.2999999999999998,2.6]
[2021,10,9,23,44478.958333332812,1.5,"Valid",2.7,4.9000000000000004,"Valid",12.6,null,null,1.5,2.7,4.9000000000000004,12.6,4.9000000000000004,12.6,1.5,2.7]
[2021,10,10,0,44478.999999999476,3.9,"Valid",2.8,10,"Valid",12.6,null,null,3.9,2.8,10,12.6,10,12.6,3.9,2.8]
[2021,{"$f":"B218","v":10},{"$f":"C195+1","v":10},1,44479.04166666614,5.6,"Valid",2.7,11.6,"Valid",12.5,null,null,5.6,2.7,11.6,12.5,11.6,12.5,5.6,2.7]
[2021,10,10,2,44479.083333332805,1.1000000000000001,"Valid",2.5,6.5,"Valid",12,null,null,1.1000000000000001,2.5,6.5,12,6.5,12,1.1000000000000001,2.5]
[2021,10,10,3,44479.124999999469,0.8,"Valid",2.6,6.4,"Valid",12,null,null,0.8,2.6,6.4,12,6.4,12,0.8,2.6]
[2021,10,10,4,44479.166666666133,0.9,"Valid",2.4,6,"Valid",11.6,null,null,0.9,2.4,6,11.6,6,11.6,0.9,2.4]
[2021,10,10,5,44479.208333332797,1.3,"Valid",2.2000000000000002,6.2,"Valid",11.3,null,null,1.3,2.2000000000000002,6.2,11.3,6.2,11.3,1.3,2.2000000000000002]
[2021,10,10,6,44479.249999999462,2.7,"Valid",2.4,9.9,"Valid",11.4,null,null,2.7,2.4,9.9,11.4,9.9,11.4,2.7,2.4]
[2021,10,10,7,44479.291666666126,-3.4,"Valid",2.4,6.1,"Valid",11.4,null,null,-3.4,2.4,6.1,11.4,6.1,11.4,-3.4,2.4]
[2021,10,10,8,44479.33333333279,5.9,"Valid",2.5,15.1,"Valid",11.5,null,null,5.9,2.5,15.1,11.5,15.1,11.5,5.9,2.5]
[2021,10,10,9,44479.374999999454,9.8000000000000007,"Valid",2.9,20.3,"Valid",12,null,null,9.8000000000000007,2.9,20.3,12,20.3,12,9.8000000000000007,2.9]
[2021,10,10,10,44479.416666666119,8.6999999999999993,"Valid",3.1,19.8,"Valid",11.9,null,null,8.6999999999999993,3.1,19.8,11.9,19.8,11.9,8.6999999999999993,3.1]
[2021,10,10,11,44479.458333332783,10.5,"Valid",3.3,25.5,"Valid",12.3,null,null,10.5,3.3,25.5,12.3,25.5,12.3,10.5,3.3]
[2021,10,10,12,44479.499999999447,8,"Valid",3.6,22.6,"Valid",12.9,null,null,8,3.6,22.6,12.9,22.6,12.9,8,3.6]
[2021,10,10,13,44479.541666666111,8.4,"Valid",3.8,27.3,"Valid",13.5,null,null,8.4,3.8,27.3,13.5,27.3,13.5,8.4,3.8]
[2021,10,10,14,44479.583333332776,5.0999999999999996,"Valid",3.9,26.8,"Valid",14,null,null,5.0999999999999996,3.9,26.8,14,26.8,14,5.0999999999999996,3.9]
[2021,10,10,15,44479.62499999944,11.8,"Valid",4.3,28.1,"Valid",14.7,null,null,11.8,4.3,28.1,14.7,28.1,14.7,11.8,4.3]
[2021,10,10,16,44479.666666666104,4.7,"Valid",4.4000000000000004,18.600000000000001,"Valid",15.2,null,null,4.7,4.4000000000000004,18.600000000000001,15.2,18.600000000000001,15.2,4.7,4.4000000000000004]
[2021,10,10,17,44479.708333332768,6,"Valid",4.5999999999999996,19.2,"Valid",15.6,null,null,6,4.5999999999999996,19.2,15.6,19.2,15.6,6,4.5999999999999996]
[2021,10,10,18,44479.749999999432,7.6,"Valid",4.5999999999999996,20.2,"Valid",15.5,null,null,7.6,4.5999999999999996,20.2,15.5,20.2,15.5,7.6,4.5999999999999996]
[2021,10,10,19,44479.791666666097,9.9,"Valid",5,14.2,"Valid",15.5,null,null,9.9,5,14.2,15.5,14.2,15.5,9.9,5]
[2021,10,10,20,44479.833333332761,6,"Valid",5,11.2,"Valid",15.1,null,null,6,5,11.2,15.1,11.2,15.1,6,5]
[2021,10,10,21,44479.874999999425,4.9000000000000004,"Valid",5.0999999999999996,9.6,"Valid",14.5,null,null,4.9000000000000004,5.0999999999999996,9.6,14.5,9.6,14.5,4.9000000000000004,5.0999999999999996]
[2021,10,10,22,44479.916666666089,4.8,"Valid",5.2,9.3000000000000007,"Valid",14.5,null,null,4.8,5.2,9.3000000000000007,14.5,9.3000000000000007,14.5,4.8,5.2]
[2021,10,10,23,44479.958333332754,0.7,"Valid",5.0999999999999996,2.8,"Valid",14.3,null,null,0.7,5.0999999999999996,2.8,14.3,2.8,14.3,0.7,5.0999999999999996]
[2021,10,11,0,44479.999999999418,2.2999999999999998,"Valid",5,4.4000000000000004,"Valid",14.1,null,null,2.2999999999999998,5,4.4000000000000004,14.1]
[2021,10,11,1,44480.041666666082,1.1000000000000001,"Valid",4.8,3.1,"Valid",13.7,null,null,1.1000000000000001,4.8,3.1,13.7]
[2021,10,11,2,44480.083333332746,1.8,"Valid",4.9000000000000004,3.5,"Valid",13.6,null,null,1.8,4.9000000000000004,3.5,13.6]
[2021,10,11,3,44480.124999999411,0.7,"Valid",4.9000000000000004,1.6,"Valid",13.4,null,null,0.7,4.9000000000000004,1.6,13.4]
[2021,10,11,4,44480.166666666075,4.2,"Valid",5,5.3,"Valid",13.4,null,null,4.2,5,5.3,13.4]
[2021,10,11,5,44480.208333332739,-3.1,"Valid",4.8,-1.8,"Valid",13,null,null,-3.1,4.8,-1.8,13]
[2021,10,11,6,44480.249999999403,1.5,"Valid",4.8,3.1,"Valid",12.8,null,null,1.5,4.8,3.1,12.8]
[2021,10,11,7,44480.291666666068,3.7,"Valid",5.0999999999999996,5.2,"Valid",12.7,null,null,3.7,5.0999999999999996,5.2,12.7]
[2021,10,11,8,44480.333333332732,-6,"Valid",4.5999999999999996,-4.4000000000000004,"Valid",11.9,null,null,-6,4.5999999999999996,-4.4000000000000004,11.9]
[2021,10,11,9,44480.374999999396,-6.2,"Valid",3.9,-5.0999999999999996,"Valid",10.9,null,null,-6.2,3.9,-5.0999999999999996,10.9]
[2021,10,11,10,44480.41666666606,-0.8,"Valid",3.5,0.9,"Valid",10.199999999999999,null,null,-0.8,3.5,0.9,10.199999999999999]
[2021,10,11,11,44480.458333332725,-0.9,"Valid",3.1,0.9,"Valid",9.1999999999999993,null,null,-0.9,3.1,0.9,9.1999999999999993]
[2021,10,11,12,44480.499999999389,1.6,"Valid",2.9,3.1,"Valid",8.5,null,null,1.6,2.9,3.1,8.5]
[2021,10,11,13,44480.541666666053,-0.4,"Valid",2.5,0.7,"Valid",7.4,null,null,-0.4,2.5,0.7,7.4]
[2021,10,11,14,44480.583333332717,7.9,"Valid",2.6,9,"Valid",6.7,null,null,7.9,2.6,9,6.7]
[2021,10,11,15,44480.624999999382,3,"Valid",2.2999999999999998,5.0999999999999996,"Valid",5.8,null,null,3,2.2999999999999998,5.0999999999999996,5.8]
[2021,10,11,16,44480.666666666046,9,"Valid",2.5,10.9,"Valid",5.5,null,null,9,2.5,10.9,5.5]
[2021,10,11,17,44480.70833333271,1.7,"Valid",2.2999999999999998,4,"Valid",4.9000000000000004,null,null,1.7,2.2999999999999998,4,4.9000000000000004]
[{"$f":"A259","v":2021},10,11,{"$f":"IF(D259=23,0,D259+1)","v":18},{"$f":"E259+0.0416666666666666","v":44480.749999999374},-1.1000000000000001,"Valid",1.9,0.3,"Valid",4,null,null,-1.1000000000000001,1.9,0.3,4]
[2021,10,11,19,44480.791666666039,-0.2,"Valid",1.5,1.5,"Valid",3.5,null,null,-0.2,1.5,1.5,3.5]
[2021,10,11,20,44480.833333332703,2.2000000000000002,"Valid",1.3,3.6,"Valid",3.1,null,null,2.2000000000000002,1.3,3.6,3.1]
[2021,10,11,21,44480.874999999367,-0.5,"Valid",1.1000000000000001,0.7,"Valid",2.8,null,null,-0.5,1.1000000000000001,0.7,2.8]
[2021,10,11,22,44480.916666666031,2,"Valid",1,2.9,"Valid",2.5,null,null,2,1,2.9,2.5]
[2021,10,11,23,44480.958333332695,-3.1,"Valid",0.8,-1.9,"Valid",2.2999999999999998,null,null,-3.1,0.8,-1.9,2.2999999999999998]
[2021,10,12,0,44480.99999999936,2.7,"Valid",0.9,3.5,"Valid",2.2999999999999998,null,null,2.7,0.9,3.5,2.2999999999999998]
[2021,10,12,1,44481.041666666024,0.4,"Valid",0.8,1.5,"Valid",2.2000000000000002,null,null,0.4,0.8,1.5,2.2000000000000002]
[2021,10,12,2,44481.083333332688,-3.6,"Valid",0.6,-2,"Valid",2,null,null,-3.6,0.6,-2,2]
[2021,10,12,3,44481.124999999352,-2.8,"Valid",0.4,-0.9,"Valid",1.9,null,null,-2.8,0.4,-0.9,1.9]
[2021,10,12,4,44481.166666666017,-1.4,"Valid",0.2,-0.2,"Valid",1.7,null,null,{"$f":"IF(G270=\"Valid\", F270, NA())","v":-1.4},{"$f":"IF(G270=\"Valid\", H270, NA())","v":0.2},{"$f":"IF(J270=\"Valid\", I270, NA())","v":-0.2},{"$f":"IF(J270=\"Valid\", K270, NA())","v":1.7}]
[2021,10,12,5,44481.208333332681,-4.7,"Valid",0.2,-3.1,"Valid",1.6,null,null,-4.7,0.2,-3.1,1.6]
[2021,10,12,6,44481.249999999345,-1.1000000000000001,"Valid",0.1,0.1,"Valid",1.5,null,null,-1.1000000000000001,0.1,0.1,1.5]
[2021,10,12,7,44481.291666666009,-4.9000000000000004,"Valid",-0.3,-3.6,"Valid",1.1000000000000001,null,null,-4.9000000000000004,-0.3,-3.6,1.1000000000000001]
[2021,10,12,8,44481.333333332674,-2.6,"Valid",-0.2,-1.1000000000000001,"Valid",1.3,null,null,-2.6,-0.2,-1.1000000000000001,1.3]
[2021,10,12,9,44481.374999999338,1.3,"Valid",0.1,3.2,"Valid",1.6,null,null,1.3,0.1,3.2,1.6]
[2021,10,12,10,44481.416666666002,-3.3,"Valid",0.1,-1.4,"Valid",1.5,null,null,-3.3,0.1,-1.4,1.5]
[2021,10,12,11,44481.458333332666,-0.4,"Valid",0.1,1.3,"Valid",1.6,null,null,-0.4,0.1,1.3,1.6]
[2021,10,12,12,44481.499999999331,-1.3,"Valid",-0.1,0.6,"Valid",1.4,null,null,-1.3,-0.1,0.6,1.4]
[2021,10,12,13,44481.541666665995,-2.9,"Valid",-0.2,-0.9,"Valid",1.4,null,null,-2.9,-0.2,-0.9,1.4]
[2021,10,12,14,44481.583333332659,-5.2,"Valid",-0.7,-4,"Valid",0.8,null,null,-5.2,-0.7,-4,0.8]
[2021,10,12,15,44481.624999999323,-1.8,"Valid",-0.9,-0.3,"Valid",0.6,null,null,-1.8,-0.9,-0.3,0.6]
[2021,10,12,16,44481.666666665988,-3.7,"Valid",-1.4,-0.5,"Valid",0.1,null,null,-3.7,-1.4,-0.5,0.1]
[2021,{"$f":"B282","v":10},{"$f":"C259+1","v":12},17,44481.708333332652,3.8,"Valid",-1.3,5.7,"Valid",0.2,null,null,3.8,-1.3,5.7,0.2]
[2021,10,12,18,44481.749999999316,-1.8,"Valid",-1.4,-0.6,"Valid",0.2,null,null,-1.8,-1.4,-0.6,0.2]
[2021,10,12,19,44481.79166666598,-2.1,"Valid",-1.4,-0.7,"Valid",0.1,null,null,-2.1,-1.4,-0.7,0.1]
[2021,10,12,20,44481.833333332645,-2.5,"Valid",-1.6,-1.1000000000000001,"Valid",-0.1,null,null,-2.5,-1.6,-1.1000000000000001,-0.1]
[2021,10,12,21,44481.874999999309,-6.3,"Valid",-1.9,-4.8,"Valid",-0.3,null,null,-6.3,-1.9,-4.8,-0.3]
[2021,10,12,22,44481.916666665973,-1.5,"Valid",-2,-0.2,"Valid",-0.5,null,null,-1.5,-2,-0.2,-0.5]
[2021,10,12,23,44481.958333332637,2.7,"Valid",-1.8,3.1,"Valid",-0.3,null,null,2.7,-1.8,3.1,-0.3]
[2021,10,13,0,44481.999999999302,1.7,"Valid",-1.8,3,"Valid",-0.3,null,null,1.7,-1.8,3,-0.3]
[2021,10,13,1,44482.041666665966,-1.6,"Valid",-1.9,-0.6,"Valid",-0.4,null,null,-1.6,-1.9,-0.6,-0.4]
[2021,10,13,2,44482.08333333263,-0.5,"Valid",-1.8,0.6,"Valid",-0.3,null,null,-0.5,-1.8,0.6,-0.3]
[2021,10,13,3,44482.124999999294,-3,"Valid",-1.8,-1.9,"Valid",-0.3,null,null,-3,-1.8,-1.9,-0.3]
[2021,10,13,4,44482.166666665958,-1.4,"Valid",-1.8,0,"Valid",-0.3,null,null,-1.4,-1.8,0,-0.3]
[2021,10,13,5,44482.208333332623,0.2,"Valid",-1.6,1.3,"Valid",-0.1,null,null,0.2,-1.6,1.3,-0.1]
[2021,10,13,6,44482.249999999287,-4,"Valid",-1.7,-2.6,"Valid",-0.2,null,null,-4,-1.7,-2.6,-0.2]
[2021,10,13,7,44482.291666665951,-4.8,"Valid",-1.7,-3.6,"Valid",-0.2,null,null,-4.8,-1.7,-3.6,-0.2]
[2021,10,13,8,44482.333333332615,-2.2999999999999998,"Valid",-1.7,-0.9,"Valid",-0.2,null,null,-2.2999999999999998,-1.7,-0.9,-0.2]
[2021,10,13,9,44482.37499999928,-2.6,"Valid",-1.9,-1.2,"Valid",-0.4,null,null,-2.6,-1.9,-1.2,-0.4]
[2021,10,13,10,44482.416666665944,-5,"Valid",-1.9,-2.2999999999999998,"Valid",-0.4,null,null,-5,-1.9,-2.2999999999999998,-0.4]
[2021,10,13,11,44482.458333332608,-1.5,"Valid",-2,0.7,"Valid",-0.5,null,null,-1.5,-2,0.7,-0.5]
[2021,10,13,12,44482.499999999272,2.2999999999999998,"Valid",-1.9,4.4000000000000004,"Valid",-0.3,null,null,2.2999999999999998,-1.9,4.4000000000000004,-0.3]
[2021,10,13,13,44482.541666665937,-1,"Valid",-1.8,0.8,"Valid",-0.2,null,null,-1,-1.8,0.8,-0.2]
[2021,10,13,14,44482.583333332601,-1.9,"Valid",-1.7,-0.1,"Valid",-0.1,null,null,-1.9,-1.7,-0.1,-0.1]
[2021,10,13,15,44482.624999999265,9.4,"Valid",-1.2,11,"Valid",0.4,null,null,9.4,-1.2,11,0.4]
[2021,10,13,16,44482.666666665929,-1,"Valid",-1.1000000000000001,2,"Valid",0.5,null,null,-1,-1.1000000000000001,2,0.5]
[2021,10,13,17,44482.708333332594,11.4,"Valid",-0.8,13.6,"Valid",0.8,null,null,11.4,-0.8,13.6,0.8]
[2021,10,13,18,44482.749999999258,-5.3,"Valid",-0.9,-3.3,"Valid",0.7,null,null,-5.3,-0.9,-3.3,0.7]
[2021,10,13,19,44482.791666665922,0.7,"Valid",-0.8,2.5,"Valid",0.8,null,null,0.7,-0.8,2.5,0.8]
[2021,10,13,20,44482.833333332586,0.5,"Valid",-0.6,2.1,"Valid",1,null,null,0.5,-0.6,2.1,1]
[2021,10,13,21,44482.874999999251,-0.8,"Valid",-0.4,0.8,"Valid",1.2,null,null,-0.8,-0.4,0.8,1.2]
[2021,10,13,22,44482.916666665915,-1.9,"Valid",-0.4,-0.5,"Valid",1.2,null,null,-1.9,-0.4,-0.5,1.2]
[2021,10,13,23,44482.958333332579,-2,"Valid",-0.6,-0.6,"Valid",1,null,null,-2,-0.6,-0.6,1]
[2021,10,14,0,44482.999999999243,-1.2,"Valid",-0.8,0.5,"Valid",0.9,null,null,-1.2,-0.8,0.5,0.9]
[2021,10,14,1,44483.041666665908,0.7,"Valid",-0.7,2.6,"Valid",1.1000000000000001,null,null,0.7,-0.7,2.6,1.1000000000000001]
[2021,10,14,2,44483.083333332572,2.4,"Valid",-0.5,3.6,"Valid",1.2,null,null,2.4,-0.5,3.6,1.2]
[2021,10,14,3,44483.124999999236,-2.8,"Valid",-0.5,-1.6,"Valid",1.2,null,null,-2.8,-0.5,-1.6,1.2]
[2021,10,14,4,44483.1666666659,0.2,"Valid",-0.5,2.1,"Valid",1.3,null,null,0.2,-0.5,2.1,1.3]
[2021,10,14,5,44483.208333332565,-1.3,"Valid",-0.5,0,"Valid",1.2,null,null,-1.3,-0.5,0,1.2]
[2021,10,14,6,44483.249999999229,-2.4,"Valid",-0.4,-1.3,"Valid",1.3,null,null,-2.4,-0.4,-1.3,1.3]
[2021,10,14,7,44483.291666665893,-3.4,"Valid",-0.4,-1.5,"Valid",1.4,null,null,-3.4,-0.4,-1.5,1.4]
[2021,10,14,8,44483.333333332557,0.1,"Valid",-0.3,1.6,"Valid",1.5,null,null,0.1,-0.3,1.6,1.5]
[2021,10,14,9,44483.374999999221,2.6,"Valid",-0.1,4.0999999999999996,"Valid",1.7,null,null,2.6,-0.1,4.0999999999999996,1.7]
[{"$f":"A323","v":2021},10,14,{"$f":"IF(D323=23,0,D323+1)","v":10},{"$f":"E323+0.0416666666666666","v":44483.416666665886},-4.2,"Valid",0,-2.1,"Valid",1.7,null,null,-4.2,0,-2.1,1.7]
[2021,10,14,11,44483.45833333255,-3.9,"Valid",-0.1,-0.5,"Valid",1.7,null,null,-3.9,-0.1,-0.5,1.7]
[2021,10,14,12,44483.499999999214,-3.1,"Valid",-0.4,0.5,"Valid",1.5,null,null,-3.1,-0.4,0.5,1.5]
[2021,10,14,13,44483.541666665878,3.4,"Valid",-0.2,6.9,"Valid",1.8,null,null,3.4,-0.2,6.9,1.8]
[2021,10,14,14,44483.583333332543,0.1,"Valid",-0.1,4.7,"Valid",2,null,null,0.1,-0.1,4.7,2]
[2021,10,14,15,44483.624999999207,1.4,"Valid",-0.4,5.3,"Valid",1.8,null,null,1.4,-0.4,5.3,1.8]
[2021,10,14,16,44483.666666665871,-1.9,"Valid",-0.5,3,"Valid",1.8,null,null,-1.9,-0.5,3,1.8]
[2021,10,14,17,44483.708333332535,4.5,"Valid",-0.8,8.1999999999999993,"Valid",1.6,null,null,4.5,-0.8,8.1999999999999993,1.6]
[2021,10,14,18,44483.7499999992,-4,"Valid",-0.7,1.4,"Valid",1.8,null,null,-4,-0.7,1.4,1.8]
[2021,10,14,19,44483.791666665864,10.3,"Valid",-0.3,14.5,"Valid",2.2000000000000002,null,null,10.3,-0.3,14.5,2.2000000000000002]
[2021,10,14,20,44483.833333332528,0.9,"Valid",-0.3,5.9,"Valid",2.4,null,null,{"$f":"IF(G334=\"Valid\", F334, NA())","v":0.9},{"$f":"IF(G334=\"Valid\", H334, NA())","v":-0.3},{"$f":"IF(J334=\"Valid\", I334, NA())","v":5.9},{"$f":"IF(J334=\"Valid\", K334, NA())","v":2.4}]
[2021,10,14,21,44483.874999999192,2.2000000000000002,"Valid",-0.1,7,"Valid",2.6,null,null,2.2000000000000002,-0.1,7,2.6]
[2021,10,14,22,44483.916666665857,2.8,"Valid",0.1,8.6,"Valid",3,null,null,2.8,0.1,8.6,3]
[2021,10,14,23,44483.958333332521,-0.2,"Valid",0.1,7.7,"Valid",3.4,null,null,-0.2,0.1,7.7,3.4]
[2021,10,15,0,44483.999999999185,-0.1,"Valid",0.2,8.4,"Valid",3.7,null,null,-0.1,0.2,8.4,3.7]
[2021,10,15,1,44484.041666665849,2.7,"Valid",0.3,10.4,"Valid",4,null,null,2.7,0.3,10.4,4]
[2021,10,15,2,44484.083333332514,0.4,"Valid",0.2,9,"Valid",4.2,null,null,0.4,0.2,9,4.2]
[2021,10,15,3,44484.124999999178,7.9,"Valid",0.6,14.9,"Valid",4.8,null,null,7.9,0.6,14.9,4.8]
[2021,10,15,4,44484.166666665842,2.8,"Valid",0.7,10.3,"Valid",5.2,null,null,2.8,0.7,10.3,5.2]
[2021,10,15,5,44484.208333332506,3.1,"Valid",0.9,8.6999999999999993,"Valid",5.6,null,null,3.1,0.9,8.6999999999999993,5.6]
[2021,10,15,6,44484.249999999171,0.2,"Valid",1,5.6,"Valid",5.8,null,null,0.2,1,5.6,5.8]
[2021,10,15,7,44484.291666665835,-1.9,"Valid",1.1000000000000001,5.2,"Valid",6.1,null,null,-1.9,1.1000000000000001,5.2,6.1]
[2021,10,15,8,44484.333333332499,-3.3,"Valid",0.9,3.1,"Valid",6.2,null,null,-3.3,0.9,3.1,6.2]
[2021,{"$f":"B346","v":10},{"$f":"C323+1","v":15},9,44484.374999999163,-0.3,"Valid",0.8,13.7,"Valid",6.6,null,null,-0.3,0.8,13.7,6.6]
[2021,10,15,10,44484.416666665828,5,"Valid",1.2,22.4,"Valid",7.7,null,null,5,1.2,22.4,7.7]
[2021,10,15,11,44484.458333332492,0.3,"Valid",1.4,20.2,"Valid",8.6,null,null,0.3,1.4,20.2,8.6]
[2021,10,15,12,44484.499999999156,5.3,"Valid",1.7,49.7,"Valid",10.6,null,null,5.3,1.7,49.7,10.6]
[2021,10,15,13,44484.54166666582,0.4,"Valid",1.6,44.7,"Valid",12.2,null,null,0.4,1.6,44.7,12.2]
[2021,10,15,14,44484.583333332484,2.9,"Valid",1.7,52.3,"Valid",14.2,null,null,2.9,1.7,52.3,14.2]
[2021,10,15,15,44484.624999999149,7.5,"Valid",2,37.9,"Valid",15.5,null,null,7.5,2,37.9,15.5]
[2021,10,15,16,44484.666666665813,2.5,"Valid",2.2000000000000002,13.1,"Valid",15.9,null,null,2.5,2.2000000000000002,13.1,15.9]
[2021,10,15,17,44484.708333332477,0.2,"Valid",2,9.1,"Valid",15.9,null,null,0.2,2,9.1,15.9]
[2021,10,15,18,44484.749999999141,5,"Valid",2.2999999999999998,12.5,"Valid",16.3,null,null,5,2.2999999999999998,12.5,16.3]
[2021,10,15,19,44484.791666665806,1,"Valid",1.9,5,"Valid",15.9,null,null,1,1.9,5,15.9]
[2021,10,15,20,44484.83333333247,-2.9,"Valid",1.7,0.6,"Valid",15.3,null,null,-2.9,1.7,0.6,15.3]
[2021,10,15,21,44484.874999999134,1,"Valid",1.7,2.5,"Valid",15.2,null,null,1,1.7,2.5,15.2]
[2021,10,15,22,44484.916666665798,5.3,"Valid",1.8,5.9,"Valid",15.1,null,null,5.3,1.8,5.9,15.1]
[2021,10,15,23,44484.958333332463,-3,"Valid",1.7,-1.9,"Valid",14.6,null,null,-3,1.7,-1.9,14.6]
[2021,10,16,0,44484.999999999127,-2.1,"Valid",1.6,-0.9,"Valid",14.3,null,null,-2.1,1.6,-0.9,14.3]
[2021,10,16,1,44485.041666665791,2.6,"Valid",1.6,3.4,"Valid",14,null,null,2.6,1.6,3.4,14]
[2021,10,16,2,44485.083333332455,4.8,"Valid",1.8,5,"Valid",13.8,null,null,4.8,1.8,5,13.8]
[2021,10,16,3,44485.12499999912,-0.3,"Valid",1.5,0.3,"Valid",13.2,null,null,-0.3,1.5,0.3,13.2]
[2021,10,16,4,44485.166666665784,5.4,"Valid",1.6,5.9,"Valid",13,null,null,5.4,1.6,5.9,13]
[2021,10,16,5,44485.208333332448,2.4,"Valid",1.5,3.3,"Valid",12.8,null,null,2.4,1.5,3.3,12.8]
[2021,10,16,6,44485.249999999112,2.1,"Valid",1.6,3.1,"Valid",12.7,null,null,2.1,1.6,3.1,12.7]
[2021,10,16,7,44485.291666665777,-1,"Valid",1.7,0.1,"Valid",12.5,null,null,-1,1.7,0.1,12.5]
[2021,10,16,8,44485.333333332441,2,"Valid",1.9,2.9,"Valid",12.6,null,null,2,1.9,2.9,12.6]
[2021,10,16,9,44485.374999999105,3.3,"Valid",2,4.7,"Valid",12.3,null,null,3.3,2,4.7,12.3]
[2021,10,16,10,44485.416666665769,2.9,"Valid",2,4.8,"Valid",11.6,null,null,2.9,2,4.8,11.6]
[2021,10,16,11,44485.458333332434,-2.2000000000000002,"Valid",1.9,0.8,"Valid",10.9,null,null,-2.2000000000000002,1.9,0.8,10.9]
[2021,10,16,12,44485.499999999098,-3.6,"Valid",1.5,0.3,"Valid",9,null,null,-3.6,1.5,0.3,9]
[2021,10,16,13,44485.541666665762,0.9,"Valid",1.5,5.6,"Valid",7.4,null,null,0.9,1.5,5.6,7.4]
[2021,10,16,14,44485.583333332426,2.5,"Valid",1.5,7.1,"Valid",5.5,null,null,2.5,1.5,7.1,5.5]
[2021,10,16,15,44485.624999999091,2.9,"Valid",1.3,6.6,"Valid",4.2,null,null,2.9,1.3,6.6,4.2]
[2021,10,16,16,44485.666666665755,2.9,"Valid",1.4,5.3,"Valid",3.9,null,null,2.9,1.4,5.3,3.9]
[2021,10,16,17,44485.708333332419,2.2000000000000002,"Valid",1.4,3.7,"Valid",3.7,null,null,2.2000000000000002,1.4,3.7,3.7]
[2021,10,16,18,44485.749999999083,5.4,"Valid",1.5,8.6999999999999993,"Valid",3.5,null,null,5.4,1.5,8.6999999999999993,3.5]
[2021,10,16,19,44485.791666665747,2.8,"Valid",1.5,5.5,"Valid",3.5,null,null,2.8,1.5,5.5,3.5]
[2021,10,16,20,44485.833333332412,3.1,"Valid",1.8,6,"Valid",3.7,null,null,3.1,1.8,6,3.7]
[2021,10,16,21,44485.874999999076,0.8,"Valid",1.7,3.8,"Valid",3.7,null,null,0.8,1.7,3.8,3.7]
[2021,10,16,22,44485.91666666574,2.6,"Valid",1.6,5.4,"Valid",3.7,null,null,2.6,1.6,5.4,3.7]
[2021,10,16,23,44485.958333332404,8.6,"Valid",2.1,10.3,"Valid",4.2,null,null,8.6,2.1,10.3,4.2]
[2021,10,17,0,44485.999999999069,1.5,"Valid",2.2999999999999998,3.6,"Valid",4.4000000000000004,null,null,1.5,2.2999999999999998,3.6,4.4000000000000004]
[2021,10,17,1,44486.041666665733,1.1000000000000001,"Valid",2.2000000000000002,2.8,"Valid",4.3,null,null,1.1000000000000001,2.2000000000000002,2.8,4.3]
[{"$f":"A387","v":2021},10,17,{"$f":"IF(D387=23,0,D387+1)","v":2},{"$f":"E387+0.0416666666666666","v":44486.083333332397},2.6,"Valid",2.1,4.4000000000000004,"Valid",4.3,null,null,2.6,2.1,4.4000000000000004,4.3]
[2021,10,17,3,44486.124999999061,6.4,"Valid",2.4,7.2,"Valid",4.5999999999999996,null,null,6.4,2.4,7.2,4.5999999999999996]
[2021,10,17,4,44486.166666665726,5.9,"Valid",2.4,6.7,"Valid",4.5999999999999996,null,null,5.9,2.4,6.7,4.5999999999999996]
[2021,10,17,5,44486.20833333239,8.9,"Valid",2.6,10,"Valid",4.9000000000000004,null,null,8.9,2.6,10,4.9000000000000004]
[2021,10,17,6,44486.249999999054,5.5,"Valid",2.8,6.7,"Valid",5,null,null,5.5,2.8,6.7,5]
[2021,10,17,7,44486.291666665718,1.9,"Valid",2.9,3.6,"Valid",5.2,null,null,1.9,2.9,3.6,5.2]
[2021,10,17,8,44486.333333332383,7.3,"Valid",3.2,7.9,"Valid",5.5,null,null,7.3,3.2,7.9,5.5]
[2021,10,17,9,44486.374999999047,2.7,"Valid",3.2,5,"Valid",5.5,null,null,2.7,3.2,5,5.5]
[2021,10,17,10,44486.416666665711,9.6999999999999993,"Valid",3.5,10.8,"Valid",5.8,null,null,9.6999999999999993,3.5,10.8,5.8]
[2021,10,17,11,44486.458333332375,4.0999999999999996,"Valid",3.8,6.7,"Valid",6.1,null,null,4.0999999999999996,3.8,6.7,6.1]
[2021,10,17,12,44486.49999999904,4,"Valid",4.0999999999999996,5.8,"Valid",6.3,null,null,{"$f":"IF(G398=\"Valid\", F398, NA())","v":4},{"$f":"IF(G398=\"Valid\", H398, NA())","v":4.0999999999999996},{"$f":"IF(J398=\"Valid\", I398, NA())","v":5.8},{"$f":"IF(J398=\"Valid\", K398, NA())","v":6.3}]
[2021,10,17,13,44486.541666665704,2.1,"Valid",4.0999999999999996,4.8,"Valid",6.3,null,null,2.1,4.0999999999999996,4.8,6.3]
[2021,10,17,14,44486.583333332368,-1.5,"Valid",4,0.6,"Valid",6.1,null,null,-1.5,4,0.6,6.1]
[2021,10,17,15,44486.624999999032,-2.8,"Valid",3.8,0.2,"Valid",5.8,null,null,-2.8,3.8,0.2,5.8]
[2021,10,17,16,44486.666666665697,-5.4,"Valid",3.4,-2.1,"Valid",5.5,null,null,-5.4,3.4,-2.1,5.5]
[2021,10,17,17,44486.708333332361,-5.0999999999999996,"Valid",3.1,-2,"Valid",5.3,null,null,-5.0999999999999996,3.1,-2,5.3]
[2021,10,17,18,44486.749999999025,1.4,"Valid",2.9,3.5,"Valid",5,null,null,1.4,2.9,3.5,5]
[2021,10,17,19,44486.791666665689,5.8,"Valid",3.1,8.4,"Valid",5.0999999999999996,null,null,5.8,3.1,8.4,5.0999999999999996]
[2021,10,17,20,44486.833333332354,13,"Valid",3.4,14,"Valid",5.4,null,null,13,3.4,14,5.4]
[2021,10,17,21,44486.874999999018,6.5,"Valid",3.6,8.5,"Valid",5.5,null,null,6.5,3.6,8.5,5.5]
[2021,10,17,22,44486.916666665682,6.7,"Valid",3.8,11.1,"Valid",5.8,null,null,6.7,3.8,11.1,5.8]
[2021,10,17,23,44486.958333332346,8.9,"Valid",3.8,10,"Valid",5.8,null,null,8.9,3.8,10,5.8]
[2021,10,18,0,44486.99999999901,null,null,null,null,null,null,null,null,{"$error":"#N/A"},{"$error":"#N/A"},{"$error":"#N/A"},{"$error":"#N/A"}]
[2021,{"$f":"B410","v":10},{"$f":"C387+1","v":18},1,44487.041666665675,null,null,null,null,null,null,null,null,{"$error":"#N/A"},{"$error":"#N/A"},{"$error":"#N/A"},{"$error":"#N/A"}]
[2021,10,18,2,44487.083333332339,null,null,null,null,null,null,null,null,{"$error":"#N/A"},{"$error":"#N/A"},{"$error":"#N/A"},{"$error":"#N/A"}]
[2021,10,18,3,44487.124999999003,null,null,null,null,null,null,null,null,{"$error":"#N/A"},{"$error":"#N/A"},{"$error":"#N/A"},{"$error":"#N/A"}]
[2021,10,18,4,44487.166666665667,null,null,null,null,null,null,null,null,{"$error":"#N/A"},{"$error":"#N/A"},{"$error":"#N/A"},{"$error":"#N/A"}]
[2021,10,18,5,44487.208333332332,null,null,null,null,null,null,null,null,{"$error":"#N/A"},{"$error":"#N/A"},{"$error":"#N/A"},{"$error":"#N/A"}]
[2021,10,18,6,44487.249999998996,null,null,null,null,null,null,null,null,{"$error":"#N/A"},{"$error":"#N/A"},{"$error":"#N/A"},{"$error":"#N/A"}]
[2021,10,18,7,44487.29166666566,null,null,null,null,null,null,null,null,{"$error":"#N/A"},{"$error":"#N/A"},{"$error":"#N/A"},{"$error":"#N/A"}]
[2021,10,18,8,44487.333333332324,null,null,null,null,null,null,null,null,{"$error":"#N/A"},{"$error":"#N/A"},{"$error":"#N/A"},{"$error":"#N/A"}]
[2021,10,18,9,44487.374999998989,null,null,null,null,null,null,null,null,{"$error":"#N/A"},{"$error":"#N/A"},{"$error":"#N/A"},{"$error":"#N/A"}]
[2021,10,18,10,44487.416666665653,null,null,null,null,null,null,null,null,{"$error":"#N/A"},{"$error":"#N/A"},{"$error":"#N/A"},{"$error":"#N/A"}]
[2021,10,18,11,44487.458333332317,null,null,null,null,null,null,null,null,{"$error":"#N/A"},{"$error":"#N/A"},{"$error":"#N/A"},{"$error":"#N/A"}]
[2021,10,18,12,44487.499999998981,null,null,null,null,null,null,null,null,{"$error":"#N/A"},{"$error":"#N/A"},{"$error":"#N/A"},{"$error":"#N/A"}]
[2021,10,18,13,44487.541666665646,null,null,null,null,null,null,null,null,{"$error":"#N/A"},{"$error":"#N/A"},{"$error":"#N/A"},{"$error":"#N/A"}]
[2021,10,18,14,44487.58333333231,null,null,null,null,null,null,null,null,{"$error":"#N/A"},{"$error":"#N/A"},{"$error":"#N/A"},{"$error":"#N/A"}]
[2021,10,18,15,44487.624999998974,null,null,null,null,null,null,null,null,{"$error":"#N/A"},{"$error":"#N/A"},{"$error":"#N/A"},{"$error":"#N/A"}]
[2021,10,18,16,44487.666666665638,null,null,null,null,null,null,null,null,{"$error":"#N/A"},{"$error":"#N/A"},{"$error":"#N/A"},{"$error":"#N/A"}]
[2021,10,18,17,44487.708333332303,null,null,null,null,null,null,null,null,{"$error":"#N/A"},{"$error":"#N/A"},{"$error":"#N/A"},{"$error":"#N/A"}]
[2021,10,18,18,44487.749999998967,null,null,null,null,null,null,null,null,{"$error":"#N/A"},{"$error":"#N/A"},{"$error":"#N/A"},{"$error":"#N/A"}]
[2021,10,18,19,44487.791666665631,null,null,null,null,null,null,null,null,{"$error":"#N/A"},{"$error":"#N/A"},{"$error":"#N/A"},{"$error":"#N/A"}]
[2021,10,18,20,44487.833333332295,null,null,null,null,null,null,null,null,{"$error":"#N/A"},{"$error":"#N/A"},{"$error":"#N/A"},{"$error":"#N/A"}]
[2021,10,18,21,44487.87499999896,null,null,null,null,null,null,null,null,{"$error":"#N/A"},{"$error":"#N/A"},{"$error":"#N/A"},{"$error":"#N/A"}]
[2021,10,18,22,44487.916666665624,null,null,null,null,null,null,null,null,{"$error":"#N/A"},{"$error":"#N/A"},{"$error":"#N/A"},{"$error":"#N/A"}]
[2021,10,18,23,44487.958333332288,null,null,null,null,null,null,null,null,{"$error":"#N/A"},{"$error":"#N/A"},{"$error":"#N/A"},{"$error":"#N/A"}]
[2021,10,19,0,44487.999999998952,null,null,null,null,null,null,null,null,{"$error":"#N/A"},{"$error":"#N/A"},{"$error":"#N/A"},{"$error":"#N/A"}]
[2021,10,19,1,44488.041666665617,null,null,null,null,null,null,null,null,{"$error":"#N/A"},{"$error":"#N/A"},{"$error":"#N/A"},{"$error":"#N/A"}]
[2021,10,19,2,44488.083333332281,null,null,null,null,null,null,null,null,{"$error":"#N/A"},{"$error":"#N/A"},{"$error":"#N/A"},{"$error":"#N/A"}]
[2021,10,19,3,44488.124999998945,null,null,null,null,null,null,null,null,{"$error":"#N/A"},{"$error":"#N/A"},{"$error":"#N/A"},{"$error":"#N/A"}]
[2021,10,19,4,44488.166666665609,null,null,null,null,null,null,null,null,{"$error":"#N/A"},{"$error":"#N/A"},{"$error":"#N/A"},{"$error":"#N/A"}]
[2021,10,19,5,44488.208333332273,null,null,null,null,null,null,null,null,{"$error":"#N/A"},{"$error":"#N/A"},{"$error":"#N/A"},{"$error":"#N/A"}]
[2021,10,19,6,44488.249999998938,null,null,null,null,null,null,null,null,{"$error":"#N/A"},{"$error":"#N/A"},{"$error":"#N/A"},{"$error":"#N/A"}]
[2021,10,19,7,44488.291666665602,null,null,null,null,null,null,null,null,{"$error":"#N/A"},{"$error":"#N/A"},{"$error":"#N/A"},{"$error":"#N/A"}]
[2021,10,19,8,44488.333333332266,null,null,null,null,null,null,null,null,{"$error":"#N/A"},{"$error":"#N/A"},{"$error":"#N/A"},{"$error":"#N/A"}]
[2021,10,19,9,44488.37499999893,null,null,null,null,null,null,null,null,{"$error":"#N/A"},{"$error":"#N/A"},{"$error":"#N/A"},{"$error":"#N/A"}]
[2021,10,19,10,44488.416666665595,null,null,null,null,null,null,null,null,{"$error":"#N/A"},{"$error":"#N/A"},{"$error":"#N/A"},{"$error":"#N/A"}]
[2021,10,19,11,44488.458333332259,null,null,null,null,null,null,null,null,{"$error":"#N/A"},{"$error":"#N/A"},{"$error":"#N/A"},{"$error":"#N/A"}]
[2021,10,19,12,44488.499999998923,null,null,null,null,null,null,null,null,{"$error":"#N/A"},{"$error":"#N/A"},{"$error":"#N/A"},{"$error":"#N/A"}]
[2021,10,19,13,44488.541666665587,null,null,null,null,null,null,null,null,{"$error":"#N/A"},{"$error":"#N/A"},{"$error":"#N/A"},{"$error":"#N/A"}]
[2021,10,19,14,44488.583333332252,null,null,null,null,null,null,null,null,{"$error":"#N/A"},{"$error":"#N/A"},{"$error":"#N/A"},{"$error":"#N/A"}]
[2021,10,19,15,44488.624999998916,null,null,null,null,null,null,null,null,{"$error":"#N/A"},{"$error":"#N/A"},{"$error":"#N/A"},{"$error":"#N/A"}]
[2021,10,19,16,44488.66666666558,null,null,null,null,null,null,null,null,{"$error":"#N/A"},{"$error":"#N/A"},{"$error":"#N/A"},{"$error":"#N/A"}]
[2021,10,19,17,44488.708333332244,null,null,null,null,null,null,null,null,{"$error":"#N/A"},{"$error":"#N/A"},{"$error":"#N/A"},{"$error":"#N/A"}]
[{"$f":"A451","v":2021},10,19,{"$f":"IF(D451=23,0,D451+1)","v":18},{"$f":"E451+0.0416666666666666","v":44488.749999998909},null,null,null,null,null,null,null,null,{"$error":"#N/A"},{"$error":"#N/A"},{"$error":"#N/A"},{"$error":"#N/A"}]
[2021,10,19,19,44488.791666665573,null,null,null,null,null,null,null,null,{"$error":"#N/A"},{"$error":"#N/A"},{"$error":"#N/A"},{"$error":"#N/A"}]
[2021,10,19,20,44488.833333332237,null,null,null,null,null,null,null,null,{"$error":"#N/A"},{"$error":"#N/A"},{"$error":"#N/A"},{"$error":"#N/A"}]
[2021,10,19,21,44488.874999998901,null,null,null,null,null,null,null,null,{"$error":"#N/A"},{"$error":"#N/A"},{"$error":"#N/A"},{"$error":"#N/A"}]
[2021,10,19,22,44488.916666665566,null,null,null,null,null,null,null,null,{"$error":"#N/A"},{"$error":"#N/A"},{"$error":"#N/A"},{"$error":"#N/A"}]
[2021,10,19,23,44488.95833333223,null,null,null,null,null,null,null,null,{"$error":"#N/A"},{"$error":"#N/A"},{"$error":"#N/A"},{"$error":"#N/A"}]
[2021,10,20,0,44488.999999998894,null,null,null,null,null,null,null,null,{"$error":"#N/A"},{"$error":"#N/A"},{"$error":"#N/A"},{"$error":"#N/A"}]
[2021,10,20,1,44489.041666665558,null,null,null,null,null,null,null,null,{"$error":"#N/A"},{"$error":"#N/A"},{"$error":"#N/A"},{"$error":"#N/A"}]
[2021,10,20,2,44489.083333332223,null,null,null,null,null,null,null,null,{"$error":"#N/A"},{"$error":"#N/A"},{"$error":"#N/A"},{"$error":"#N/A"}]
[2021,10,20,3,44489.124999998887,null,null,null,null,null,null,null,null,{"$error":"#N/A"},{"$error":"#N/A"},{"$error":"#N/A"},{"$error":"#N/A"}]
[2021,10,20,4,44489.166666665551,null,null,null,null,null,null,null,null,{"$f":"IF(G462=\"Valid\", F462, NA())","v":{"$error":"#N/A"}},{"$f":"IF(G462=\"Valid\", H462, NA())","v":{"$error":"#N/A"}},{"$f":"IF(J462=\"Valid\", I462, NA())","v":{"$error":"#N/A"}},{"$f":"IF(J462=\"Valid\", K462, NA())","v":{"$error":"#N/A"}}]
[2021,10,20,5,44489.208333332215,null,null,null,null,null,null,null,null,{"$error":"#N/A"},{"$error":"#N/A"},{"$error":"#N/A"},{"$error":"#N/A"}]
[2021,10,20,6,44489.24999999888,null,null,null,null,null,null,null,null,{"$error":"#N/A"},{"$error":"#N/A"},{"$error":"#N/A"},{"$error":"#N/A"}]
[2021,10,20,7,44489.291666665544,null,null,null,null,null,null,null,null,{"$error":"#N/A"},{"$error":"#N/A"},{"$error":"#N/A"},{"$error":"#N/A"}]
[2021,10,20,8,44489.333333332208,null,null,null,null,null,null,null,null,{"$error":"#N/A"},{"$error":"#N/A"},{"$error":"#N/A"},{"$error":"#N/A"}]
[2021,10,20,9,44489.374999998872,null,null,null,null,null,null,null,null,{"$error":"#N/A"},{"$error":"#N/A"},{"$error":"#N/A"},{"$error":"#N/A"}]
[2021,10,20,10,44489.416666665536,null,null,null,null,null,null,null,null,{"$error":"#N/A"},{"$error":"#N/A"},{"$error":"#N/A"},{"$error":"#N/A"}]
[2021,10,20,11,44489.458333332201,null,null,null,null,null,null,null,null,{"$error":"#N/A"},{"$error":"#N/A"},{"$error":"#N/A"},{"$error":"#N/A"}]
[2021,10,20,12,44489.499999998865,null,null,null,null,null,null,null,null,{"$error":"#N/A"},{"$error":"#N/A"},{"$error":"#N/A"},{"$error":"#N/A"}]
[2021,10,20,13,44489.541666665529,null,null,null,null,null,null,null,null,{"$error":"#N/A"},{"$error":"#N/A"},{"$error":"#N/A"},{"$error":"#N/A"}]
[2021,10,20,14,44489.583333332193,null,null,null,null,null,null,null,null,{"$error":"#N/A"},{"$error":"#N/A"},{"$error":"#N/A"},{"$error":"#N/A"}]
[2021,10,20,15,44489.624999998858,null,null,null,null,null,null,null,null,{"$error":"#N/A"},{"$error":"#N/A"},{"$error":"#N/A"},{"$error":"#N/A"}]
[2021,10,20,16,44489.666666665522,null,null,null,null,null,null,null,null,{"$error":"#N/A"},{"$error":"#N/A"},{"$error":"#N/A"},{"$error":"#N/A"}]
[2021,{"$f":"B474","v":10},{"$f":"C451+1","v":20},17,44489.708333332186,null,null,null,null,null,null,null,null,{"$error":"#N/A"},{"$error":"#N/A"},{"$error":"#N/A"},{"$error":"#N/A"}]
[2021,10,20,18,44489.74999999885,null,null,null,null,null,null,null,null,{"$error":"#N/A"},{"$error":"#N/A"},{"$error":"#N/A"},{"$error":"#N/A"}]
[2021,10,20,19,44489.791666665515,null,null,null,null,null,null,null,null,{"$error":"#N/A"},{"$error":"#N/A"},{"$error":"#N/A"},{"$error":"#N/A"}]
[2021,10,20,20,44489.833333332179,null,null,null,null,null,null,null,null,{"$error":"#N/A"},{"$error":"#N/A"},{"$error":"#N/A"},{"$error":"#N/A"}]
[2021,10,20,21,44489.874999998843,null,null,null,null,null,null,null,null,{"$error":"#N/A"},{"$error":"#N/A"},{"$error":"#N/A"},{"$error":"#N/A"}]
[2021,10,20,22,44489.916666665507,null,null,null,null,null,null,null,null,{"$error":"#N/A"},{"$error":"#N/A"},{"$error":"#N/A"},{"$error":"#N/A"}]
[2021,10,20,23,44489.958333332172,null,null,null,null,null,null,null,null,{"$error":"#N/A"},{"$error":"#N/A"},{"$error":"#N/A"},{"$error":"#N/A"}]
[2021,10,21,0,44489.999999998836,null,null,null,null,null,null,null,null,{"$error":"#N/A"},{"$error":"#N/A"},{"$error":"#N/A"},{"$error":"#N/A"}]
[2021,10,21,1,44490.0416666655,null,null,null,null,null,null,null,null,{"$error":"#N/A"},{"$error":"#N/A"},{"$error":"#N/A"},{"$error":"#N/A"}]
[2021,10,21,2,44490.083333332164,null,null,null,null,null,null,null,null,{"$error":"#N/A"},{"$error":"#N/A"},{"$error":"#N/A"},{"$error":"#N/A"}]
[2021,10,21,3,44490.124999998829,null,null,null,null,null,null,null,null,{"$error":"#N/A"},{"$error":"#N/A"},{"$error":"#N/A"},{"$error":"#N/A"}]
[2021,10,21,4,44490.166666665493,null,null,null,null,null,null,null,null,{"$error":"#N/A"},{"$error":"#N/A"},{"$error":"#N/A"},{"$error":"#N/A"}]
[2021,10,21,5,44490.208333332157,null,null,null,null,null,null,null,null,{"$error":"#N/A"},{"$error":"#N/A"},{"$error":"#N/A"},{"$error":"#N/A"}]
[2021,10,21,6,44490.249999998821,null,null,null,null,null,null,null,null,{"$error":"#N/A"},{"$error":"#N/A"},{"$error":"#N/A"},{"$error":"#N/A"}]
[2021,10,21,7,44490.291666665486,null,null,null,null,null,null,null,null,{"$error":"#N/A"},{"$error":"#N/A"},{"$error":"#N/A"},{"$error":"#N/A"}]
[2021,10,21,8,44490.33333333215,null,null,null,null,null,null,null,null,{"$error":"#N/A"},{"$error":"#N/A"},{"$error":"#N/A"},{"$error":"#N/A"}]
[2021,10,21,9,44490.374999998814,null,null,null,null,null,null,null,null,{"$error":"#N/A"},{"$error":"#N/A"},{"$error":"#N/A"},{"$error":"#N/A"}]
[2021,10,21,10,44490.416666665478,null,null,null,null,null,null,null,null,{"$error":"#N/A"},{"$error":"#N/A"},{"$error":"#N/A"},{"$error":"#N/A"}]
[2021,10,21,11,44490.458333332143,null,null,null,null,null,null,null,null,{"$error":"#N/A"},{"$error":"#N/A"},{"$error":"#N/A"},{"$error":"#N/A"}]
[2021,10,21,12,44490.499999998807,null,null,null,null,null,null,null,null,{"$error":"#N/A"},{"$error":"#N/A"},{"$error":"#N/A"},{"$error":"#N/A"}]
[2021,10,21,13,44490.541666665471,null,null,null,null,null,null,null,null,{"$error":"#N/A"},{"$error":"#N/A"},{"$error":"#N/A"},{"$error":"#N/A"}]
[2021,10,21,14,44490.583333332135,null,null,null,null,null,null,null,null,{"$error":"#N/A"},{"$error":"#N/A"},{"$error":"#N/A"},{"$error":"#N/A"}]
[2021,10,21,15,44490.624999998799,null,null,null,null,null,null,null,null,{"$error":"#N/A"},{"$error":"#N/A"},{"$error":"#N/A"},{"$error":"#N/A"}]
[2021,10,21,16,44490.666666665464,null,null,null,null,null,null,null,null,{"$error":"#N/A"},{"$error":"#N/A"},{"$error":"#N/A"},{"$error":"#N/A"}]
[2021,10,21,17,44490.708333332128,null,null,null,null,null,null,null,null,{"$error":"#N/A"},{"$error":"#N/A"},{"$error":"#N/A"},{"$error":"#N/A"}]
[2021,10,21,18,44490.749999998792,null,null,null,null,null,null,null,null,{"$error":"#N/A"},{"$error":"#N/A"},{"$error":"#N/A"},{"$error":"#N/A"}]
[2021,10,21,19,44490.791666665456,null,null,null,null,null,null,null,null,{"$error":"#N/A"},{"$error":"#N/A"},{"$error":"#N/A"},{"$error":"#N/A"}]
[2021,10,21,20,44490.833333332121,null,null,null,null,null,null,null,null,{"$error":"#N/A"},{"$error":"#N/A"},{"$error":"#N/A"},{"$error":"#N/A"}]
[2021,10,21,21,44490.874999998785,null,null,null,null,null,null,null,null,{"$error":"#N/A"},{"$error":"#N/A"},{"$error":"#N/A"},{"$error":"#N/A"}]
[2021,10,21,22,44490.916666665449,null,null,null,null,null,null,null,null,{"$error":"#N/A"},{"$error":"#N/A"},{"$error":"#N/A"},{"$error":"#N/A"}]
[2021,10,21,23,44490.958333332113,null,null,null,null,null,null,null,null,{"$error":"#N/A"},{"$error":"#N/A"},{"$error":"#N/A"},{"$error":"#N/A"}]
[2021,10,22,0,44490.999999998778,null,null,null,null,null,null,null,null,{"$error":"#N/A"},{"$error":"#N/A"},{"$error":"#N/A"},{"$error":"#N/A"}]
[2021,10,22,1,44491.041666665442,null,null,null,null,null,null,null,null,{"$error":"#N/A"},{"$error":"#N/A"},{"$error":"#N/A"},{"$error":"#N/A"}]
[2021,10,22,2,44491.083333332106,null,null,null,null,null,null,null,null,{"$error":"#N/A"},{"$error":"#N/A"},{"$error":"#N/A"},{"$error":"#N/A"}]
[2021,10,22,3,44491.12499999877,null,null,null,null,null,null,null,null,{"$error":"#N/A"},{"$error":"#N/A"},{"$error":"#N/A"},{"$error":"#N/A"}]
[2021,10,22,4,44491.166666665435,null,null,null,null,null,null,null,null,{"$error":"#N/A"},{"$error":"#N/A"},{"$error":"#N/A"},{"$error":"#N/A"}]
[2021,10,22,5,44491.208333332099,null,null,null,null,null,null,null,null,{"$error":"#N/A"},{"$error":"#N/A"},{"$error":"#N/A"},{"$error":"#N/A"}]
[2021,10,22,6,44491.249999998763,null,null,null,null,null,null,null,null,{"$error":"#N/A"},{"$error":"#N/A"},{"$error":"#N/A"},{"$error":"#N/A"}]
[2021,10,22,7,44491.291666665427,null,null,null,null,null,null,null,null,{"$error":"#N/A"},{"$error":"#N/A"},{"$error":"#N/A"},{"$error":"#N/A"}]
[2021,10,22,8,44491.333333332092,null,null,null,null,null,null,null,null,{"$error":"#N/A"},{"$error":"#N/A"},{"$error":"#N/A"},{"$error":"#N/A"}]
[2021,10,22,9,44491.374999998756,null,null,null,null,null,null,null,null,{"$error":"#N/A"},{"$error":"#N/A"},{"$error":"#N/A"},{"$error":"#N/A"}]
[{"$f":"A515","v":2021},10,22,{"$f":"IF(D515=23,0,D515+1)","v":10},{"$f":"E515+0.0416666666666666","v":44491.41666666542},null,null,null,null,null,null,null,null,{"$error":"#N/A"},{"$error":"#N/A"},{"$error":"#N/A"},{"$error":"#N/A"}]
[2021,10,22,11,44491.458333332084,null,null,null,null,null,null,null,null,{"$error":"#N/A"},{"$error":"#N/A"},{"$error":"#N/A"},{"$error":"#N/A"}]
[2021,10,22,12,44491.499999998749,null,null,null,null,null,null,null,null,{"$error":"#N/A"},{"$error":"#N/A"},{"$error":"#N/A"},{"$error":"#N/A"}]
[2021,10,22,13,44491.541666665413,null,null,null,null,null,null,null,null,{"$error":"#N/A"},{"$error":"#N/A"},{"$error":"#N/A"},{"$error":"#N/A"}]
[2021,10,22,14,44491.583333332077,null,null,null,null,null,null,null,null,{"$error":"#N/A"},{"$error":"#N/A"},{"$error":"#N/A"},{"$error":"#N/A"}]
[2021,10,22,15,44491.624999998741,null,null,null,null,null,null,null,null,{"$error":"#N/A"},{"$error":"#N/A"},{"$error":"#N/A"},{"$error":"#N/A"}]
[2021,10,22,16,44491.666666665406,null,null,null,null,null,null,null,null,{"$error":"#N/A"},{"$error":"#N/A"},{"$error":"#N/A"},{"$error":"#N/A"}]
[2021,10,22,17,44491.70833333207,null,null,null,null,null,null,null,null,{"$error":"#N/A"},{"$error":"#N/A"},{"$error":"#N/A"},{"$error":"#N/A"}]
[2021,10,22,18,44491.749999998734,null,null,null,null,null,null,null,null,{"$error":"#N/A"},{"$error":"#N/A"},{"$error":"#N/A"},{"$error":"#N/A"}]
[2021,10,22,19,44491.791666665398,null,null,null,null,null,null,null,null,{"$error":"#N/A"},{"$error":"#N/A"},{"$error":"#N/A"},{"$error":"#N/A"}]
[2021,10,22,20,44491.833333332062,null,null,null,null,null,null,null,null,{"$f":"IF(G526=\"Valid\", F526, NA())","v":{"$error":"#N/A"}},{"$f":"IF(G526=\"Valid\", H526, NA())","v":{"$error":"#N/A"}},{"$f":"IF(J526=\"Valid\", I526, NA())","v":{"$error":"#N/A"}},{"$f":"IF(J526=\"Valid\", K526, NA())","v":{"$error":"#N/A"}}]
[2021,10,22,21,44491.874999998727,null,null,null,null,null,null,null,null,{"$error":"#N/A"},{"$error":"#N/A"},{"$error":"#N/A"},{"$error":"#N/A"}]
[2021,10,22,22,44491.916666665391,null,null,null,null,null,null,null,null,{"$error":"#N/A"},{"$error":"#N/A"},{"$error":"#N/A"},{"$error":"#N/A"}]
[2021,10,22,23,44491.958333332055,null,null,null,null,null,null,null,null,{"$error":"#N/A"},{"$error":"#N/A"},{"$error":"#N/A"},{"$error":"#N/A"}]
[2021,10,23,0,44491.999999998719,null,null,null,null,null,null,null,null,{"$error":"#N/A"},{"$error":"#N/A"},{"$error":"#N/A"},{"$error":"#N/A"}]
[2021,10,23,1,44492.041666665384,null,null,null,null,null,null,null,null,{"$error":"#N/A"},{"$error":"#N/A"},{"$error":"#N/A"},{"$error":"#N/A"}]
[2021,10,23,2,44492.083333332048,null,null,null,null,null,null,null,null,{"$error":"#N/A"},{"$error":"#N/A"},{"$error":"#N/A"},{"$error":"#N/A"}]
[2021,10,23,3,44492.124999998712,null,null,null,null,null,null,null,null,{"$error":"#N/A"},{"$error":"#N/A"},{"$error":"#N/A"},{"$error":"#N/A"}]
[2021,10,23,4,44492.166666665376,null,null,null,null,null,null,null,null,{"$error":"#N/A"},{"$error":"#N/A"},{"$error":"#N/A"},{"$error":"#N/A"}]
[2021,10,23,5,44492.208333332041,null,null,null,null,null,null,null,null,{"$error":"#N/A"},{"$error":"#N/A"},{"$error":"#N/A"},{"$error":"#N/A"}]
[2021,10,23,6,44492.249999998705,null,null,null,null,null,null,null,null,{"$error":"#N/A"},{"$error":"#N/A"},{"$error":"#N/A"},{"$error":"#N/A"}]
[2021,10,23,7,44492.291666665369,null,null,null,null,null,null,null,null,{"$error":"#N/A"},{"$error":"#N/A"},{"$error":"#N/A"},{"$error":"#N/A"}]
[2021,10,23,8,44492.333333332033,null,null,null,null,null,null,null,null,{"$error":"#N/A"},{"$error":"#N/A"},{"$error":"#N/A"},{"$error":"#N/A"}]
[2021,{"$f":"B538","v":10},{"$f":"C515+1","v":23},9,44492.374999998698,null,null,null,null,null,null,null,null,{"$error":"#N/A"},{"$error":"#N/A"},{"$error":"#N/A"},{"$error":"#N/A"}]
[2021,10,23,10,44492.416666665362,null,null,null,null,null,null,null,null,{"$error":"#N/A"},{"$error":"#N/A"},{"$error":"#N/A"},{"$error":"#N/A"}]
[2021,10,23,11,44492.458333332026,null,null,null,null,null,null,null,null,{"$error":"#N/A"},{"$error":"#N/A"},{"$error":"#N/A"},{"$error":"#N/A"}]
[2021,10,23,12,44492.49999999869,null,null,null,null,null,null,null,null,{"$error":"#N/A"},{"$error":"#N/A"},{"$error":"#N/A"},{"$error":"#N/A"}]
[2021,10,23,13,44492.541666665355,null,null,null,null,null,null,null,null,{"$error":"#N/A"},{"$error":"#N/A"},{"$error":"#N/A"},{"$error":"#N/A"}]
[2021,10,23,14,44492.583333332019,null,null,null,null,null,null,null,null,{"$error":"#N/A"},{"$error":"#N/A"},{"$error":"#N/A"},{"$error":"#N/A"}]
[2021,10,23,15,44492.624999998683,null,null,null,null,null,null,null,null,{"$error":"#N/A"},{"$error":"#N/A"},{"$error":"#N/A"},{"$error":"#N/A"}]
[2021,10,23,16,44492.666666665347,null,null,null,null,null,null,null,null,{"$error":"#N/A"},{"$error":"#N/A"},{"$error":"#N/A"},{"$error":"#N/A"}]
[2021,10,23,17,44492.708333332012,null,null,null,null,null,null,null,null,{"$error":"#N/A"},{"$error":"#N/A"},{"$error":"#N/A"},{"$error":"#N/A"}]
[2021,10,23,18,44492.749999998676,null,null,null,null,null,null,null,null,{"$error":"#N/A"},{"$error":"#N/A"},{"$error":"#N/A"},{"$error":"#N/A"}]
[2021,10,23,19,44492.79166666534,null,null,null,null,null,null,null,null,{"$error":"#N/A"},{"$error":"#N/A"},{"$error":"#N/A"},{"$error":"#N/A"}]
[2021,10,23,20,44492.833333332004,null,null,null,null,null,null,null,null,{"$error":"#N/A"},{"$error":"#N/A"},{"$error":"#N/A"},{"$error":"#N/A"}]
[2021,10,23,21,44492.874999998668,null,null,null,null,null,null,null,null,{"$error":"#N/A"},{"$error":"#N/A"},{"$error":"#N/A"},{"$error":"#N/A"}]
[2021,10,23,22,44492.916666665333,null,null,null,null,null,null,null,null,{"$error":"#N/A"},{"$error":"#N/A"},{"$error":"#N/A"},{"$error":"#N/A"}]
[2021,10,23,23,44492.958333331997,null,null,null,null,null,null,null,null,{"$error":"#N/A"},{"$error":"#N/A"},{"$error":"#N/A"},{"$error":"#N/A"}]
[2021,10,24,0,44492.999999998661,null,null,null,null,null,null,null,null,{"$error":"#N/A"},{"$error":"#N/A"},{"$error":"#N/A"},{"$error":"#N/A"}]
[2021,10,24,1,44493.041666665325,null,null,null,null,null,null,null,null,{"$error":"#N/A"},{"$error":"#N/A"},{"$error":"#N/A"},{"$error":"#N/A"}]
[2021,10,24,2,44493.08333333199,null,null,null,null,null,null,null,null,{"$error":"#N/A"},{"$error":"#N/A"},{"$error":"#N/A"},{"$error":"#N/A"}]
[2021,10,24,3,44493.124999998654,null,null,null,null,null,null,null,null,{"$error":"#N/A"},{"$error":"#N/A"},{"$error":"#N/A"},{"$error":"#N/A"}]
[2021,10,24,4,44493.166666665318,null,null,null,null,null,null,null,null,{"$error":"#N/A"},{"$error":"#N/A"},{"$error":"#N/A"},{"$error":"#N/A"}]
[2021,10,24,5,44493.208333331982,null,null,null,null,null,null,null,null,{"$error":"#N/A"},{"$error":"#N/A"},{"$error":"#N/A"},{"$error":"#N/A"}]
[2021,10,24,6,44493.249999998647,null,null,null,null,null,null,null,null,{"$error":"#N/A"},{"$error":"#N/A"},{"$error":"#N/A"},{"$error":"#N/A"}]
[2021,10,24,7,44493.291666665311,null,null,null,null,null,null,null,null,{"$error":"#N/A"},{"$error":"#N/A"},{"$error":"#N/A"},{"$error":"#N/A"}]
[2021,10,24,8,44493.333333331975,null,null,null,null,null,null,null,null,{"$error":"#N/A"},{"$error":"#N/A"},{"$error":"#N/A"},{"$error":"#N/A"}]
[2021,10,24,9,44493.374999998639,null,null,null,null,null,null,null,null,{"$error":"#N/A"},{"$error":"#N/A"},{"$error":"#N/A"},{"$error":"#N/A"}]
[2021,10,24,10,44493.416666665304,null,null,null,null,null,null,null,null,{"$error":"#N/A"},{"$error":"#N/A"},{"$error":"#N/A"},{"$error":"#N/A"}]
[2021,10,24,11,44493.458333331968,null,null,null,null,null,null,null,null,{"$error":"#N/A"},{"$error":"#N/A"},{"$error":"#N/A"},{"$error":"#N/A"}]
[2021,10,24,12,44493.499999998632,null,null,null,null,null,null,null,null,{"$error":"#N/A"},{"$error":"#N/A"},{"$error":"#N/A"},{"$error":"#N/A"}]
[2021,10,24,13,44493.541666665296,null,null,null,null,null,null,null,null,{"$error":"#N/A"},{"$error":"#N/A"},{"$error":"#N/A"},{"$error":"#N/A"}]
[2021,10,24,14,44493.583333331961,null,null,null,null,null,null,null,null,{"$error":"#N/A"},{"$error":"#N/A"},{"$error":"#N/A"},{"$error":"#N/A"}]
[2021,10,24,15,44493.624999998625,null,null,null,null,null,null,null,null,{"$error":"#N/A"},{"$error":"#N/A"},{"$error":"#N/A"},{"$error":"#N/A"}]
[2021,10,24,16,44493.666666665289,null,null,null,null,null,null,null,null,{"$error":"#N/A"},{"$error":"#N/A"},{"$error":"#N/A"},{"$error":"#N/A"}]
[2021,10,24,17,44493.708333331953,null,null,null,null,null,null,null,null,{"$error":"#N/A"},{"$error":"#N/A"},{"$error":"#N/A"},{"$error":"#N/A"}]
[2021,10,24,18,44493.749999998618,null,null,null,null,null,null,null,null,{"$error":"#N/A"},{"$error":"#N/A"},{"$error":"#N/A"},{"$error":"#N/A"}]
[2021,10,24,19,44493.791666665282,null,null,null,null,null,null,null,null,{"$error":"#N/A"},{"$error":"#N/A"},{"$error":"#N/A"},{"$error":"#N/A"}]
[2021,10,24,20,44493.833333331946,null,null,null,null,null,null,null,null,{"$error":"#N/A"},{"$error":"#N/A"},{"$error":"#N/A"},{"$error":"#N/A"}]
[2021,10,24,21,44493.87499999861,null,null,null,null,null,null,null,null,{"$error":"#N/A"},{"$error":"#N/A"},{"$error":"#N/A"},{"$error":"#N/A"}]
[2021,10,24,22,44493.916666665275,null,null,null,null,null,null,null,null,{"$error":"#N/A"},{"$error":"#N/A"},{"$error":"#N/A"},{"$error":"#N/A"}]
[2021,10,24,23,44493.958333331939,null,null,null,null,null,null,null,null,{"$error":"#N/A"},{"$error":"#N/A"},{"$error":"#N/A"},{"$error":"#N/A"}]
[2021,10,25,0,44493.999999998603,null,null,null,null,null,null,null,null,{"$error":"#N/A"},{"$error":"#N/A"},{"$error":"#N/A"},{"$error":"#N/A"}]
[2021,10,25,1,44494.041666665267,null,null,null,null,null,null,null,null,{"$error":"#N/A"},{"$error":"#N/A"},{"$error":"#N/A"},{"$error":"#N/A"}]
[{"$f":"A579","v":2021},10,25,{"$f":"IF(D579=23,0,D579+1)","v":2},{"$f":"E579+0.0416666666666666","v":44494.083333331931},null,null,null,null,null,null,null,null,{"$error":"#N/A"},{"$error":"#N/A"},{"$error":"#N/A"},{"$error":"#N/A"}]
[2021,10,25,3,44494.124999998596,null,null,null,null,null,null,null,null,{"$error":"#N/A"},{"$error":"#N/A"},{"$error":"#N/A"},{"$error":"#N/A"}]
[2021,10,25,4,44494.16666666526,null,null,null,null,null,null,null,null,{"$error":"#N/A"},{"$error":"#N/A"},{"$error":"#N/A"},{"$error":"#N/A"}]
[2021,10,25,5,44494.208333331924,null,null,null,null,null,null,null,null,{"$error":"#N/A"},{"$error":"#N/A"},{"$error":"#N/A"},{"$error":"#N/A"}]
[2021,10,25,6,44494.249999998588,null,null,null,null,null,null,null,null,{"$error":"#N/A"},{"$error":"#N/A"},{"$error":"#N/A"},{"$error":"#N/A"}]
[2021,10,25,7,44494.291666665253,null,null,null,null,null,null,null,null,{"$error":"#N/A"},{"$error":"#N/A"},{"$error":"#N/A"},{"$error":"#N/A"}]
[2021,10,25,8,44494.333333331917,null,null,null,null,null,null,null,null,{"$error":"#N/A"},{"$error":"#N/A"},{"$error":"#N/A"},{"$error":"#N/A"}]
[2021,10,25,9,44494.374999998581,null,null,null,null,null,null,null,null,{"$error":"#N/A"},{"$error":"#N/A"},{"$error":"#N/A"},{"$error":"#N/A"}]
[2021,10,25,10,44494.416666665245,null,null,null,null,null,null,null,null,{"$error":"#N/A"},{"$error":"#N/A"},{"$error":"#N/A"},{"$error":"#N/A"}]
[2021,10,25,11,44494.45833333191,null,null,null,null,null,null,null,null,{"$error":"#N/A"},{"$error":"#N/A"},{"$error":"#N/A"},{"$error":"#N/A"}]
[2021,10,25,12,44494.499999998574,null,null,null,null,null,null,null,null,{"$f":"IF(G590=\"Valid\", F590, NA())","v":{"$error":"#N/A"}},{"$f":"IF(G590=\"Valid\", H590, NA())","v":{"$error":"#N/A"}},{"$f":"IF(J590=\"Valid\", I590, NA())","v":{"$error":"#N/A"}},{"$f":"IF(J590=\"Valid\", K590, NA())","v":{"$error":"#N/A"}}]
[2021,10,25,13,44494.541666665238,null,null,null,null,null,null,null,null,{"$error":"#N/A"},{"$error":"#N/A"},{"$error":"#N/A"},{"$error":"#N/A"}]
[2021,10,25,14,44494.583333331902,null,null,null,null,null,null,null,null,{"$error":"#N/A"},{"$error":"#N/A"},{"$error":"#N/A"},{"$error":"#N/A"}]
[2021,10,25,15,44494.624999998567,null,null,null,null,null,null,null,null,{"$error":"#N/A"},{"$error":"#N/A"},{"$error":"#N/A"},{"$error":"#N/A"}]
[2021,10,25,16,44494.666666665231,null,null,null,null,null,null,null,null,{"$error":"#N/A"},{"$error":"#N/A"},{"$error":"#N/A"},{"$error":"#N/A"}]
[2021,10,25,17,44494.708333331895,null,null,null,null,null,null,null,null,{"$error":"#N/A"},{"$error":"#N/A"},{"$error":"#N/A"},{"$error":"#N/A"}]
[2021,10,25,18,44494.749999998559,null,null,null,null,null,null,null,null,{"$error":"#N/A"},{"$error":"#N/A"},{"$error":"#N/A"},{"$error":"#N/A"}]
[2021,10,25,19,44494.791666665224,null,null,null,null,null,null,null,null,{"$error":"#N/A"},{"$error":"#N/A"},{"$error":"#N/A"},{"$error":"#N/A"}]
[2021,10,25,20,44494.833333331888,null,null,null,null,null,null,null,null,{"$error":"#N/A"},{"$error":"#N/A"},{"$error":"#N/A"},{"$error":"#N/A"}]
[2021,10,25,21,44494.874999998552,null,null,null,null,null,null,null,null,{"$error":"#N/A"},{"$error":"#N/A"},{"$error":"#N/A"},{"$error":"#N/A"}]
[2021,10,25,22,44494.916666665216,null,null,null,null,null,null,null,null,{"$error":"#N/A"},{"$error":"#N/A"},{"$error":"#N/A"},{"$error":"#N/A"}]
[2021,10,25,23,44494.958333331881,null,null,null,null,null,null,null,null,{"$error":"#N/A"},{"$error":"#N/A"},{"$error":"#N/A"},{"$error":"#N/A"}]
[2021,10,26,0,44494.999999998545,null,null,null,null,null,null,null,null,{"$error":"#N/A"},{"$error":"#N/A"},{"$error":"#N/A"},{"$error":"#N/A"}]
[2021,{"$f":"B602","v":10},{"$f":"C579+1","v":26},1,44495.041666665209,null,null,null,null,null,null,null,null,{"$error":"#N/A"},{"$error":"#N/A"},{"$error":"#N/A"},{"$error":"#N/A"}]
[2021,10,26,2,44495.083333331873,null,null,null,null,null,null,null,null,{"$error":"#N/A"},{"$error":"#N/A"},{"$error":"#N/A"},{"$error":"#N/A"}]
[2021,10,26,3,44495.124999998538,null,null,null,null,null,null,null,null,{"$error":"#N/A"},{"$error":"#N/A"},{"$error":"#N/A"},{"$error":"#N/A"}]
[2021,10,26,4,44495.166666665202,null,null,null,null,null,null,null,null,{"$error":"#N/A"},{"$error":"#N/A"},{"$error":"#N/A"},{"$error":"#N/A"}]
[2021,10,26,5,44495.208333331866,null,null,null,null,null,null,null,null,{"$error":"#N/A"},{"$error":"#N/A"},{"$error":"#N/A"},{"$error":"#N/A"}]
[2021,10,26,6,44495.24999999853,null,null,null,null,null,null,null,null,{"$error":"#N/A"},{"$error":"#N/A"},{"$error":"#N/A"},{"$error":"#N/A"}]
[2021,10,26,7,44495.291666665194,null,null,null,null,null,null,null,null,{"$error":"#N/A"},{"$error":"#N/A"},{"$error":"#N/A"},{"$error":"#N/A"}]
[2021,10,26,8,44495.333333331859,null,null,null,null,null,null,null,null,{"$error":"#N/A"},{"$error":"#N/A"},{"$error":"#N/A"},{"$error":"#N/A"}]
[2021,10,26,9,44495.374999998523,null,null,null,null,null,null,null,null,{"$error":"#N/A"},{"$error":"#N/A"},{"$error":"#N/A"},{"$error":"#N/A"}]
[2021,10,26,10,44495.416666665187,null,null,null,null,null,null,null,null,{"$error":"#N/A"},{"$error":"#N/A"},{"$error":"#N/A"},{"$error":"#N/A"}]
[2021,10,26,11,44495.458333331851,null,null,null,null,null,null,null,null,{"$error":"#N/A"},{"$error":"#N/A"},{"$error":"#N/A"},{"$error":"#N/A"}]
[2021,10,26,12,44495.499999998516,null,null,null,null,null,null,null,null,{"$error":"#N/A"},{"$error":"#N/A"},{"$error":"#N/A"},{"$error":"#N/A"}]
[2021,10,26,13,44495.54166666518,null,null,null,null,null,null,null,null,{"$error":"#N/A"},{"$error":"#N/A"},{"$error":"#N/A"},{"$error":"#N/A"}]
[2021,10,26,14,44495.583333331844,null,null,null,null,null,null,null,null,{"$error":"#N/A"},{"$error":"#N/A"},{"$error":"#N/A"},{"$error":"#N/A"}]
[2021,10,26,15,44495.624999998508,null,null,null,null,null,null,null,null,{"$error":"#N/A"},{"$error":"#N/A"},{"$error":"#N/A"},{"$error":"#N/A"}]
[2021,10,26,16,44495.666666665173,null,null,null,null,null,null,null,null,{"$error":"#N/A"},{"$error":"#N/A"},{"$error":"#N/A"},{"$error":"#N/A"}]
[2021,10,26,17,44495.708333331837,null,null,null,null,null,null,null,null,{"$error":"#N/A"},{"$error":"#N/A"},{"$error":"#N/A"},{"$error":"#N/A"}]
[2021,10,26,18,44495.749999998501,null,null,null,null,null,null,null,null,{"$error":"#N/A"},{"$error":"#N/A"},{"$error":"#N/A"},{"$error":"#N/A"}]
[2021,10,26,19,44495.791666665165,null,null,null,null,null,null,null,null,{"$error":"#N/A"},{"$error":"#N/A"},{"$error":"#N/A"},{"$error":"#N/A"}]
[2021,10,26,20,44495.83333333183,null,null,null,null,null,null,null,null,{"$error":"#N/A"},{"$error":"#N/A"},{"$error":"#N/A"},{"$error":"#N/A"}]
[2021,10,26,21,44495.874999998494,null,null,null,null,null,null,null,null,{"$error":"#N/A"},{"$error":"#N/A"},{"$error":"#N/A"},{"$error":"#N/A"}]
[2021,10,26,22,44495.916666665158,null,null,null,null,null,null,null,null,{"$error":"#N/A"},{"$error":"#N/A"},{"$error":"#N/A"},{"$error":"#N/A"}]
[2021,10,26,23,44495.958333331822,null,null,null,null,null,null,null,null,{"$error":"#N/A"},{"$error":"#N/A"},{"$error":"#N/A"},{"$error":"#N/A"}]
[2021,10,27,0,44495.999999998487,null,null,null,null,null,null,null,null,{"$error":"#N/A"},{"$error":"#N/A"},{"$error":"#N/A"},{"$error":"#N/A"}]
[2021,10,27,1,44496.041666665151,null,null,null,null,null,null,null,null,{"$error":"#N/A"},{"$error":"#N/A"},{"$error":"#N/A"},{"$error":"#N/A"}]
[2021,10,27,2,44496.083333331815,null,null,null,null,null,null,null,null,{"$error":"#N/A"},{"$error":"#N/A"},{"$error":"#N/A"},{"$error":"#N/A"}]
[2021,10,27,3,44496.124999998479,null,null,null,null,null,null,null,null,{"$error":"#N/A"},{"$error":"#N/A"},{"$error":"#N/A"},{"$error":"#N/A"}]
[2021,10,27,4,44496.166666665144,null,null,null,null,null,null,null,null,{"$error":"#N/A"},{"$error":"#N/A"},{"$error":"#N/A"},{"$error":"#N/A"}]
[2021,10,27,5,44496.208333331808,null,null,null,null,null,null,null,null,{"$error":"#N/A"},{"$error":"#N/A"},{"$error":"#N/A"},{"$error":"#N/A"}]
[2021,10,27,6,44496.249999998472,null,null,null,null,null,null,null,null,{"$error":"#N/A"},{"$error":"#N/A"},{"$error":"#N/A"},{"$error":"#N/A"}]
[2021,10,27,7,44496.291666665136,null,null,null,null,null,null,null,null,{"$error":"#N/A"},{"$error":"#N/A"},{"$error":"#N/A"},{"$error":"#N/A"}]
[2021,10,27,8,44496.333333331801,null,null,null,null,null,null,null,null,{"$error":"#N/A"},{"$error":"#N/A"},{"$error":"#N/A"},{"$error":"#N/A"}]
[2021,10,27,9,44496.374999998465,null,null,null,null,null,null,null,null,{"$error":"#N/A"},{"$error":"#N/A"},{"$error":"#N/A"},{"$error":"#N/A"}]
[2021,10,27,10,44496.416666665129,null,null,null,null,null,null,null,null,{"$error":"#N/A"},{"$error":"#N/A"},{"$error":"#N/A"},{"$error":"#N/A"}]
[2021,10,27,11,44496.458333331793,null,null,null,null,null,null,null,null,{"$error":"#N/A"},{"$error":"#N/A"},{"$error":"#N/A"},{"$error":"#N/A"}]
[2021,10,27,12,44496.499999998457,null,null,null,null,null,null,null,null,{"$error":"#N/A"},{"$error":"#N/A"},{"$error":"#N/A"},{"$error":"#N/A"}]
[2021,10,27,13,44496.541666665122,null,null,null,null,null,null,null,null,{"$error":"#N/A"},{"$error":"#N/A"},{"$error":"#N/A"},{"$error":"#N/A"}]
[2021,10,27,14,44496.583333331786,null,null,null,null,null,null,null,null,{"$error":"#N/A"},{"$error":"#N/A"},{"$error":"#N/A"},{"$error":"#N/A"}]
[2021,10,27,15,44496.62499999845,null,null,null,null,null,null,null,null,{"$error":"#N/A"},{"$error":"#N/A"},{"$error":"#N/A"},{"$error":"#N/A"}]
[2021,10,27,16,44496.666666665114,null,null,null,null,null,null,null,null,{"$error":"#N/A"},{"$error":"#N/A"},{"$error":"#N/A"},{"$error":"#N/A"}]
[2021,10,27,17,44496.708333331779,null,null,null,null,null,null,null,null,{"$error":"#N/A"},{"$error":"#N/A"},{"$error":"#N/A"},{"$error":"#N/A"}]
[{"$f":"A643","v":2021},10,27,{"$f":"IF(D643=23,0,D643+1)","v":18},{"$f":"E643+0.0416666666666666","v":44496.749999998443},null,null,null,null,null,null,null,null,{"$error":"#N/A"},{"$error":"#N/A"},{"$error":"#N/A"},{"$error":"#N/A"}]
[2021,10,27,19,44496.791666665107,null,null,null,null,null,null,null,null,{"$error":"#N/A"},{"$error":"#N/A"},{"$error":"#N/A"},{"$error":"#N/A"}]
[2021,10,27,20,44496.833333331771,null,null,null,null,null,null,null,null,{"$error":"#N/A"},{"$error":"#N/A"},{"$error":"#N/A"},{"$error":"#N/A"}]
[2021,10,27,21,44496.874999998436,null,null,null,null,null,null,null,null,{"$error":"#N/A"},{"$error":"#N/A"},{"$error":"#N/A"},{"$error":"#N/A"}]
[2021,10,27,22,44496.9166666651,null,null,null,null,null,null,null,null,{"$error":"#N/A"},{"$error":"#N/A"},{"$error":"#N/A"},{"$error":"#N/A"}]
[2021,10,27,23,44496.958333331764,null,null,null,null,null,null,null,null,{"$error":"#N/A"},{"$error":"#N/A"},{"$error":"#N/A"},{"$error":"#N/A"}]
[2021,10,28,0,44496.999999998428,null,null,null,null,null,null,null,null,{"$error":"#N/A"},{"$error":"#N/A"},{"$error":"#N/A"},{"$error":"#N/A"}]
[2021,10,28,1,44497.041666665093,null,null,null,null,null,null,null,null,{"$error":"#N/A"},{"$error":"#N/A"},{"$error":"#N/A"},{"$error":"#N/A"}]
[2021,10,28,2,44497.083333331757,null,null,null,null,null,null,null,null,{"$error":"#N/A"},{"$error":"#N/A"},{"$error":"#N/A"},{"$error":"#N/A"}]
[2021,10,28,3,44497.124999998421,null,null,null,null,null,null,null,null,{"$error":"#N/A"},{"$error":"#N/A"},{"$error":"#N/A"},{"$error":"#N/A"}]
[2021,10,28,4,44497.166666665085,null,null,null,null,null,null,null,null,{"$f":"IF(G654=\"Valid\", F654, NA())","v":{"$error":"#N/A"}},{"$f":"IF(G654=\"Valid\", H654, NA())","v":{"$error":"#N/A"}},{"$f":"IF(J654=\"Valid\", I654, NA())","v":{"$error":"#N/A"}},{"$f":"IF(J654=\"Valid\", K654, NA())","v":{"$error":"#N/A"}}]
[2021,10,28,5,44497.20833333175,null,null,null,null,null,null,null,null,{"$error":"#N/A"},{"$error":"#N/A"},{"$error":"#N/A"},{"$error":"#N/A"}]
[2021,10,28,6,44497.249999998414,null,null,null,null,null,null,null,null,{"$error":"#N/A"},{"$error":"#N/A"},{"$error":"#N/A"},{"$error":"#N/A"}]
[2021,10,28,7,44497.291666665078,null,null,null,null,null,null,null,null,{"$error":"#N/A"},{"$error":"#N/A"},{"$error":"#N/A"},{"$error":"#N/A"}]
[2021,10,28,8,44497.333333331742,null,null,null,null,null,null,null,null,{"$error":"#N/A"},{"$error":"#N/A"},{"$error":"#N/A"},{"$error":"#N/A"}]
[2021,10,28,9,44497.374999998407,null,null,null,null,null,null,null,null,{"$error":"#N/A"},{"$error":"#N/A"},{"$error":"#N/A"},{"$error":"#N/A"}]
[2021,10,28,10,44497.416666665071,null,null,null,null,null,null,null,null,{"$error":"#N/A"},{"$error":"#N/A"},{"$error":"#N/A"},{"$error":"#N/A"}]
[2021,10,28,11,44497.458333331735,null,null,null,null,null,null,null,null,{"$error":"#N/A"},{"$error":"#N/A"},{"$error":"#N/A"},{"$error":"#N/A"}]
[2021,10,28,12,44497.499999998399,null,null,null,null,null,null,null,null,{"$error":"#N/A"},{"$error":"#N/A"},{"$error":"#N/A"},{"$error":"#N/A"}]
[2021,10,28,13,44497.541666665064,null,null,null,null,null,null,null,null,{"$error":"#N/A"},{"$error":"#N/A"},{"$error":"#N/A"},{"$error":"#N/A"}]
[2021,10,28,14,44497.583333331728,null,null,null,null,null,null,null,null,{"$error":"#N/A"},{"$error":"#N/A"},{"$error":"#N/A"},{"$error":"#N/A"}]
[2021,10,28,15,44497.624999998392,null,null,null,null,null,null,null,null,{"$error":"#N/A"},{"$error":"#N/A"},{"$error":"#N/A"},{"$error":"#N/A"}]
[2021,10,28,16,44497.666666665056,null,null,null,null,null,null,null,null,{"$error":"#N/A"},{"$error":"#N/A"},{"$error":"#N/A"},{"$error":"#N/A"}]
[2021,{"$f":"B666","v":10},{"$f":"C643+1","v":28},17,44497.70833333172,null,null,null,null,null,null,null,null,{"$error":"#N/A"},{"$error":"#N/A"},{"$error":"#N/A"},{"$error":"#N/A"}]
[2021,10,28,18,44497.749999998385,null,null,null,null,null,null,null,null,{"$error":"#N/A"},{"$error":"#N/A"},{"$error":"#N/A"},{"$error":"#N/A"}]
[2021,10,28,19,44497.791666665049,null,null,null,null,null,null,null,null,{"$error":"#N/A"},{"$error":"#N/A"},{"$error":"#N/A"},{"$error":"#N/A"}]
[2021,10,28,20,44497.833333331713,null,null,null,null,null,null,null,null,{"$error":"#N/A"},{"$error":"#N/A"},{"$error":"#N/A"},{"$error":"#N/A"}]
[2021,10,28,21,44497.874999998377,null,null,null,null,null,null,null,null,{"$error":"#N/A"},{"$error":"#N/A"},{"$error":"#N/A"},{"$error":"#N/A"}]
[2021,10,28,22,44497.916666665042,null,null,null,null,null,null,null,null,{"$error":"#N/A"},{"$error":"#N/A"},{"$error":"#N/A"},{"$error":"#N/A"}]
[2021,10,28,23,44497.958333331706,null,null,null,null,null,null,null,null,{"$error":"#N/A"},{"$error":"#N/A"},{"$error":"#N/A"},{"$error":"#N/A"}]
[2021,10,29,0,44497.99999999837,null,null,null,null,null,null,null,null,{"$error":"#N/A"},{"$error":"#N/A"},{"$error":"#N/A"},{"$error":"#N/A"}]
[2021,10,29,1,44498.041666665034,null,null,null,null,null,null,null,null,{"$error":"#N/A"},{"$error":"#N/A"},{"$error":"#N/A"},{"$error":"#N/A"}]
[2021,10,29,2,44498.083333331699,null,null,null,null,null,null,null,null,{"$error":"#N/A"},{"$error":"#N/A"},{"$error":"#N/A"},{"$error":"#N/A"}]
[2021,10,29,3,44498.124999998363,null,null,null,null,null,null,null,null,{"$error":"#N/A"},{"$error":"#N/A"},{"$error":"#N/A"},{"$error":"#N/A"}]
[2021,10,29,4,44498.166666665027,null,null,null,null,null,null,null,null,{"$error":"#N/A"},{"$error":"#N/A"},{"$error":"#N/A"},{"$error":"#N/A"}]
[2021,10,29,5,44498.208333331691,null,null,null,null,null,null,null,null,{"$error":"#N/A"},{"$error":"#N/A"},{"$error":"#N/A"},{"$error":"#N/A"}]
[2021,10,29,6,44498.249999998356,null,null,null,null,null,null,null,null,{"$error":"#N/A"},{"$error":"#N/A"},{"$error":"#N/A"},{"$error":"#N/A"}]
[2021,10,29,7,44498.29166666502,null,null,null,null,null,null,null,null,{"$error":"#N/A"},{"$error":"#N/A"},{"$error":"#N/A"},{"$error":"#N/A"}]
[2021,10,29,8,44498.333333331684,null,null,null,null,null,null,null,null,{"$error":"#N/A"},{"$error":"#N/A"},{"$error":"#N/A"},{"$error":"#N/A"}]
[2021,10,29,9,44498.374999998348,null,null,null,null,null,null,null,null,{"$error":"#N/A"},{"$error":"#N/A"},{"$error":"#N/A"},{"$error":"#N/A"}]
[2021,10,29,10,44498.416666665013,null,null,null,null,null,null,null,null,{"$error":"#N/A"},{"$error":"#N/A"},{"$error":"#N/A"},{"$error":"#N/A"}]
[2021,10,29,11,44498.458333331677,null,null,null,null,null,null,null,null,{"$error":"#N/A"},{"$error":"#N/A"},{"$error":"#N/A"},{"$error":"#N/A"}]
[2021,10,29,12,44498.499999998341,null,null,null,null,null,null,null,null,{"$error":"#N/A"},{"$error":"#N/A"},{"$error":"#N/A"},{"$error":"#N/A"}]
[2021,10,29,13,44498.541666665005,null,null,null,null,null,null,null,null,{"$error":"#N/A"},{"$error":"#N/A"},{"$error":"#N/A"},{"$error":"#N/A"}]
[2021,10,29,14,44498.58333333167,null,null,null,null,null,null,null,null,{"$error":"#N/A"},{"$error":"#N/A"},{"$error":"#N/A"},{"$error":"#N/A"}]
[2021,10,29,15,44498.624999998334,null,null,null,null,null,null,null,null,{"$error":"#N/A"},{"$error":"#N/A"},{"$error":"#N/A"},{"$error":"#N/A"}]
[2021,10,29,16,44498.666666664998,null,null,null,null,null,null,null,null,{"$error":"#N/A"},{"$error":"#N/A"},{"$error":"#N/A"},{"$error":"#N/A"}]
[2021,10,29,17,44498.708333331662,null,null,null,null,null,null,null,null,{"$error":"#N/A"},{"$error":"#N/A"},{"$error":"#N/A"},{"$error":"#N/A"}]
[2021,10,29,18,44498.749999998327,null,null,null,null,null,null,null,null,{"$error":"#N/A"},{"$error":"#N/A"},{"$error":"#N/A"},{"$error":"#N/A"}]
[2021,10,29,19,44498.791666664991,null,null,null,null,null,null,null,null,{"$error":"#N/A"},{"$error":"#N/A"},{"$error":"#N/A"},{"$error":"#N/A"}]
[2021,10,29,20,44498.833333331655,null,null,null,null,null,null,null,null,{"$error":"#N/A"},{"$error":"#N/A"},{"$error":"#N/A"},{"$error":"#N/A"}]
[2021,10,29,21,44498.874999998319,null,null,null,null,null,null,null,null,{"$error":"#N/A"},{"$error":"#N/A"},{"$error":"#N/A"},{"$error":"#N/A"}]
[2021,10,29,22,44498.916666664983,null,null,null,null,null,null,null,null,{"$error":"#N/A"},{"$error":"#N/A"},{"$error":"#N/A"},{"$error":"#N/A"}]
[2021,10,29,23,44498.958333331648,null,null,null,null,null,null,null,null,{"$error":"#N/A"},{"$error":"#N/A"},{"$error":"#N/A"},{"$error":"#N/A"}]
[2021,10,30,0,44498.999999998312,null,null,null,null,null,null,null,null,{"$error":"#N/A"},{"$error":"#N/A"},{"$error":"#N/A"},{"$error":"#N/A"}]
[2021,10,30,1,44499.041666664976,null,null,null,null,null,null,null,null,{"$error":"#N/A"},{"$error":"#N/A"},{"$error":"#N/A"},{"$error":"#N/A"}]
[2021,10,30,2,44499.08333333164,null,null,null,null,null,null,null,null,{"$error":"#N/A"},{"$error":"#N/A"},{"$error":"#N/A"},{"$error":"#N/A"}]
[2021,10,30,3,44499.124999998305,null,null,null,null,null,null,null,null,{"$error":"#N/A"},{"$error":"#N/A"},{"$error":"#N/A"},{"$error":"#N/A"}]
[2021,10,30,4,44499.166666664969,null,null,null,null,null,null,null,null,{"$error":"#N/A"},{"$error":"#N/A"},{"$error":"#N/A"},{"$error":"#N/A"}]
[2021,10,30,5,44499.208333331633,null,null,null,null,null,null,null,null,{"$error":"#N/A"},{"$error":"#N/A"},{"$error":"#N/A"},{"$error":"#N/A"}]
[2021,10,30,6,44499.249999998297,null,null,null,null,null,null,null,null,{"$error":"#N/A"},{"$error":"#N/A"},{"$error":"#N/A"},{"$error":"#N/A"}]
[2021,10,30,7,44499.291666664962,null,null,null,null,null,null,null,null,{"$error":"#N/A"},{"$error":"#N/A"},{"$error":"#N/A"},{"$error":"#N/A"}]
[2021,10,30,8,44499.333333331626,null,null,null,null,null,null,null,null,{"$error":"#N/A"},{"$error":"#N/A"},{"$error":"#N/A"},{"$error":"#N/A"}]
[2021,10,30,9,44499.37499999829,null,null,null,null,null,null,null,null,{"$error":"#N/A"},{"$error":"#N/A"},{"$error":"#N/A"},{"$error":"#N/A"}]
[{"$f":"A707","v":2021},10,30,{"$f":"IF(D707=23,0,D707+1)","v":10},{"$f":"E707+0.0416666666666666","v":44499.416666664954},null,null,null,null,null,null,null,null,{"$error":"#N/A"},{"$error":"#N/A"},{"$error":"#N/A"},{"$error":"#N/A"}]
[2021,10,30,11,44499.458333331619,null,null,null,null,null,null,null,null,{"$error":"#N/A"},{"$error":"#N/A"},{"$error":"#N/A"},{"$error":"#N/A"}]
[2021,10,30,12,44499.499999998283,null,null,null,null,null,null,null,null,{"$error":"#N/A"},{"$error":"#N/A"},{"$error":"#N/A"},{"$error":"#N/A"}]
[2021,10,30,13,44499.541666664947,null,null,null,null,null,null,null,null,{"$error":"#N/A"},{"$error":"#N/A"},{"$error":"#N/A"},{"$error":"#N/A"}]
[2021,10,30,14,44499.583333331611,null,null,null,null,null,null,null,null,{"$error":"#N/A"},{"$error":"#N/A"},{"$error":"#N/A"},{"$error":"#N/A"}]
[2021,10,30,15,44499.624999998276,null,null,null,null,null,null,null,null,{"$error":"#N/A"},{"$error":"#N/A"},{"$error":"#N/A"},{"$error":"#N/A"}]
[2021,10,30,16,44499.66666666494,null,null,null,null,null,null,null,null,{"$error":"#N/A"},{"$error":"#N/A"},{"$error":"#N/A"},{"$error":"#N/A"}]
[2021,10,30,17,44499.708333331604,null,null,null,null,null,null,null,null,{"$error":"#N/A"},{"$error":"#N/A"},{"$error":"#N/A"},{"$error":"#N/A"}]
[2021,10,30,18,44499.749999998268,null,null,null,null,null,null,null,null,{"$error":"#N/A"},{"$error":"#N/A"},{"$error":"#N/A"},{"$error":"#N/A"}]
[2021,10,30,19,44499.791666664933,null,null,null,null,null,null,null,null,{"$error":"#N/A"},{"$error":"#N/A"},{"$error":"#N/A"},{"$error":"#N/A"}]
[2021,10,30,20,44499.833333331597,null,null,null,null,null,null,null,null,{"$f":"IF(G718=\"Valid\", F718, NA())","v":{"$error":"#N/A"}},{"$f":"IF(G718=\"Valid\", H718, NA())","v":{"$error":"#N/A"}},{"$f":"IF(J718=\"Valid\", I718, NA())","v":{"$error":"#N/A"}},{"$f":"IF(J718=\"Valid\", K718, NA())","v":{"$error":"#N/A"}}]
[2021,10,30,21,44499.874999998261,null,null,null,null,null,null,null,null,{"$error":"#N/A"},{"$error":"#N/A"},{"$error":"#N/A"},{"$error":"#N/A"}]
[2021,10,30,22,44499.916666664925,null,null,null,null,null,null,null,null,{"$error":"#N/A"},{"$error":"#N/A"},{"$error":"#N/A"},{"$error":"#N/A"}]
[2021,10,30,23,44499.95833333159,null,null,null,null,null,null,null,null,{"$error":"#N/A"},{"$error":"#N/A"},{"$error":"#N/A"},{"$error":"#N/A"}]
[2021,10,31,0,44499.999999998254,null,null,null,null,null,null,null,null,{"$error":"#N/A"},{"$error":"#N/A"},{"$error":"#N/A"},{"$error":"#N/A"}]
[2021,10,31,1,44500.041666664918,null,null,null,null,null,null,null,null,{"$error":"#N/A"},{"$error":"#N/A"},{"$error":"#N/A"},{"$error":"#N/A"}]
[2021,10,31,2,44500.083333331582,null,null,null,null,null,null,null,null,{"$error":"#N/A"},{"$error":"#N/A"},{"$error":"#N/A"},{"$error":"#N/A"}]
[2021,10,31,3,44500.124999998246,null,null,null,null,null,null,null,null,{"$error":"#N/A"},{"$error":"#N/A"},{"$error":"#N/A"},{"$error":"#N/A"}]
[2021,10,31,4,44500.166666664911,null,null,null,null,null,null,null,null,{"$error":"#N/A"},{"$error":"#N/A"},{"$error":"#N/A"},{"$error":"#N/A"}]
[2021,10,31,5,44500.208333331575,null,null,null,null,null,null,null,null,{"$error":"#N/A"},{"$error":"#N/A"},{"$error":"#N/A"},{"$error":"#N/A"}]
[2021,10,31,6,44500.249999998239,null,null,null,null,null,null,null,null,{"$error":"#N/A"},{"$error":"#N/A"},{"$error":"#N/A"},{"$error":"#N/A"}]
[2021,10,31,7,44500.291666664903,null,null,null,null,null,null,null,null,{"$error":"#N/A"},{"$error":"#N/A"},{"$error":"#N/A"},{"$error":"#N/A"}]
[2021,10,31,8,44500.333333331568,null,null,null,null,null,null,null,null,{"$error":"#N/A"},{"$error":"#N/A"},{"$error":"#N/A"},{"$error":"#N/A"}]
[2021,{"$f":"B730","v":10},{"$f":"C707+1","v":31},9,44500.374999998232,null,null,null,null,null,null,null,null,{"$error":"#N/A"},{"$error":"#N/A"},{"$error":"#N/A"},{"$error":"#N/A"}]
[2021,10,31,10,44500.416666664896,null,null,null,null,null,null,null,null,{"$error":"#N/A"},{"$error":"#N/A"},{"$error":"#N/A"},{"$error":"#N/A"}]
[2021,10,31,11,44500.45833333156,null,null,null,null,null,null,null,null,{"$error":"#N/A"},{"$error":"#N/A"},{"$error":"#N/A"},{"$error":"#N/A"}]
[2021,10,31,12,44500.499999998225,null,null,null,null,null,null,null,null,{"$error":"#N/A"},{"$error":"#N/A"},{"$error":"#N/A"},{"$error":"#N/A"}]
[2021,10,31,13,44500.541666664889,null,null,null,null,null,null,null,null,{"$error":"#N/A"},{"$error":"#N/A"},{"$error":"#N/A"},{"$error":"#N/A"}]
[2021,10,31,14,44500.583333331553,null,null,null,null,null,null,null,null,{"$error":"#N/A"},{"$error":"#N/A"},{"$error":"#N/A"},{"$error":"#N/A"}]
[2021,10,31,15,44500.624999998217,null,null,null,null,null,null,null,null,{"$error":"#N/A"},{"$error":"#N/A"},{"$error":"#N/A"},{"$error":"#N/A"}]
[2021,10,31,16,44500.666666664882,null,null,null,null,null,null,null,null,{"$error":"#N/A"},{"$error":"#N/A"},{"$error":"#N/A"},{"$error":"#N/A"}]
[2021,10,31,17,44500.708333331546,null,null,null,null,null,null,null,null,{"$error":"#N/A"},{"$error":"#N/A"},{"$error":"#N/A"},{"$error":"#N/A"}]
[2021,10,31,18,44500.74999999821,null,null,null,null,null,null,null,null,{"$error":"#N/A"},{"$error":"#N/A"},{"$error":"#N/A"},{"$error":"#N/A"}]
[2021,10,31,19,44500.791666664874,null,null,null,null,null,null,null,null,{"$error":"#N/A"},{"$error":"#N/A"},{"$error":"#N/A"},{"$error":"#N/A"}]
[2021,10,31,20,44500.833333331539,null,null,null,null,null,null,null,null,{"$error":"#N/A"},{"$error":"#N/A"},{"$error":"#N/A"},{"$error":"#N/A"}]
[2021,10,31,21,44500.874999998203,null,null,null,null,null,null,null,null,{"$error":"#N/A"},{"$error":"#N/A"},{"$error":"#N/A"},{"$error":"#N/A"}]
[2021,10,31,22,44500.916666664867,null,null,null,null,null,null,null,null,{"$error":"#N/A"},{"$error":"#N/A"},{"$error":"#N/A"},{"$error":"#N/A"}]
[2021,10,31,23,44500.958333331531,null,null,null,null,null,null,null,null,{"$error":"#N/A"},{"$error":"#N/A"},{"$error":"#N/A"},{"$error":"#N/A"}]

{"sheet":"Raw data_format","index":4,"n_rows":8,"n_cols":6,"rows_kept":8,"cut":false,"hidden":false,"merged":[]}
["Parameter","Format","Comment","Units of measure","Minimum","Maximum"]
["Year","yyyy","4 integer format","Not applicable",2015,"Until reporting ceases"]
["Month","mm","2 integer format","Not applicable",1,12]
["Day","dd","2 integer format","Not applicable",1,31]
["Hour","hh","2 integer format","Not applicable",0,23]
["PM10",0,"1 decimal place resolution","µg/m3","Negative","Instrument specific"]
["PM2.5",0,"2 decimal place resolution","µg/m3","Negative","Instrument specific"]
["Status","Text","7 character format","Not applicable","Valid","Invalid"]